BEGIN:VCALENDAR
VERSION:2.0
BEGIN:VEVENT
URL:http://www.signaturewines.com/wine-community/events/viewevent/329-9th-annual-affairs-of-the-vine-cabernet-shoot-out 
DTSTART:20150321T130000
DTEND:20150321T160000
SUMMARY:9th Annual Affairs of the Vine Cabernet Shoot-Out
DESCRIPTION:<div style="color: #222222; font-family: arial, sans-serif; line-height: normal;">
<table cellspacing="0" cellpadding="0">
<tbody>
<tr>
<td style="font-family: arial, sans-serif; margin: 0.5px; width: 588px; padding: 5px;" valign="middle">
<p style="margin: 0px; font-size: 12px; font-family: Helvetica;"><span style="letter-spacing: 0px;">PIT YOUR PALATE AGAINST THE PROS</span></p>
<p style="margin: 0px; font-size: 12px; font-family: Helvetica;"><span style="letter-spacing: 0px;">Each year Cabernet fans in the Bay Area have a special opportunity to indulge their passion!  Moved to the end of March in an historic and convenient Union Square setting, you can enjoy this unique experience without the crowd crush of the mega tastings or driving long distances for Passport weekends</span></p>
<p style="margin: 0px; font-size: 12px; font-family: Helvetica;"><span style="letter-spacing: 0px;">Over a number of weeks,<a href="http://affairsofthevine.com/wine-shootouts/wine-shootouts/" style="color: #1155cc;"> Affairs of the Vine</a> convenes a select panel of 40 winemakers, writers, retailers, educators, and consultants to judge the<a href="http://affairsofthevine.com/wine-shootouts/2011-cabernet-shootout-registration/" style="color: #1155cc;"> Cabernet Shootout</a> among artisan Cabernet Sauvignons, Cabernet Francs and Cabernet blends from over 35 different viticultural areas.  Without regard to price, vintage or region, this group of experts moves 64 wines to the final round selecting 32 "best of the best."  An array of finalists are then tasted blind and evaluated by wine lovers at the March 21st event.</span></p>
<p style="margin: 0px; font-size: 12px; font-family: Helvetica; min-height: 14px;"> </p>
<p style="margin: 0px; font-size: 12px; font-family: Helvetica;"><span style="letter-spacing: 0px;">The afternoon begins with a VIP panel of winemakers who will present the nature and nurture of crafting their top Cab which will be poured, with time for questions and observations from the audience. They will cover:</span></p>
<p style="margin: 0px; font-size: 12px; font-family: Helvetica;"><span style="letter-spacing: 0px;">~HOW PLACE AFFECTS TASTE: How much does terroir play a role in the crafting of Cabernet versus winemaking techniques.  The panels will concentrate on how site influences a winemaker moving from vineyard to fermentation, touching on appellation and specific geographical location, clone preference, vine management, pick date effected by weather, influence of marketing, and the like.  ~THE WINEMAKERS SIGNATURE: the stylistic choices in the winemaking process--the winemaker's personal decisions, focusing on such specifics as yeasts, whether to go with whole cluster fermentation temperature and tanks, alcohol content, punch downs vs. pup-overs, barrel age, skin contact time, bottling date and related topics.</span></p>
<p style="margin: 0px; font-size: 12px; font-family: Helvetica; min-height: 14px;"> </p>
<p style="margin: 0px; font-size: 12px; font-family: Helvetica;"><span style="letter-spacing: 0px;">After the optional VIP workshop, the finalists can be evaluated in a blind tasting.Each Cab enthusiast can choose their favorites in one of two flights of 16 Cabs each containing five of the top 10 wines chosen by the panelists.</span></p>
<p style="margin: 0px; font-size: 12px; font-family: Helvetica;"><span style="letter-spacing: 0px;">In this variation of a Pro/Am competition, the results of the professionals'  Cab Shootout will then be compared to the tally of the  'amateurs' Cab Challenge, both tabulated separately by gender.</span></p>
<p style="margin: 0px; font-size: 12px; font-family: Helvetica; min-height: 14px;"> </p>
<p style="margin: 0px; font-size: 12px; font-family: Helvetica;"><span style="letter-spacing: 0px;">This distinctly different format provides a special opportunity to compare your favorites of this taste-off to those of the 'tastemakers' in the wine industry.  It also allows participants to sample and rate very limited production rising star wines.</span></p>
<p style="margin: 0px; font-size: 12px; font-family: Helvetica; min-height: 14px;"> </p>
<p style="margin: 0px; font-size: 12px; font-family: Helvetica;"><span style="letter-spacing: 0px;">During the afternoon, attendees will also be able to mingle and meet with a number of the vintners from the wineries that participated in the Cabernet Shootout in an open walk around tasting accompanied by various nibbles.</span></p>
<p style="margin: 0px; font-size: 12px; font-family: Helvetica;"><span style="letter-spacing: 0px;">Sample wines from a mix of boutique producers from appellations located throughout the West Coast including varietals other than Cabernets. Participating wineries will be selling their wines for take away.</span></p>
<p style="margin: 0px; font-size: 12px; font-family: Helvetica;"><span style="letter-spacing: 0px;">We will also be raffling off bottles of killer Cabs from the participating wineries to raise funds for <a href="http://bbbsba.org/" style="color: #1155cc;">Big Brothers/Big Sisters of the Bay Area.</a>sAnd since we are expecting 25+ wineries  to pour in the walk around tasting, and no more than 350 tickets will be sold, the odds are quite good that you can walk away with a superb bottle of vino. </span><span style="letter-spacing: 0px;">TRANSIT & PARKING: Three blocks away from BART and Muni Metro, and near numerous garages.</span></p>
</td>
</tr>
</tbody>
</table>
<p style="margin: 0px; font-family: Helvetica; min-height: 14px;"> </p>
<p style="margin: 0px; font-family: Helvetica;"><span style="letter-spacing: 0px;">Noon-1:30:  VIP Winemakers Panels</span></p>
<p style="margin: 0px; font-family: Helvetica;"><span style="letter-spacing: 0px;">1:00: Cabernet Shootout Challenge blind tasting begins</span></p>
<p style="margin: 0px; font-family: Helvetica;"><span style="letter-spacing: 0px;">1:30 Walk around tasting with nibbles begins </span></p>
<p style="margin: 0px; font-family: Helvetica;"><span style="letter-spacing: 0px;">3:30 Awards ceremony and raffle drawing/wine sales </span></p>
<p style="margin: 0px; font-family: Helvetica;"><span style="letter-spacing: 0px;">4:00 Event ends  </span></p>
<p style="margin: 0px; font-family: Helvetica; min-height: 14px;"> </p>
<p style="margin: 0px; font-family: Helvetica;"><span style="letter-spacing: 0px;">A wine cash bar will remain open after the awards presentation for those who want to linger. <strong> </strong></span></p>
</div>
<div style="color: #222222; font-family: arial, sans-serif; line-height: normal;"> </div>
LOCATION:Kensington Park Hotel 450 Post St.~Union Square San Francisco, CA 94102
END:VEVENT
END:VCALENDAR