BEGIN:VCALENDAR
VERSION:2.0
BEGIN:VEVENT
URL:http://www.signaturewines.com/wine-community/events/viewevent/331-posada-restaurant-s-winemaker-dinner-featuring-fenestra-winery 
DTSTART:20150311T183000
DTEND:20150311T210000
SUMMARY:Posada Restaurant's Winemaker dinner featuring Fenestra Winery
DESCRIPTION:<p style="margin: 0px; font-size: 14px; line-height: normal; font-family: Helvetica; color: #323333;"><span style="letter-spacing: 0.0px;">Come and enjoy an evening with friends old and new over dinner with master chef Eduardo Posada and the winemaker at Fenestra Winery, Aaron Luna. Seating is limited and reservations are required by calling 925-606-1004.</span></p>
<p style="margin: 0px; font-size: 14px; line-height: normal; font-family: Helvetica; color: #323333; min-height: 17px;"> </p>
<p style="margin: 0px; font-size: 14px; line-height: normal; font-family: Helvetica; color: #323333;"><span style="letter-spacing: 0.0px;">Below is the mouth-watering menu:</span></p>
<p style="margin: 0px; font-size: 14px; line-height: normal; font-family: Helvetica; color: #323333; min-height: 17px;"> </p>
<p style="margin: 0px; font-size: 14px; line-height: normal; font-family: Helvetica; color: #323333;"><span style="letter-spacing: 0.0px;">Fenestra Wine Maker Dinner Menu:</span></p>
<p style="margin: 0px; font-size: 14px; line-height: normal; font-family: Helvetica; color: #323333; min-height: 17px;"> </p>
<p style="margin: 0px; font-size: 14px; line-height: normal; font-family: Helvetica; color: #323333;"><span style="letter-spacing: 0.0px;">Roasted Cauliflower Soup and Masa Dumpling with Salsa Verde Paired with</span></p>
<p style="margin: 0px; font-size: 14px; line-height: normal; font-family: Helvetica; color: #323333;"><span style="letter-spacing: 0.0px;">Fenestra Chardonnay 2013</span></p>
<p style="margin: 0px; font-size: 14px; line-height: normal; font-family: Helvetica; color: #323333;"><span style="letter-spacing: 0.0px;">Churrasco Hanger Steak and Papaya Salad with Candied Walnuts</span></p>
<p style="margin: 0px; font-size: 14px; line-height: normal; font-family: Helvetica; color: #323333;"><span style="letter-spacing: 0.0px;">Paired with Fenestra Syrah 2009</span></p>
<p style="margin: 0px; font-size: 14px; line-height: normal; font-family: Helvetica; color: #323333;"><span style="letter-spacing: 0.0px;">Bone In Short Rib and Roasted Potatoes with Chorizo and Salsa Fresca</span></p>
<p style="margin: 0px; font-size: 14px; line-height: normal; font-family: Helvetica; color: #323333;"><span style="letter-spacing: 0.0px;">Paired with Fenestra Graciano 2011</span></p>
<p style="margin: 0px; font-size: 14px; line-height: normal; font-family: Helvetica; color: #323333;"><span style="letter-spacing: 0.0px;">Sweet Pepper Masa Ravioli and Open Fire Chipotle Shrimp with Chile Rojo Paired with</span></p>
<p style="margin: 0px; font-size: 14px; line-height: normal; font-family: Helvetica; color: #323333;"><span style="letter-spacing: 0.0px;">Fenestra Zinfandel 2011</span></p>
<p style="margin: 0px; font-size: 14px; line-height: normal; font-family: Helvetica; color: #323333;"><span style="letter-spacing: 0.0px;">Chocolate Tamale and Cookies n Cream with Chocolate Cognac Sauce Paired with</span></p>
<p style="margin: 0px; font-size: 14px; line-height: normal; font-family: Helvetica; color: #323333;"><span style="letter-spacing: 0.0px;">Fenestra Port 2005</span></p>
<p style="margin: 0px; line-height: normal; font-family: Helvetica;"><span style="font-size: 14px; letter-spacing: 0px; color: #323333;"> </span></p>
<p style="margin: 0px; font-size: 14px; line-height: normal; font-family: Helvetica; color: #323333;"><span style="letter-spacing: 0.0px;">Chef : Eduardo Posada</span></p>
<p> </p>
<p style="margin: 0px; font-size: 14px; line-height: normal; font-family: Helvetica; color: #323333;"><span style="letter-spacing: 0.0px;">Wine Maker : Aaron Luna </span></p>
<div class="page" title="Page 1"> </div>
LOCATION:988 Murrieta Blvd Livermore, CA 94550
END:VEVENT
END:VCALENDAR