BEGIN:VCALENDAR
VERSION:2.0
BEGIN:VEVENT
URL:http://www.signaturewines.com/wine-community/events/viewevent/332-los-gatos-2015-spring-wine-walk 
DTSTART:20150425T133000
DTEND:20150425T173000
SUMMARY:Los Gatos 2015 Spring Wine Walk
DESCRIPTION:<h2 style="margin-top: 0px; padding-right: 15px; padding-left: 15px; color: #666666; font-family: Verdana, Geneva, sans-serif;">Fine Wine, Great Shopping, Charming Downtown Los Gatos merchants provide an open house atmosphere for you to sip tastings from area wineries. Enjoy wine tasting and restaurant samplings as you stroll through Downtown Los Gatos. $45 through March 20 $50 starting March 21. </h2>
LOCATION:10 Station Way Los Gatos, CA. 95030
END:VEVENT
END:VCALENDAR