BEGIN:VCALENDAR
VERSION:2.0
BEGIN:VEVENT
URL:http://www.signaturewines.com/wine-community/events/viewevent/333-the-2nd-celebration-of-mendocino-sparkling-wines 
DTSTART:20150409T120000
DTEND:20150409T160000
SUMMARY:The 2nd Celebration of Mendocino Sparkling Wines
DESCRIPTION:<p>On Saturday, April 11th from 12-4 pm, numerous Mendocino County Sparkling Wine producers will be coming together for a stellar wine and food event celebrating Mendocino County's renowned bubblies. This fun and classy gathering will be taking place at Terra Savia winery in Hopland, set against the picturesque vineyards and hills of the northern Russian River's Sanel Valley.  The wines will be fresh, local foods specially chosen to match the different types of wines on hand. The North Coast climates of Mendocino County are known for producing wonderful Sparkling Wines, so don't wait to get your tickets! There will also be live music. </p>
<p>Advance tickets are $55, $65 at the door and there are a limited amount of tickets available.</p>
<p><a href="http://www.eventbrite.com/e/a-celebration-of-mendocino-sparkling-wines-tickets-10746249321" target="_blank" title="mendocino sparkling wine festival event page">Click here to purchase tickets</a> </p>
<p> </p>
<p>For more information please contact Terra Savia winery at 707-744-1114 or email info@terrasavia.com.</p>
<p>This year's participants include:</p>
<p><a href="http://www.elkevineyards.com/" target="_blank">Elke Vineyards</a></p>
<p><a href="http://www.grazianofamilyofwines.com/" target="_blank">Graziano Family of Wines</a></p>
<p><a href="http://www.mcfaddenvineyard.com/" target="_self">McFadden Vineyards</a></p>
<p><a href="http://www.nelsonfamilyvineyards.com/" target="_blank">Nelson Family Vineyards</a></p>
<p><a href="http://roedererestate.com/" target="_blank">Roederer Estate Sparkling Wines</a></p>
<p><a href="http://www.scharffenbergercellars.com/" target="_blank">Scharffenberger Cellars</a></p>
<p><a href="http://www.signalridge.com/">Signal Ridge Cellars</a></p>
<p><a href="http://terrasavia.com/" target="_blank">Terra Sávia Winery</a></p>
<p><a href="http://www.yorkvillecellars.com" target="_blank">Yorkville Cellars</a></p>
<p>More to be announced soon! </p>
<p> </p>
LOCATION:14160 Mountain House Road, Hopland, CA  95449
END:VEVENT
END:VCALENDAR