BEGIN:VCALENDAR
VERSION:2.0
BEGIN:VEVENT
URL:http://www.signaturewines.com/wine-community/events/viewevent/336-in-pursuit-of-excellence-consumer-wine-tasting 
DTSTART:20150316T180000
DTEND:20150316T210000
SUMMARY:In Pursuit of Excellence Consumer Wine Tasting 
DESCRIPTION:<p style="margin-top: 0px; margin-right: 0px; margin-left: 0px; padding: 0px; border: none; font-family: 'Helvetica Neue', Helvetica, Arial; line-height: 16px; margin-bottom: 10px !important; color: black !important;">Come and enjoy great wines, foods and friends and chase those Monday blues away....</p>
<p style="margin-top: 0px; margin-right: 0px; margin-left: 0px; padding: 0px; border: none; font-family: 'Helvetica Neue', Helvetica, Arial; line-height: 16px; margin-bottom: 10px !important; color: black !important;">Get your tickets now: </p>
<p style="margin-top: 0px; margin-right: 0px; margin-left: 0px; padding: 0px; border: none; font-family: 'Helvetica Neue', Helvetica, Arial; line-height: 16px; margin-bottom: 10px !important; color: black !important;">http://www.eventbrite.com/e/ipob-san-francisco-march-16-2015-tickets-15275947771?ref=ebtnebtckt</p>
<p style="margin-top: 0px; margin-right: 0px; margin-left: 0px; padding: 0px; border: none; font-family: 'Helvetica Neue', Helvetica, Arial; line-height: 16px; margin-bottom: 10px !important; color: black !important;">Walk-around wine tasting featuring the following wineries:</p>
<div class="one_third" style="margin: 0px 48.390625px 0px 0px; padding: 0px; border: none; height: auto; float: left; overflow: hidden; width: 169.390625px; color: #000000; font-family: 'Helvetica Neue', Helvetica, Arial; line-height: normal;">
<p style="margin-top: 0px; margin-right: 0px; margin-left: 0px; padding: 0px; border: none; line-height: 16px; margin-bottom: 10px !important;">Au Bon Climat Winery<br style="margin: 0px; padding: 0px;" />Big Basin Vineyards<br style="margin: 0px; padding: 0px;" />Calera Wine Company<br style="margin: 0px; padding: 0px;" />Ceritas<br style="margin: 0px; padding: 0px;" />Chanin Wine Company<br style="margin: 0px; padding: 0px;" />Cobb Wines<br style="margin: 0px; padding: 0px;" />Copain Wine Cellars<br style="margin: 0px; padding: 0px;" />Domaine de la Côte<br style="margin: 0px; padding: 0px;" />Drew Family Cellars<br style="margin: 0px; padding: 0px;" />Failla<br style="margin: 0px; padding: 0px;" />Flowers Vineyard and Winery<br style="margin: 0px; padding: 0px;" />Hanzell Vineyards<br style="margin: 0px; padding: 0px;" />Hirsch Vineyards<br style="margin: 0px; padding: 0px;" />Knez Winery<br style="margin: 0px; padding: 0px;" />Kutch Wines<br style="margin: 0px; padding: 0px;" />LaRue Wines<br style="margin: 0px; padding: 0px;" />LIOCO<br style="margin: 0px; padding: 0px;" />Liquid Farm<br style="margin: 0px; padding: 0px;" />Littorai Wines<br style="margin: 0px; padding: 0px;" />LUTUM Wines<br style="margin: 0px; padding: 0px;" />Matthiasson Family Vineyards<br style="margin: 0px; padding: 0px;" />Mindego Ridge<br style="margin: 0px; padding: 0px;" />Mount Eden Vineyards<br style="margin: 0px; padding: 0px;" />Native9 Wines<br style="margin: 0px; padding: 0px;" />The Ojai Vineyard<br style="margin: 0px; padding: 0px;" />Peay Vineyards<br style="margin: 0px; padding: 0px;" />Red Car<br style="margin: 0px; padding: 0px;" />Sandhi Wines<br style="margin: 0px; padding: 0px;" />Twomey Cellars<br style="margin: 0px; padding: 0px;" />Tyler Winery<br style="margin: 0px; padding: 0px;" />Varner<br style="margin: 0px; padding: 0px;" />Wenzlau Vineyard<br style="margin: 0px; padding: 0px;" />Wind Gap Wines</p>
<p style="margin-top: 0px; margin-right: 0px; margin-left: 0px; padding: 0px; border: none; line-height: 16px; margin-bottom: 10px !important;"> </p>
</div>
<div class="one_third" style="margin: 0px 48.390625px 0px 0px; padding: 0px; border: none; height: auto; float: left; overflow: hidden; width: 169.390625px; color: #000000; font-family: 'Helvetica Neue', Helvetica, Arial; line-height: normal;">
<p style="margin-top: 0px; margin-right: 0px; margin-left: 0px; padding: 0px; border: none; line-height: 16px; margin-bottom: 10px !important;"><a href="http://www.aubonclimat.com/" target="_blank" style="margin: 0px; padding: 0px; outline: none; border: none; color: #990000 !important;">www.aubonclimat.com</a><br style="margin: 0px; padding: 0px;" /><a href="http://www.bigbasinvineyards.com/" target="_blank" style="margin: 0px; padding: 0px; outline: none; border: none; color: #990000 !important;">www.bigbasinvineyards.com</a><br style="margin: 0px; padding: 0px;" /><a href="http://www.calerawine.com/" target="_blank" style="margin: 0px; padding: 0px; outline: none; border: none; color: #990000 !important;">www.calerawine.com</a><br style="margin: 0px; padding: 0px;" /><a href="http://www.ceritaswines.com/" target="_blank" style="margin: 0px; padding: 0px; outline: none; border: none; color: #990000 !important;">www.ceritaswines.com</a><br style="margin: 0px; padding: 0px;" /><a href="http://www.chaninwine.com/" target="_blank" style="margin: 0px; padding: 0px; outline: none; border: none; color: #990000 !important;">www.chaninwine.com</a><br style="margin: 0px; padding: 0px;" /><a href="http://www.cobbwines.com/" target="_blank" style="margin: 0px; padding: 0px; outline: none; border: none; color: #990000 !important;">www.cobbwines.com</a><br style="margin: 0px; padding: 0px;" /><a href="http://www.copainwines.com/" target="_blank" style="margin: 0px; padding: 0px; outline: none; border: none; color: #990000 !important;">www.copainwines.com</a><br style="margin: 0px; padding: 0px;" /><a href="http://domainedelacote.com/" target="_blank" style="margin: 0px; padding: 0px; outline: none; border: none; color: #990000 !important;">www.domainedelacote.com</a><br style="margin: 0px; padding: 0px;" /><a href="http://www.drewwines.com/" target="_blank" style="margin: 0px; padding: 0px; outline: none; border: none; color: #990000 !important;">www.drewwines.com</a><br style="margin: 0px; padding: 0px;" /><a href="http://www.faillawines.com/" target="_blank" style="margin: 0px; padding: 0px; outline: none; border: none; color: #990000 !important;">www.faillawines.com</a><br style="margin: 0px; padding: 0px;" /><a href="http://www.flowerswinery.com/" target="_blank" style="margin: 0px; padding: 0px; outline: none; border: none; color: #990000 !important;">www.flowerswinery.com</a><br style="margin: 0px; padding: 0px;" /><a href="http://www.hanzell.com/" target="_blank" style="margin: 0px; padding: 0px; outline: none; border: none; color: #990000 !important;">www.hanzell.com</a><br style="margin: 0px; padding: 0px;" /><a href="http://www.hirschvineyards.com/" target="_blank" style="margin: 0px; padding: 0px; outline: none; border: none; color: #990000 !important;">www.hirschvineyards.com</a><br style="margin: 0px; padding: 0px;" /><a href="http://www.knezwinery.com/" target="_blank" style="margin: 0px; padding: 0px; outline: none; border: none; color: #990000 !important;">www.knezwinery.com</a><br style="margin: 0px; padding: 0px;" /><a href="http://www.kutchwines.com/" target="_blank" style="margin: 0px; padding: 0px; outline: none; border: none; color: #990000 !important;">www.kutchwines.com</a><br style="margin: 0px; padding: 0px;" /><a href="http://www.laruewines.com/" target="_blank" style="margin: 0px; padding: 0px; outline: none; border: none; color: #990000 !important;">www.laruewines.com</a><br style="margin: 0px; padding: 0px;" /><a href="http://www.liocowine.com/" target="_blank" style="margin: 0px; padding: 0px; outline: none; border: none; color: #990000 !important;">www.liocowine.com</a><br style="margin: 0px; padding: 0px;" /><a href="http://www.liquidfarm.com/" target="_blank" style="margin: 0px; padding: 0px; outline: none; border: none; color: #990000 !important;">www.liquidfarm.com</a><br style="margin: 0px; padding: 0px;" /><a href="http://www.littorai.com/" target="_blank" style="margin: 0px; padding: 0px; outline: none; border: none; color: #990000 !important;">www.littorai.com</a><br style="margin: 0px; padding: 0px;" /><a href="http://www.lutumwines.com/" target="_blank" style="margin: 0px; padding: 0px; outline: none; border: none; color: #990000 !important;">www.lutumwines.com</a><br style="margin: 0px; padding: 0px;" /><a href="http://www.matthiasson.com/" target="_blank" style="margin: 0px; padding: 0px; outline: none; border: none; color: #990000 !important;">www.matthiasson.com</a><br style="margin: 0px; padding: 0px;" /><a href="http://www.mindegoridge.com/" target="_blank" style="margin: 0px; padding: 0px; outline: none; border: none; color: #990000 !important;">www.mindegoridge.com</a><br style="margin: 0px; padding: 0px;" /><a href="http://www.mounteden.com/" target="_blank" style="margin: 0px; padding: 0px; outline: none; border: none; color: #990000 !important;">www.mounteden.com</a><br style="margin: 0px; padding: 0px;" /><a href="http://www.native9wine.com/" target="_blank" style="margin: 0px; padding: 0px; outline: none; border: none; color: #990000 !important;">www.native9wine.com</a><br style="margin: 0px; padding: 0px;" /><a href="http://www.ojaivineyard.com/" target="_blank" style="margin: 0px; padding: 0px; outline: none; border: none; color: #990000 !important;">www.ojaivineyard.com</a><br style="margin: 0px; padding: 0px;" /><a href="http://www.peayvineyards.com/" target="_blank" style="margin: 0px; padding: 0px; outline: none; border: none; color: #990000 !important;">www.peayvineyards.com</a><br style="margin: 0px; padding: 0px;" /><a href="http://www.redcarwine.com/" target="_blank" style="margin: 0px; padding: 0px; outline: none; border: none; color: #990000 !important;">www.redcarwine.com</a><br style="margin: 0px; padding: 0px;" /><a href="http://www.sandhiwines.com/" target="_blank" style="margin: 0px; padding: 0px; outline: none; border: none; color: #990000 !important;">www.sandhiwines.com</a><br style="margin: 0px; padding: 0px;" /><a href="http://www.twomeycellars.com/" target="_blank" style="margin: 0px; padding: 0px; outline: none; border: none; color: #990000 !important;">www.twomeycellars.com</a><br style="margin: 0px; padding: 0px;" /><a href="http://www.tylerwinery.com/" target="_blank" style="margin: 0px; padding: 0px; outline: none; border: none; color: #990000 !important;">www.tylerwinery.com</a><br style="margin: 0px; padding: 0px;" /><a href="http://www.varnerwine.com/" target="_blank" style="margin: 0px; padding: 0px; outline: none; border: none; color: #990000 !important;">www.varnerwine.com</a><br style="margin: 0px; padding: 0px;" /><a href="http://www.wenzlauvineyard.com/" target="_blank" style="margin: 0px; padding: 0px; outline: none; border: none; color: #990000 !important;">www.wenzlauvineyard.com</a><br style="margin: 0px; padding: 0px;" /><a href="http://www.windgapwines.com/" target="_blank" style="margin: 0px; padding: 0px; outline: none; border: none; color: #990000 !important;">www.windgapwines.com</a></p>
<p style="margin-top: 0px; margin-right: 0px; margin-left: 0px; padding: 0px; border: none; line-height: 16px; margin-bottom: 10px !important;"> </p>
</div>
<p style="margin-top: 0px; margin-right: 0px; margin-left: 0px; padding: 0px; border: none; font-family: 'Helvetica Neue', Helvetica, Arial; line-height: 16px; margin-bottom: 10px !important; color: black !important;"> </p>
<div class="one_third col_last" style="margin-top: 0px; margin-right: 0px !important; margin-bottom: 0px; margin-left: 0px; padding: 0px; border: none; height: auto; float: left; overflow: hidden; width: 169.390625px; clear: right; color: #000000; font-family: 'Helvetica Neue', Helvetica, Arial; font-style: normal; font-variant: normal; font-weight: normal; letter-spacing: normal; line-height: normal; orphans: auto; text-align: start; text-indent: 0px; text-transform: none; white-space: normal; widows: auto; word-spacing: 0px; -webkit-text-stroke-width: 0px;"> </div>
<p style="margin-top: 0px; margin-right: 0px; margin-left: 0px; padding: 0px; border: none; font-family: 'Helvetica Neue', Helvetica, Arial; line-height: 16px; margin-bottom: 10px !important; color: black !important;"> </p>
<p style="margin-top: 0px; margin-right: 0px; margin-left: 0px; padding: 0px; border: none; font-family: 'Helvetica Neue', Helvetica, Arial; line-height: 16px; margin-bottom: 10px !important; color: black !important;"><span style="margin: 0px; padding: 0px;">Enjoy savory and sweet bites provided by top Bay Area restaurants</span>.</p>
<p style="margin-top: 0px; margin-right: 0px; margin-left: 0px; padding: 0px; border: none; font-family: 'Helvetica Neue', Helvetica, Arial; line-height: 16px; margin-bottom: 10px !important; color: black !important;"> </p>
<p style="margin-top: 0px; margin-right: 0px; margin-left: 0px; padding: 0px; border: none; font-family: 'Helvetica Neue', Helvetica, Arial; line-height: 16px; margin-bottom: 10px !important; color: black !important;">During the consumer tasting, food will be provided by some of the Bay Area’s best restaurants, including:</p>
<p style="margin-top: 0px; margin-right: 0px; margin-left: 0px; padding: 0px; border: none; font-family: 'Helvetica Neue', Helvetica, Arial; line-height: 16px; margin-bottom: 10px !important; color: black !important;"><a href="http://aziza-sf.com/" target="_blank" style="margin: 0px; padding: 0px; outline: none; border: none; color: #990000 !important;">Aziza</a><br style="margin: 0px; padding: 0px;" /><a href="http://bartartine.com/" target="_blank" style="margin: 0px; padding: 0px; outline: none; border: none; color: #990000 !important;">Bar Tartine</a><br style="margin: 0px; padding: 0px;" /><a href="http://www.cavallopoint.com/dine.html" target="_blank" style="margin: 0px; padding: 0px; outline: none; border: none; color: #990000 !important;">Cavallo Point</a><br style="margin: 0px; padding: 0px;" /><a href="http://chadavegas.com/" target="_blank" style="margin: 0px; padding: 0px; outline: none; border: none; color: #990000 !important;">Chada Thai (NV)</a><br style="margin: 0px; padding: 0px;" /><a href="http://nopasf.com/" target="_blank" style="margin: 0px; padding: 0px; outline: none; border: none; color: #990000 !important;">Nopa</a><br style="margin: 0px; padding: 0px;" /><a href="http://www.passionfish.net/" target="_blank" style="margin: 0px; padding: 0px; outline: none; border: none; color: #990000 !important;">Passionfish</a><br style="margin: 0px; padding: 0px;" /><a href="http://www.michaelmina.net/restaurants/san-francisco-bay-area/rn74/" target="_blank" style="margin: 0px; padding: 0px; outline: none; border: none; color: #990000 !important;">RN74</a><br style="margin: 0px; padding: 0px;" /><a href="http://www.scopahealdsburg.com/" target="_blank" style="margin: 0px; padding: 0px; outline: none; border: none; color: #990000 !important;">Scopa</a><br style="margin: 0px; padding: 0px;" /><a href="http://www.spqrsf.com/" target="_blank" style="margin: 0px; padding: 0px; outline: none; border: none; color: #990000 !important;">SPQR</a><br style="margin: 0px; padding: 0px;" /><a href="http://www.stvincentsf.com/" target="_blank" style="margin: 0px; padding: 0px; outline: none; border: none; color: #990000 !important;">St. Vincent Tavern & Wine Merchant</a></p>
<p> </p>
LOCATION:City View at the Metreon 135 Fourth Street, Suite 4000 (corner of Fourth & Mission) San Francisco, CA
END:VEVENT
END:VCALENDAR