BEGIN:VCALENDAR
VERSION:2.0
BEGIN:VEVENT
URL:http://www.signaturewines.com/wine-community/events/viewevent/337-jaimeson-ranch-sauvignon-release-party 
DTSTART:20150418T130000
DTEND:20150418T153000
SUMMARY:Jaimeson Ranch Sauvignon Release Party
DESCRIPTION:<p>Plan an leisurely and luxurious afternoon with the friendly and warm hospitality of jamieson Ranch Vineyards. Meet the winemaker,</p>
<p>Juan Jose Verdina as he discusses the nuances of making spectacular Savignon Blanc. Enjoy this marvelous wine with fresh "Hogs Bay" oysters expertly shucked by the "Oyster Girls" </p>
<p>All while listening to live music from Rhythm Method 4..</p>
<p>Get your tickets now and use this limited Promo Code "OysterGirls" to save $5.00.  </p>
<p>Come "Eat, Drink and be Merry" at Jamieson Ranch Vineyards!</p>
LOCATION:1 Kirkland Ranch Road, Napa, California
END:VEVENT
END:VCALENDAR