BEGIN:VCALENDAR
VERSION:2.0
BEGIN:VEVENT
URL:http://www.signaturewines.com/wine-community/events/viewevent/338-california-wine-festival-an-evening-of-rare-wine-tasting 
DTSTART:20150417T183000
DTEND:20150417T210000
SUMMARY:California Wine Festival - An evening of rare wine tasting
DESCRIPTION:<p> </p>
<div class="hero-intro" style="box-sizing: border-box; text-align: center; margin: 0px auto 30px; max-width: 800px; color: #333333; font-family: 'Times New Roman', Times, serif; font-size: 17px; font-style: normal; font-variant: normal; font-weight: normal; letter-spacing: normal; line-height: 24px; orphans: auto; text-indent: 0px; text-transform: none; white-space: normal; widows: auto; word-spacing: 0px; -webkit-text-stroke-width: 0px;">
<h5 style="box-sizing: border-box; font-family: 'Proxima Nova', 'Open Sans', 'Gill Sans MT', 'Gill Sans', Corbel, Arial, sans-serif; font-weight: 500; line-height: 1.1; color: inherit; margin-top: 12px; margin-bottom: 12px; font-size: 17px; text-align: left;">The California Wine Festival – Orange County will host the two-day celebration of wine and food in the quaint coastal town of Dana Point in Orange County April 17– 18, 2015. An evening of rare wine tasting on Friday night, limited to 500 guests, begins with our new and exciting outdoor venue at the 4-diamond Laguna Cliffs Marriott Resort & Spa. The Marriott’s “Vue Lawn” is a lush green cliff top expanse with breathtaking views of the quaint Dana Point Harbor and blue Pacific far below. Guests will sample rare and reserve super-premium wines selected especially for this popular sophisticated event.</h5>
<h5 style="box-sizing: border-box; font-family: 'Proxima Nova', 'Open Sans', 'Gill Sans MT', 'Gill Sans', Corbel, Arial, sans-serif; font-weight: 500; line-height: 1.1; color: inherit; margin-top: 12px; margin-bottom: 12px; font-size: 17px; text-align: left;">The festivities culminate at Lantern Bay Park, when the Beachside Wine Festival takes over a peaceful palm-lined park and over 2,500 wine-loving guests sip and savor nearly 300 wines and dozens of gourmet food samplings. Craft brews will also be offered along with artisan cheeses, breads, fresh cut fruits, olive oils and much more.</h5>
<h5 style="box-sizing: border-box; font-family: 'Proxima Nova', 'Open Sans', 'Gill Sans MT', 'Gill Sans', Corbel, Arial, sans-serif; font-weight: 500; line-height: 1.1; color: inherit; margin-top: 12px; margin-bottom: 12px; font-size: 17px; text-align: left;">The 2015 California Wine Festival – Orange County will benefit The Surfrider Foundation.</h5>
<h5 style="box-sizing: border-box; font-family: 'Proxima Nova', 'Open Sans', 'Gill Sans MT', 'Gill Sans', Corbel, Arial, sans-serif; font-weight: 500; line-height: 1.1; color: inherit; margin-top: 12px; margin-bottom: 12px; font-size: 17px; text-align: left;">We strongly encourage attendees to take a taxi or have a Designated Drive. Please contact us at <a href="mailto:info@californiawinefestival.com" style="box-sizing: border-box; background-color: transparent; color: #ec0257; text-decoration: none;">info@californiawinefestival.com</a> to purchase a designated driver ticket.</h5>
<h6 style="box-sizing: border-box; font-family: 'Proxima Nova', 'Open Sans', 'Gill Sans MT', 'Gill Sans', Corbel, Arial, sans-serif; font-weight: 500; line-height: 1.1; color: inherit; margin-top: 12px; margin-bottom: 12px; font-size: 15px; text-align: left;">FINE PRINT</h6>
<h6 style="box-sizing: border-box; font-family: 'Proxima Nova', 'Open Sans', 'Gill Sans MT', 'Gill Sans', Corbel, Arial, sans-serif; font-weight: 500; line-height: 1.1; color: inherit; margin-top: 12px; margin-bottom: 12px; font-size: 15px; text-align: left;">Terms & Conditions: You must be over 21 years of age to attend any California Wine Festival (CWF) event. NO infants, strollers, or animals allowed on event grounds. No Exceptions. Tickets are non-refundable for any reason. CWF offers a variety promotional discounts on ticket prices throughout the pre-event promotion. No lowest price guarantee is offered or inferred. CWF does not issue partial or complete refunds to ticket purchasers for any reason. All sales are final.</h6>
<p style="text-align: left;">Buy your tickets now: <a href="http://www.californiawinefestival.com/tickets/tickets/">http://www.californiawinefestival.com/tickets/tickets/</a></p>
</div>
LOCATION:25135 Park Lantern, Dana Point, CA 92629
END:VEVENT
END:VCALENDAR