BEGIN:VCALENDAR
VERSION:2.0
BEGIN:VEVENT
URL:http://www.signaturewines.com/wine-community/events/viewevent/339-california-wine-festival-beachside-wine-festival 
DTSTART:20150418T130000
DTEND:20150418T160000
SUMMARY:California Wine Festival: Beachside Wine Festival
DESCRIPTION:<h5 style="box-sizing: border-box; font-family: 'Proxima Nova', 'Open Sans', 'Gill Sans MT', 'Gill Sans', Corbel, Arial, sans-serif; font-weight: 500; line-height: 1.1; margin-top: 12px; margin-bottom: 12px; font-size: 17px; text-align: center;">Wine, food, music, sun and sea. Experience the quintessential California wine tasting and enjoy hundreds of California’s finest vintage wines, delicious gourmet foods samples and lively music. Discover new wines at every Festival, find a new favorite and pair it with a dizzying variety of fresh gourmet appetizers like artisan breads, cheeses, olive oils and so much more. Enjoy an afternoon of unlimited fun, food and music – at the biggest wine festival under the sun!</h5>
<p> </p>
LOCATION:25111 Park Lantern Dana Point, CA 92629
END:VEVENT
END:VCALENDAR