BEGIN:VCALENDAR
VERSION:2.0
BEGIN:VEVENT
URL:http://www.signaturewines.com/wine-community/events/viewevent/340-8th-annual-tapas-grand-wine-tasting-event 
DTSTART:20150426T140000
DTEND:20150426T170000
SUMMARY:8th Annual Tapas Grand Wine Tasting Event
DESCRIPTION:<p><span style="color: #000000; font-family: 'Helvetica Neue', Helvetica, Arial, sans-serif; font-size: medium; letter-spacing: 0.5px; line-height: normal;">The </span><a href="http://www.tapasociety.org/" target="_blank" title="TAPAS" rel="nofollow" style="color: #ee6600; font-family: 'Helvetica Neue', Helvetica, Arial, sans-serif; letter-spacing: 0.5px; line-height: normal;">Tempranillo Advocates, Producers and Amigos Society (TAPAS)</a><span style="color: #000000; font-family: 'Helvetica Neue', Helvetica, Arial, sans-serif; font-size: medium; letter-spacing: 0.5px; line-height: normal;"> is hosting their eighth annual Grand Wine Tasting of domestically-produced Tempranillos, Albariños, Garnachas, Verdelhos, and many more, from the wine regions of the western United States.  Grapes native to the Iberian Peninsula produce some of the hottest-selling wines on the market right now, but not many people know that there are excellent and unique domestic versions being grown, too.  Many TAPAS members are limited-production, family-owned wineries and will be pouring small lot wines that are not widely available.  This year the event will be held at the </span><span style="font-weight: bold; color: #000000; font-family: 'Helvetica Neue', Helvetica, Arial, sans-serif; letter-spacing: 0.5px; line-height: normal;">Golden Gate Club at the Presidio </span><span style="color: #000000; font-family: 'Helvetica Neue', Helvetica, Arial, sans-serif; font-size: medium; letter-spacing: 0.5px; line-height: normal;">on </span><span style="font-weight: bold; color: #000000; font-family: 'Helvetica Neue', Helvetica, Arial, sans-serif; letter-spacing: 0.5px; line-height: normal;">Sunday, April 26, 2015.</span></p>
<p><span style="color: #000000; font-family: 'Helvetica Neue', Helvetica, Arial, sans-serif;"><span style="letter-spacing: 0.5px; line-height: normal;"><strong>Buy your tickets here:<a href="http://www.eventbrite.com/e/tapas-grand-wine-tasting-2015-tickets-15194181205"> </a></strong></span></span><a href="http://tapas15.eventbrite.com/?discount=signature" style="line-height: 1.3em;">http://tapas15.eventbrite.com/?discount=signature</a></p>
LOCATION:	135 Fisher Loop, San Francisco, CA 94129
END:VEVENT
END:VCALENDAR