BEGIN:VCALENDAR
VERSION:2.0
BEGIN:VEVENT
URL:http://www.signaturewines.com/wine-community/events/viewevent/341-mexican-american-vintners-association-spring-wine-tasting 
DTSTART:20150408T120000
DTEND:20150408T170000
SUMMARY:Mexican-American Vintners Association Spring Wine Tasting 
DESCRIPTION:<p><span style="color: #777777; font-family: Helvetica, Arial, sans-serif; line-height: normal;">TASTE and PURCHASE ON SITE the wines from 15 Mexican-American Vintners Association (MAVA) wineries in San Francisco!  Indulge yourself in these wonderful wines at the MAVA Spring Tasting, Wednesday, April 8 at Fort Mason Center - Fleet Room - Building D, 2 Marina Boulevard, San Francisco.</span></p>
<p><span style="color: #777777; font-family: Helvetica, Arial, sans-serif; line-height: normal;">Consumer Tickets include the wines from our MAVA member wineries and food pairings from Winery Chefs Catering with assorted artisan cheeses, charcuterie, seasonal fruit, nuts, olives and Model Bakery breads.</span><br style="color: #777777; font-family: Helvetica, Arial, sans-serif; line-height: normal;" /><br style="color: #777777; font-family: Helvetica, Arial, sans-serif; line-height: normal;" /><span style="color: #777777; font-family: Helvetica, Arial, sans-serif; line-height: normal;">Don't miss out...the wines are amazing and it's one of the very few times of the year you can TASTE and PURCHASE MAVA wines all in one place, many of which are hard to find.</span><br style="color: #777777; font-family: Helvetica, Arial, sans-serif; line-height: normal;" /><br style="color: #777777; font-family: Helvetica, Arial, sans-serif; line-height: normal;" /><span style="color: #777777; font-family: Helvetica, Arial, sans-serif; line-height: normal;">While you're in San Francisco, take the day and/or evening to enjoy the City, visiting any number of world-class restaurants, shops, and the Mexican Museum right across the hall from our wine tasting event! We look forward to seeing you there. Cheers!</span></p>
LOCATION:Fort Mason Center - Fleet Room - Building D (View) 2 Marina Boulevard San Francisco, CA 94123 United States
END:VEVENT
END:VCALENDAR