BEGIN:VCALENDAR
VERSION:2.0
BEGIN:VEVENT
URL:http://www.signaturewines.com/wine-community/events/viewevent/356-3rd-annual-purr-fect-pairings-fundraiser-for-nine-lives-foundation 
DTSTART:20150503T140000
DTEND:20150503T170000
SUMMARY:3rd Annual Purr-fect Pairings ~ Fundraiser for Nine Lives Foundation
DESCRIPTION:<p style="line-height: normal; margin: 0px; padding: 0px 0px 8px; color: #666666; font-family: 'Helvetica Neue', Helvetica, Arial, sans-serif; font-size: 13px; letter-spacing: 0.5px; text-align: center;"><span style="font-size: small;"><span style="font-size: medium;">Join us Sunday, May 3th at the beautiful Domenico Winery in San Carlos  </span></span></p>
<p style="line-height: normal; margin: 0px; padding: 0px 0px 8px; color: #666666; font-family: 'Helvetica Neue', Helvetica, Arial, sans-serif; font-size: 13px; letter-spacing: 0.5px; text-align: center;"><span style="font-size: small;"><span style="font-size: medium;">for an afternoon of unlimited wine tasting,</span></span></p>
<p style="line-height: normal; margin: 0px; padding: 0px 0px 8px; color: #666666; font-family: 'Helvetica Neue', Helvetica, Arial, sans-serif; font-size: 13px; letter-spacing: 0.5px; text-align: center;"><span style="font-size: small;"><span style="font-size: medium;">hors d' oeuvers and desserts.</span></span></p>
<p style="line-height: normal; margin: 0px; padding: 0px 0px 8px; color: #666666; font-family: 'Helvetica Neue', Helvetica, Arial, sans-serif; font-size: 13px; letter-spacing: 0.5px; text-align: center;"><span style="font-size: small;"><span style="font-size: medium;"> </span></span></p>
<p style="line-height: normal; margin: 0px; padding: 0px 0px 8px; color: #666666; font-family: 'Helvetica Neue', Helvetica, Arial, sans-serif; font-size: 13px; letter-spacing: 0.5px; text-align: center;"><span style="font-size: medium;"> This is a fun opportunity to meet and mingle with other animal lovers, sample delicious wines and savory appetizers </span><span style="font-size: medium; line-height: 1.6em;">and help our rescued cats and kittens</span></p>
<p style="line-height: normal; margin: 0px; padding: 0px 0px 8px; color: #666666; font-family: 'Helvetica Neue', Helvetica, Arial, sans-serif; font-size: 13px; letter-spacing: 0.5px; text-align: center;"><span style="font-size: medium; line-height: 1.6em;">Silent Auction, Raffle and Nine Lives Boutique </span></p>
<p style="line-height: normal; margin: 0px; padding: 0px 0px 8px; color: #666666; font-family: 'Helvetica Neue', Helvetica, Arial, sans-serif; font-size: 13px; letter-spacing: 0.5px; text-align: center;"><span style="font-size: medium;">♥ All proceeds benefit the Nine Lives Foundation ♥</span></p>
<p style="line-height: normal; margin: 0px; padding: 0px 0px 8px; color: #666666; font-family: 'Helvetica Neue', Helvetica, Arial, sans-serif; font-size: 13px; letter-spacing: 0.5px; text-align: center;"><span style="font-size: medium;">http://www.ninelivesfoundation.org </span></p>
<p><span style="font-size: medium;"> </span></p>
LOCATION:Domenico Winery 1697 Industrial Rd  San Carlos, CA 94070
END:VEVENT
END:VCALENDAR