BEGIN:VCALENDAR
VERSION:2.0
BEGIN:VEVENT
URL:http://www.signaturewines.com/wine-community/events/viewevent/357-magic-of-sunnyvale-wine-stroll 
DTSTART:20150509T143000
DTEND:20150509T173000
SUMMARY:Magic of Sunnyvale & Wine Stroll
DESCRIPTION:<p><br style="color: #000000; font-family: Arial, Helvetica, Georgia, sans-serif; line-height: 18px;" /><span style="font-family: Arial, Helvetica, Georgia, sans-serif; line-height: 18px; color: #006600; font-weight: bold;">                   Event is rain or shine, no refunds. We are not responsible for lost, misplaced or stolen tickets. </span><br style="color: #000000; font-family: Arial, Helvetica, Georgia, sans-serif; line-height: 18px;" /><br style="color: #000000; font-family: Arial, Helvetica, Georgia, sans-serif; line-height: 18px;" /><span style="color: #000000; font-family: Arial, Helvetica, Georgia, sans-serif; line-height: 18px;">Welcome to Sunnyvale Downtown Association's 3rd Annual Downtown Wine Stroll on May 9, 2015. Attendees can peruse downtown's shopping attractions while tasting the fruit of local vineyards and being entertained by the largest gathering of magicians at an outdoor event in the Bay Area. </span><br style="color: #000000; font-family: Arial, Helvetica, Georgia, sans-serif; line-height: 18px;" /><span style="color: #000000; font-family: Arial, Helvetica, Georgia, sans-serif; line-height: 18px;">Up to 20 businesses will pair up with and featured boutique Bay Area wineries. Special offers  from downtown restaurants will also be part of the event. It will be a "Magical" experience with featured magic performers and others who will roam the event surprising attendees along the stroll. </span><span style="color: #000000; font-family: Arial, Helvetica, Georgia, sans-serif; line-height: 18px;"> Make a night of it and stay downtown to enjoy dinner at one of our many fantastic restaurants. </span><br style="color: #000000; font-family: Arial, Helvetica, Georgia, sans-serif; line-height: 18px;" /><br style="color: #000000; font-family: Arial, Helvetica, Georgia, sans-serif; line-height: 18px;" /><span style="font-family: Arial, Helvetica, Georgia, sans-serif; line-height: 18px; color: #993399; font-weight: bold; text-decoration: underline;">Tickets available April 16th, <br /></span><br style="color: #000000; font-family: Arial, Helvetica, Georgia, sans-serif; line-height: 18px;" /><span style="color: #000000; font-family: Arial, Helvetica, Georgia, sans-serif; line-height: 18px;">Wine Stroll tickets are available at participating downtown Sunnyvale businesses or from the Sunnyvale Chamber of Commerce. (see list below)</span><br style="color: #000000; font-family: Arial, Helvetica, Georgia, sans-serif; line-height: 18px;" /><br style="color: #000000; font-family: Arial, Helvetica, Georgia, sans-serif; line-height: 18px;" /><span style="font-family: Arial, Helvetica, Georgia, sans-serif; line-height: 18px; color: #993399; font-weight: bold;">PLEASE NOTE:</span><br style="color: #000000; font-family: Arial, Helvetica, Georgia, sans-serif; line-height: 18px;" /><span style="font-family: Arial, Helvetica, Georgia, sans-serif; line-height: 18px; color: #993399; font-weight: bold;">THE MAGIC OF SUNNYVALE EVENT IS FREE!!! ONLY THE WINE TASTING COMPONENT IS FOR 21 YEARS AND OLDER AND HAS A PURCHASE TICKET COMPONENT.</span><br style="color: #000000; font-family: Arial, Helvetica, Georgia, sans-serif; line-height: 18px;" /><span style="color: #000000; font-family: Arial, Helvetica, Georgia, sans-serif; line-height: 18px;">Ticket price includes a commemorative wine glass, all tastes, a downtown map and tote bag. TICKETS ARE LIMITED so please do not wit until the last minute to purchase your tickets as this event will sell out! </span><br style="color: #000000; font-family: Arial, Helvetica, Georgia, sans-serif; line-height: 18px;" /><span style="color: #000000; font-family: Arial, Helvetica, Georgia, sans-serif; line-height: 18px;">We will have raffle prizes so please fill out your contact information on the back of your ticket prior to the event and be entered in the drawings. </span><br style="color: #000000; font-family: Arial, Helvetica, Georgia, sans-serif; line-height: 18px;" /><br style="color: #000000; font-family: Arial, Helvetica, Georgia, sans-serif; line-height: 18px;" /><span style="font-family: Arial, Helvetica, Georgia, sans-serif; line-height: 18px; color: #993399; font-weight: bold;">Local wineries will showcase their wines throughout the downtown in a variety of locations. </span><br style="color: #000000; font-family: Arial, Helvetica, Georgia, sans-serif; line-height: 18px;" /><br style="color: #000000; font-family: Arial, Helvetica, Georgia, sans-serif; line-height: 18px;" /><span style="font-family: Arial, Helvetica, Georgia, sans-serif; line-height: 18px; color: #993399; font-weight: bold; text-decoration: underline;">Participating Wineries: <span style="color: #000000;">(subject to change without notice)</span></span><br style="color: #000000; font-family: Arial, Helvetica, Georgia, sans-serif; line-height: 18px;" /><br style="color: #000000; font-family: Arial, Helvetica, Georgia, sans-serif; line-height: 18px;" /><span style="color: #000000; font-family: Arial, Helvetica, Georgia, sans-serif; line-height: 18px;">Three Arches Winery - </span><a target="_blank" title="" style="text-decoration: underline; color: #05b303; font-family: Arial, Helvetica, Georgia, sans-serif; line-height: 18px;">www.threearcheswinery.com</a><br style="color: #000000; font-family: Arial, Helvetica, Georgia, sans-serif; line-height: 18px;" /><span style="color: #000000; font-family: Arial, Helvetica, Georgia, sans-serif; line-height: 18px;">Joullian.Vineyards- </span><a href="http://www.joullian.com/" title="" style="text-decoration: underline; color: #05b303; font-family: Arial, Helvetica, Georgia, sans-serif; line-height: 18px;">www.joullian.com</a><br style="color: #000000; font-family: Arial, Helvetica, Georgia, sans-serif; line-height: 18px;" /><span style="color: #000000; font-family: Arial, Helvetica, Georgia, sans-serif; line-height: 18px;">Piccini Wines - </span><a href="https://www.facebook.com/PICCINIWINES" title="" style="text-decoration: underline; color: #05b303; font-family: Arial, Helvetica, Georgia, sans-serif; line-height: 18px;">www.facebook.com/PICCINIWINES</a><br style="color: #000000; font-family: Arial, Helvetica, Georgia, sans-serif; line-height: 18px;" /><span style="color: #000000; font-family: Arial, Helvetica, Georgia, sans-serif; line-height: 18px;">Sones Cellars -  </span><a href="http://www.sonescellars.com/" title="" style="text-decoration: underline; color: #05b303; font-family: Arial, Helvetica, Georgia, sans-serif; line-height: 18px;">www.sonescellars.com</a><br style="color: #000000; font-family: Arial, Helvetica, Georgia, sans-serif; line-height: 18px;" /><span style="color: #000000; font-family: Arial, Helvetica, Georgia, sans-serif; line-height: 18px;">Robert Mondavi - </span><a href="http://www.robertmondaviwinery.com/" title="" style="text-decoration: underline; color: #05b303; font-family: Arial, Helvetica, Georgia, sans-serif; line-height: 18px;">www.robertmondaviwinery.com</a><br style="color: #000000; font-family: Arial, Helvetica, Georgia, sans-serif; line-height: 18px;" /><span style="color: #000000; font-family: Arial, Helvetica, Georgia, sans-serif; line-height: 18px;">Concannon Vineyards - </span><a href="http://www.concannonvineyard.com/" title="" style="text-decoration: underline; color: #05b303; font-family: Arial, Helvetica, Georgia, sans-serif; line-height: 18px;">www.concannonvineyard.com</a><br style="color: #000000; font-family: Arial, Helvetica, Georgia, sans-serif; line-height: 18px;" /><span style="color: #000000; font-family: Arial, Helvetica, Georgia, sans-serif; line-height: 18px;">Trapiche  -  </span><a href="http://www.trapiche.com.ar/english/malbec.html" title="" style="text-decoration: underline; color: #05b303; font-family: Arial, Helvetica, Georgia, sans-serif; line-height: 18px;">www.trapiche.com.ar/english/malbec.html</a><br style="color: #000000; font-family: Arial, Helvetica, Georgia, sans-serif; line-height: 18px;" /><span style="color: #000000; font-family: Arial, Helvetica, Georgia, sans-serif; line-height: 18px;">Bargetto Winery - </span><a href="http://www.bargetto.com/" title="" style="text-decoration: underline; color: #05b303; font-family: Arial, Helvetica, Georgia, sans-serif; line-height: 18px;">www.bargetto.com</a><br style="color: #000000; font-family: Arial, Helvetica, Georgia, sans-serif; line-height: 18px;" /><span style="color: #000000; font-family: Arial, Helvetica, Georgia, sans-serif; line-height: 18px;">Domaine Ste. Michelle -   </span><a href="http://www.domaine-ste-michelle.com/" title="" style="text-decoration: underline; color: #05b303; font-family: Arial, Helvetica, Georgia, sans-serif; line-height: 18px;">www.domaine-ste-michelle.com</a><span style="color: #000000; font-family: Arial, Helvetica, Georgia, sans-serif; line-height: 18px;">   </span><br style="color: #000000; font-family: Arial, Helvetica, Georgia, sans-serif; line-height: 18px;" /><span style="color: #000000; font-family: Arial, Helvetica, Georgia, sans-serif; line-height: 18px;">Antinori - </span><a href="http://www.antinori.it/" title="" style="text-decoration: underline; color: #05b303; font-family: Arial, Helvetica, Georgia, sans-serif; line-height: 18px;">www.antinori.it</a><br style="color: #000000; font-family: Arial, Helvetica, Georgia, sans-serif; line-height: 18px;" /><span style="color: #000000; font-family: Arial, Helvetica, Georgia, sans-serif; line-height: 18px;">Bargetto Wines - </span><a href="http://www.bargetto.com/" title="" style="text-decoration: underline; color: #05b303; font-family: Arial, Helvetica, Georgia, sans-serif; line-height: 18px;">www.bargetto.com</a><br style="color: #000000; font-family: Arial, Helvetica, Georgia, sans-serif; line-height: 18px;" /><span style="color: #000000; font-family: Arial, Helvetica, Georgia, sans-serif; line-height: 18px;">Perrucci Vineyards - </span><a href="http://www.perruccifamily.com/" title="" style="text-decoration: underline; color: #05b303; font-family: Arial, Helvetica, Georgia, sans-serif; line-height: 18px;">www.perruccifamily.com</a><br style="color: #000000; font-family: Arial, Helvetica, Georgia, sans-serif; line-height: 18px;" /><span style="color: #000000; font-family: Arial, Helvetica, Georgia, sans-serif; line-height: 18px;">Villa Pozzi - </span><a href="http://www.villapozziwines.com/" title="" style="text-decoration: underline; color: #05b303; font-family: Arial, Helvetica, Georgia, sans-serif; line-height: 18px;">www.villapozziwines.com</a><br style="color: #000000; font-family: Arial, Helvetica, Georgia, sans-serif; line-height: 18px;" /><span style="color: #000000; font-family: Arial, Helvetica, Georgia, sans-serif; line-height: 18px;">Clos Du Bois - </span><a href="http://www.closdubois.com/" title="" style="text-decoration: underline; color: #05b303; font-family: Arial, Helvetica, Georgia, sans-serif; line-height: 18px;">www.closdubois.com</a><br style="color: #000000; font-family: Arial, Helvetica, Georgia, sans-serif; line-height: 18px;" /><span style="color: #000000; font-family: Arial, Helvetica, Georgia, sans-serif; line-height: 18px;">Campo Viejo -  </span><a href="http://www.campoviejo.com/" title="" style="text-decoration: underline; color: #05b303; font-family: Arial, Helvetica, Georgia, sans-serif; line-height: 18px;">www.campoviejo.com/</a><span style="color: #000000; font-family: Arial, Helvetica, Georgia, sans-serif; line-height: 18px;">         </span><br style="color: #000000; font-family: Arial, Helvetica, Georgia, sans-serif; line-height: 18px;" /><span style="color: #000000; font-family: Arial, Helvetica, Georgia, sans-serif; line-height: 18px;">Carica Wines –  </span><a href="http://www.caricawines.com/" title="" style="text-decoration: underline; color: #05b303; font-family: Arial, Helvetica, Georgia, sans-serif; line-height: 18px;">www.caricawines.com</a><br style="color: #000000; font-family: Arial, Helvetica, Georgia, sans-serif; line-height: 18px;" /><span style="color: #000000; font-family: Arial, Helvetica, Georgia, sans-serif; line-height: 18px;">Wargin Wines - </span><a href="http://www.warginwines.com/" title="" style="text-decoration: underline; color: #05b303; font-family: Arial, Helvetica, Georgia, sans-serif; line-height: 18px;">www.warginwines.com</a><br style="color: #000000; font-family: Arial, Helvetica, Georgia, sans-serif; line-height: 18px;" /><span style="color: #000000; font-family: Arial, Helvetica, Georgia, sans-serif; line-height: 18px;">Roudon-Smith Winery - </span><a href="http://www.roudonsmith.com/" title="" style="text-decoration: underline; color: #05b303; font-family: Arial, Helvetica, Georgia, sans-serif; line-height: 18px;">www.roudonsmith.com</a><br style="color: #000000; font-family: Arial, Helvetica, Georgia, sans-serif; line-height: 18px;" /><span style="color: #000000; font-family: Arial, Helvetica, Georgia, sans-serif; line-height: 18px;">And more...</span><br style="color: #000000; font-family: Arial, Helvetica, Georgia, sans-serif; line-height: 18px;" /><br style="color: #000000; font-family: Arial, Helvetica, Georgia, sans-serif; line-height: 18px;" /><span style="font-family: Arial, Helvetica, Georgia, sans-serif; line-height: 18px; color: #993399; font-weight: bold; text-decoration: underline;">Participating Downtown Businesses: <span style="color: #000000;">(subject to change without notice)</span><br /></span><br style="color: #000000; font-family: Arial, Helvetica, Georgia, sans-serif; line-height: 18px;" /><span style="color: #000000; font-family: Arial, Helvetica, Georgia, sans-serif; line-height: 18px;">Aloft - <a href="http://www.starwoodhotels.com/alofthotels/property/overview/index.html?propertyID=4141&PS=LGEN_AA_DNAD_CBNG_TPRP&SWAQ=63EP" title="" style="text-decoration: underline; color: #05b303;">www.starwoodhotels.com</a><br />Bean Scene -</span><span style="color: #000000; font-family: Arial, Helvetica, Georgia, sans-serif; line-height: 18px;"> </span><a href="http://beanscenecafe.com/" title="" style="text-decoration: underline; color: #05b303; font-family: Arial, Helvetica, Georgia, sans-serif; line-height: 18px;">http://beanscenecafe.com</a><br style="color: #000000; font-family: Arial, Helvetica, Georgia, sans-serif; line-height: 18px;" /><span style="color: #000000; font-family: Arial, Helvetica, Georgia, sans-serif; line-height: 18px;">Bookasaurus - </span><a href="http://www.leighsbooks.com/" title="" style="text-decoration: underline; color: #05b303; font-family: Arial, Helvetica, Georgia, sans-serif; line-height: 18px;">www.leighsbooks.com</a><br style="color: #000000; font-family: Arial, Helvetica, Georgia, sans-serif; line-height: 18px;" /><span style="color: #000000; font-family: Arial, Helvetica, Georgia, sans-serif; line-height: 18px;">Brandon Wines - <a href="https://www.facebook.com/brandonwinebar?rf=143510245694460" title="" style="text-decoration: underline; color: #05b303;">https://www.facebook.com/brandonwinebar?rf=143510245694460</a><br />Dr. Gary Gold & Associates -</span><span style="color: #000000; font-family: Arial, Helvetica, Georgia, sans-serif; line-height: 18px;"> </span><a href="http://www.drgoldeyes.com/" title="" style="text-decoration: underline; color: #05b303; font-family: Arial, Helvetica, Georgia, sans-serif; line-height: 18px;">www.drgoldeyes.com</a><br style="color: #000000; font-family: Arial, Helvetica, Georgia, sans-serif; line-height: 18px;" /><span style="color: #000000; font-family: Arial, Helvetica, Georgia, sans-serif; line-height: 18px;">Flywheel Sports - <a href="https://www.flywheelsports.com/locations/sunnyvale" title="" style="text-decoration: underline; color: #05b303;">www.flywheelsports.com</a><br />Gumbas - <a href="http://www.gumbas.net/" title="" style="text-decoration: underline; color: #05b303;">www.</a><a href="http://www.gumbas.net/" title="" style="text-decoration: underline; color: #05b303;"><strong>gumbas</strong>.net/</a><br />IC Lounge - <a href="http://ic-lounge.com/" style="text-decoration: underline; color: #05b303;">www.ic-lounge.com</a><br />il Postale Restaurant -</span><span style="color: #000000; font-family: Arial, Helvetica, Georgia, sans-serif; line-height: 18px;"> </span><a href="http://www.ilpostale.com/" title="" style="text-decoration: underline; color: #05b303; font-family: Arial, Helvetica, Georgia, sans-serif; line-height: 18px;">ilpostale.com</a><br style="color: #000000; font-family: Arial, Helvetica, Georgia, sans-serif; line-height: 18px;" /><span style="color: #000000; font-family: Arial, Helvetica, Georgia, sans-serif; line-height: 18px;">Isabella Boutique - </span><br style="color: #000000; font-family: Arial, Helvetica, Georgia, sans-serif; line-height: 18px;" /><span style="color: #000000; font-family: Arial, Helvetica, Georgia, sans-serif; line-height: 18px;">Leigh's Favorite Books -</span><span style="color: #000000; font-family: Arial, Helvetica, Georgia, sans-serif; line-height: 18px;"> </span><a href="http://www.leighsbooks.com/" title="" style="text-decoration: underline; color: #05b303; font-family: Arial, Helvetica, Georgia, sans-serif; line-height: 18px;">www.leighsbooks.com</a><br style="color: #000000; font-family: Arial, Helvetica, Georgia, sans-serif; line-height: 18px;" /><span style="color: #000000; font-family: Arial, Helvetica, Georgia, sans-serif; line-height: 18px;">Lilly Macs -</span><span style="color: #000000; font-family: Arial, Helvetica, Georgia, sans-serif; line-height: 18px;"> </span><a href="http://www.lillymacs.com/" title="" style="text-decoration: underline; color: #05b303; font-family: Arial, Helvetica, Georgia, sans-serif; line-height: 18px;"><span style="font-weight: bold;">www.</span><strong>lillymacs.com</strong></a><br style="color: #000000; font-family: Arial, Helvetica, Georgia, sans-serif; line-height: 18px;" /><span style="color: #000000; font-family: Arial, Helvetica, Georgia, sans-serif; line-height: 18px;">Lucky Shot Billiards - </span><a href="http://www.luckyshotbilliards.com/" title="" style="text-decoration: underline; color: #05b303; font-family: Arial, Helvetica, Georgia, sans-serif; line-height: 18px;">www.<strong>luckyshotbilliards</strong>.com/</a><br style="color: #000000; font-family: Arial, Helvetica, Georgia, sans-serif; line-height: 18px;" /><span style="color: #000000; font-family: Arial, Helvetica, Georgia, sans-serif; line-height: 18px;">Palace Café -</span><span style="color: #000000; font-family: Arial, Helvetica, Georgia, sans-serif; line-height: 18px;"> </span><a href="http://www.palacecafe.net/" title="" style="text-decoration: underline; color: #05b303; font-family: Arial, Helvetica, Georgia, sans-serif; line-height: 18px;">palacecafe.net</a><br style="color: #000000; font-family: Arial, Helvetica, Georgia, sans-serif; line-height: 18px;" /><span style="color: #000000; font-family: Arial, Helvetica, Georgia, sans-serif; line-height: 18px;">Roberto's Cantina -  <a href="http://www.robertos-cantina.com/" target="_blank" title="" style="text-decoration: underline; color: #05b303;">http://www.robertos-cantina.com/</a><br />Rok Bistro -</span><span style="color: #000000; font-family: Arial, Helvetica, Georgia, sans-serif; line-height: 18px;"> </span><a href="http://www.rokbistro.com/" title="" style="text-decoration: underline; color: #05b303; font-family: Arial, Helvetica, Georgia, sans-serif; line-height: 18px;">rokbistro.com</a><br style="color: #000000; font-family: Arial, Helvetica, Georgia, sans-serif; line-height: 18px;" /><span style="color: #000000; font-family: Arial, Helvetica, Georgia, sans-serif; line-height: 18px;">Tangerine - <a href="http://www.tangerinestore.com/" title="" style="text-decoration: underline; color: #05b303;">www.<strong>tangerines</strong>tore.com/</a></span><br style="color: #000000; font-family: Arial, Helvetica, Georgia, sans-serif; line-height: 18px;" /><span style="color: #000000; font-family: Arial, Helvetica, Georgia, sans-serif; line-height: 18px;">Vin Vino - </span><a href="http://www.vinovinosj.com/" title="" style="text-decoration: underline; color: #05b303; font-family: Arial, Helvetica, Georgia, sans-serif; line-height: 18px;">www.vinovinosj.com/</a><br style="color: #000000; font-family: Arial, Helvetica, Georgia, sans-serif; line-height: 18px;" /><br style="color: #000000; font-family: Arial, Helvetica, Georgia, sans-serif; line-height: 18px;" /><span style="font-family: Arial, Helvetica, Georgia, sans-serif; line-height: 18px; color: #993399; font-weight: bold; text-decoration: underline;">FOR YOUR SAFETY</span><br style="color: #000000; font-family: Arial, Helvetica, Georgia, sans-serif; line-height: 18px;" /><span style="color: #000000; font-family: Arial, Helvetica, Georgia, sans-serif; line-height: 18px;">The Downtown Wine Stroll is a celebration of fine wines and it is operated under the laws and regulations established by the California State Department of Alcoholic Beverage Control (ABC) for festivals and events. We are also very concerned by your safety and well being and want everyone to have an enjoyable afternoon and safe return home. </span><br style="color: #000000; font-family: Arial, Helvetica, Georgia, sans-serif; line-height: 18px;" /><br style="color: #000000; font-family: Arial, Helvetica, Georgia, sans-serif; line-height: 18px;" /><span style="color: #000000; font-family: Arial, Helvetica, Georgia, sans-serif; font-size: xx-small;"><span style="font-style: italic;">To inquire about a "Designated Driver" please contact Vines & Valleys. For $10 per person they can pick you up and bring you home. Cost will be based on distance and group size, but will be offered for attendees. Vines & Valleys can accommodate up to 10 people per shuttle. For more information and to reserve your designated driver, please contact their office (408) 782-9791 </span><a href="http://www.vinesandvalleys.com/" target="_blank" title="" style="text-decoration: underline; color: #05b303; font-style: italic;">www.vinesandvalleys.com</a><span style="font-style: italic;">.) </span><br /></span><br style="color: #000000; font-family: Arial, Helvetica, Georgia, sans-serif; line-height: 18px;" /><span style="color: #000000; font-family: Arial, Helvetica, Georgia, sans-serif; line-height: 18px;">All of our visitors who are planning on sampling the wines must show proof of legal drinking age when picking up your wine glass the day of the event. You will need to present your photo identification on the day of the event in order to receive your glass. Each participant will be given a wristband and each participant must personally come to the wine glass table to get theirs. The wristband is the proof of legal drinking age as well as your proof of payment of the participation fee. </span><br style="color: #000000; font-family: Arial, Helvetica, Georgia, sans-serif; line-height: 18px;" /><br style="color: #000000; font-family: Arial, Helvetica, Georgia, sans-serif; line-height: 18px;" /><span style="color: #000000; font-family: Arial, Helvetica, Georgia, sans-serif; line-height: 18px;">The Downtown Wine Stroll is a tasting event that is designed to allow you to sample a wide variety of different wines. We are required under ABC license that all tasting take place only inside participating locations. No alcoholic beverages are allowed outside the participating businesses or out on the public sidewalk. Streets will not be closed for this event so please use caution when walking downtown and when crossing the street. </span><br style="color: #000000; font-family: Arial, Helvetica, Georgia, sans-serif; line-height: 18px;" /><br style="color: #000000; font-family: Arial, Helvetica, Georgia, sans-serif; line-height: 18px;" /><span style="color: #000000; font-family: Arial, Helvetica, Georgia, sans-serif; line-height: 18px;">We appreciate your help in observing these rules and hope you enjoy our  Magic of Sunnyvale Wine Stroll.</span></p>
LOCATION:260 S. Sunnyvale Avenue, Sunnyvale, CA. 94086
END:VEVENT
END:VCALENDAR