BEGIN:VCALENDAR
VERSION:2.0
BEGIN:VEVENT
URL:http://www.signaturewines.com/wine-community/events/viewevent/36-sarah-s-vineyard-halloween-party 
DTSTART:20111029T173000
DTEND:20111029T213000
SUMMARY:Sarah's Vineyard Halloween Party
DESCRIPTION:
LOCATION:4005 Hecker Pass Highway, Gilroy, CA
END:VEVENT
END:VCALENDAR