BEGIN:VCALENDAR
VERSION:2.0
BEGIN:VEVENT
URL:http://www.signaturewines.com/wine-community/events/viewevent/360-danville-wine-chocolate-stroll 
DTSTART:20150507T180000
DTEND:20150507T210000
SUMMARY:Danville Wine & Chocolate Stroll
DESCRIPTION:<p>Enjoy a fun-filled evening of wine tasting, decadent chocolates and shopping in Downtown Danville this Thursday, May 7, from 6:00 pm - 9:00 pm. Select businesses will stay open late to host some of our areas finest wines, live music and gourmet chocolate samples. Purchase tickets at http://www.discoverdanvilleca.com/EventSprWineChoc.php</p>
<p>Tickets are $35 per person and can be redeemed for a commemorative wine glass at the corner of Hartz and Prospect Avenues from 5:30 - 7:30pm on the night of the event. Any remaining glasses will be for sales starting at 6:30 pm.</p>
<p>Participating wineries include: <span style="color: #141823; font-family: helvetica, arial, 'lucida grande', sans-serif; line-height: 16px; background-color: #f6f7f8;">McGrail, White Crane, Elliston, Ehrenberg, Renegade, Glennhawk, El Sol, Eagle Ridge, The Vine, Auburn James, Fenestra, Crooked Vine, City Cellars, Boisset and more!</span></p>
<p><span style="color: #141823; font-family: helvetica, arial, 'lucida grande', sans-serif; line-height: 16px; background-color: #f6f7f8;">Designated drivers will have stops at Sideboard, The Bloom Space and Sweet Street</span></p>
LOCATION:Hartz & Prospect Avenue, Danville, CA
END:VEVENT
END:VCALENDAR