BEGIN:VCALENDAR
VERSION:2.0
BEGIN:VEVENT
URL:http://www.signaturewines.com/wine-community/events/viewevent/361-third-annual-first-blush-taste-the-lighter-side-of-summer 
DTSTART:20150509T130000
DTEND:20150509T160000
SUMMARY:Third Annual First Blush: Taste the Lighter Side of Summer 
DESCRIPTION:Celebrate Rosé and the “Lighter Side of Summer” on the Vineyard Terrace at The Meritage Resort! A celebration of Rosé wines and other “lighter” wines including Sauvignon Blanc, Pinot Noir, Rieslings and Sparkling wines, plus a few beers from local breweries to kick off the Summer and the beginning of a very special Mother’s Day Weekend. The event will also feature culinary creations from the chefs of The Meritage Resort and a portion of proceeds will benefit a local charity. Purchase your tickets today at https://www.eventbrite.com/e/first-blush-weekend-tasting-event-and-mothers-day-brunch-tickets-15980800003.
LOCATION:The Meritage Resort and Spa, Napa, CA
END:VEVENT
END:VCALENDAR