BEGIN:VCALENDAR
VERSION:2.0
BEGIN:VEVENT
URL:http://www.signaturewines.com/wine-community/events/viewevent/362-woof-wine-dine 
DTSTART:20150529T183000
DTEND:20150529T213000
SUMMARY:Woof Wine & Dine
DESCRIPTION:Placer County's only dog-friendly food & wine tasting event! Join us for food samples from fine dining restaurants, beer & wine tasting, basket raffles, the Rotary Club of Roseville’s Muttini Bar, games, music and more! Tickets include all food & wine for the evening. Purchase your tickets today at www.placerspca.org/woofwinedine
LOCATION:Vernon Street Town Square - 311 Vernon Street, Roseville, CA
END:VEVENT
END:VCALENDAR