BEGIN:VCALENDAR
VERSION:2.0
BEGIN:VEVENT
URL:http://www.signaturewines.com/wine-community/events/viewevent/363-walnut-creek-wine-walk 
DTSTART:20150617T180000
DTEND:20150617T210000
SUMMARY:Walnut Creek Wine Walk
DESCRIPTION:<p style="margin: 0px 0px 15px; color: #6e6e6e; font-family: merriweathersans, Verdana, Helvetica, Arial, sans-serif; font-size: 14px; line-height: 24px; text-align: center;"><span style="font-size: 12pt;">Enjoy a special wine tasting event throughout</span><br /><span style="font-size: 12pt;">Downtown Walnut Creek!</span></p>
<p style="margin: 0px 0px 15px; color: #6e6e6e; font-family: merriweathersans, Verdana, Helvetica, Arial, sans-serif; font-size: 14px; line-height: 24px; text-align: center;"><span style="font-size: 12pt;">Receive a complimentary wine glass and map at the</span><br /><span style="font-size: 12pt;">starting location-City Hall Walnut Creek, 1666 N. Main St.<br />and begin your tour of your favorite wineries!</span></p>
<p style="margin: 0px 0px 15px; color: #6e6e6e; font-family: merriweathersans, Verdana, Helvetica, Arial, sans-serif; font-size: 14px; line-height: 24px; text-align: center;"><span style="font-size: 12pt;">The Wine Walk features wine tastings in downtown shops,</span><br /><span style="font-size: 12pt;">restaurants, and businesses, and fun prize drawings.</span></p>
<p style="margin: 0px 0px 15px; color: #6e6e6e; font-family: merriweathersans, Verdana, Helvetica, Arial, sans-serif; font-size: 14px; line-height: 24px; text-align: center;"><span style="font-size: 12pt;">Enjoy the beauty and unique experience of</span><br /><span style="font-size: 12pt;">Downtown Walnut Creek, all at your own leisurely pace!</span></p>
<p style="margin: 0px 0px 15px; color: #6e6e6e; font-family: merriweathersans, Verdana, Helvetica, Arial, sans-serif; font-size: 14px; line-height: 24px; text-align: center;"><span style="font-size: 10pt;">Must be 21 or older to participate.</span></p>
<p><span style="font-size: 10pt;"> </span></p>
LOCATION:1666 N Main st Walnut Creek Ca 94596
END:VEVENT
END:VCALENDAR