BEGIN:VCALENDAR
VERSION:2.0
BEGIN:VEVENT
URL:http://www.signaturewines.com/wine-community/events/viewevent/364-wine-hopper-weekend-crusher-games-ii 
DTSTART:20150620T100000
DTEND:20150621T170000
SUMMARY:Wine Hopper Weekend - Crusher Games II
DESCRIPTION:<p><span style="font-family: 'Open Sans', sans-serif, Arial, 'Helvetica Neue', Helvetica; line-height: 17px;">Crush it! With a glass of wine in one hand, and a ping-pong ball in the other, who needs bocce ball? Come sip, play and compete at the Crusher Wine District’s Crusher Games II, a playful twist on the typical wine tasting passport event.</span></p>
<p style="box-sizing: border-box; margin: 0px 0px 10px; line-height: 17px; font-family: Arial; text-align: justify;">Crush it! With a glass of wine in one hand, and a ping-pong ball in the other, who needs bocce ball? Come sip, play and compete at the Crusher Wine District’s Crusher Games II, a playful twist on the typical wine tasting passport event. Explore our cutting-edge collective of modern, edgy and urban wineries clustered in the south district of Napa for our second annual wine crawl. Whimsical games (think wine pong, bung putt-putt, football barrel toss), amazing prizes, and great food.  With specials to celebrate Father’s Day Fun. And a concert to rally the winners and celebrate after at the Champion’s Circle Concert, featuring <a href="http://www.kingsboroughmusic.com/" target="_blank" style="box-sizing: border-box; background-color: transparent; color: #660000;">Kingsborough</a>.</p>
<ul style="box-sizing: border-box; margin-top: 0px; margin-bottom: 10px; font-family: 'Open Sans', sans-serif, Arial, 'Helvetica Neue', Helvetica; line-height: 17px;">
<li style="box-sizing: border-box; font-family: Arial; text-align: justify;">8 Wineries</li>
<li style="box-sizing: border-box; font-family: Arial; text-align: justify;">2 Days – Saturday, June 20 – Official Crusher Games II, Sunday, June 21 – Father’s Day Fun, 10am-5pm</li>
<li style="box-sizing: border-box; font-family: Arial; text-align: justify;">Games & Prizes</li>
<li style="box-sizing: border-box; font-family: Arial; text-align: justify;">Prix Fixe Lunch at Siena, The Meritage Resort & Spa</li>
<li style="box-sizing: border-box; font-family: Arial; text-align: justify;">Box Lunch at Blend, The Meritage Resort & Spa</li>
<li style="box-sizing: border-box; font-family: Arial; text-align: justify;">Rebel-dog Food Truck</li>
<li style="box-sizing: border-box; font-family: Arial; text-align: justify;">Champion’s Circle Concert, featuring Kingsborough, at Humanitas Wines –  June 20th, 4:30pm</li>
<li style="box-sizing: border-box; font-family: Arial; text-align: justify;">$50/person. 2-Day Passes Available -- $75/person. ($250 Value)</li>
</ul>
<p style="box-sizing: border-box; margin: 0px 0px 10px; line-height: 17px; font-family: Arial; text-align: justify;">Many of our member wineries are open by appointment only, but we’ve opened our doors for special experiences at each winery as you “hop” from tasting to tasting for one inclusive fee. </p>
<p style="box-sizing: border-box; margin: 0px 0px 10px; line-height: 17px; font-family: Arial; text-align: justify;">Participating Wineries: Avinodos, Humanitas Wines, J. Moss, Mi Sueno, Spelletich Family Wine Co., The Wine Foundry, Trinitas Cellars and Charles Woodson Wines.<br style="box-sizing: border-box;" />Come experience the edgy, urban and unexpected side of Napa Valley! <span style="box-sizing: border-box;">Make your weekend getaway lodging reservations now by calling The <a href="http://meritageresort.com/" style="box-sizing: border-box; background-color: transparent; color: #660000;">Meritage Resort and Spa</a></span><span style="box-sizing: border-box;"> located in the heart of the Crusher Wine District at <span style="box-sizing: border-box; line-height: 18px;">855.318.1768</span></span></p>
<p style="box-sizing: border-box; margin: 0px 0px 10px; line-height: 17px; font-family: Arial; text-align: justify;"><span style="box-sizing: border-box;"><span style="box-sizing: border-box; line-height: 18px;"><span style="box-sizing: border-box; font-size: small;"><em style="box-sizing: border-box;">**Wineries subject to change. Look at email confirmation and updates for wineries available for each weekend.</em></span></span></span></p>
LOCATION:875 Bordeaux Way, Napa, CA 94558
END:VEVENT
END:VCALENDAR