BEGIN:VCALENDAR
VERSION:2.0
BEGIN:VEVENT
URL:http://www.signaturewines.com/wine-community/events/viewevent/365-13th-annual-pinot-noir-summit 
DTSTART:20150725T113000
DTEND:20150725T213000
SUMMARY:13th Annual Pinot Noir Summit
DESCRIPTION:<p style="margin: 0px; text-align: justify; font-size: 16px; line-height: normal; font-family: 'Times New Roman'; color: #666666;">After 12 years in San Francisco, <a href="http://affairsofthevine.com/"><span style="font-kerning: none; color: #031fa8;">Affairs of the Vine</span></a> has partnered with the <a href="https://www.atlantiscasino.com/"><span style="font-kerning: none; color: #031fa8;">Atlantis Casino Resort Spa</span></a> to bring the 13<span style="font-size: 12px;">th</span> Annual Pinot Noir Summit to the high country of the Sierra and the spectacular Atlantis Casino Resort Spa in Reno on July 25th.</p>
<p style="margin: 0px; text-align: justify; font-size: 16px; line-height: normal; font-family: 'Times New Roman'; color: #666666;">Join us for The 13<span style="font-size: 12px;">th</span> Annual Pinot Noir Summit, the culmination of the Pinot Noir Shootout competition, the largest competition of Pinot Noirs in the wine industry. Over 450 Pinot Noirs have been evaluated by the Affairs of the Vine judging panel. The two day Pinot Noir Summit will celebrate and recognize the top wines and producers from the 13th Pinot Noir Shootout.</p>
<p style="margin: 0px; font-size: 16px; line-height: normal; font-family: 'Times New Roman'; color: #666666;">On Saturday, July 25<span style="font-size: 12px;">th</span>, a full schedule of events and tastings is planned. The Pinot Noir Summit, recognized by <a href="http://www.vinography.com/archives/2014/02/12th_annual_pinot_noir_summit.html"><span style="font-kerning: none; color: #031fa8;">Vinography</span></a> as being “distinctly different” than other tasting events, begins with a series of seminars that will delve into the heart and soul of this unique varietal, followed by a Pinot Pairing Luncheon hosted by winemakers who will circulate as they sample their wines with guests.</p>
<p style="margin: 0px; text-align: justify; font-size: 16px; line-height: normal; font-family: 'Times New Roman'; color: #666666;">The afternoon will be highlighted by the incredibly popular and unique Pinot Noir Challenge Tasting. Attendees blind taste 40 of the top wines selected by the professional judging panel. Male and female votes are tallied separately. The results are announced and winners recognized at the gala Grand Tasting & Awards Ceremony in the evening. Wineries will showcase their award winning Pinot Noirs and other wines they produce. A selection of Pinot-friendly hors d’oeuvre will be served.</p>
<p style="margin: 0px; font-size: 16px; line-height: normal; font-family: 'Times New Roman'; color: #666666;"><strong>Saturday, July 25th</strong></p>
<p style="margin: 0px; font-size: 16px; line-height: normal; font-family: 'Times New Roman'; color: #666666;"><strong>13th Annual Pinot Noir Summit</strong></p>
<p style="margin: 0px; font-size: 16px; line-height: normal; font-family: 'Times New Roman'; color: #666666;"><strong>Full Program Ticket to include 1 Workshop, Blind Tasting, Pinot Pairing Lunch hosted my a multitude of winemakers, and Grand Awards Tasting & Ceremony.</strong></p>
<p style="margin: 0px; font-size: 16px; line-height: normal; font-family: 'Times New Roman'; color: #666666;"><span style="font-kerning: none; color: #27467d;"><strong>Workshops:</strong></span>11:00am to Noon    Two workshops to run concurrently. </p>
<p style="margin: 0px; font-size: 16px; line-height: normal; font-family: 'Times New Roman'; color: #27467d;"><strong>Seminar Options:</strong></p>
<ul>
<li style="margin: 0px; font-size: 16px; line-height: normal; font-family: 'Times New Roman'; color: #666666;"><strong>Discover the Velvet: A Vertical Tasting</strong> ~ Pinot Noir producers will share two to three vintages of Pinot Noir, showing the development of the seductiveness of this wonderful grape that develops with time in the bottle. </li>
<li style="margin: 0px; font-size: 16px; line-height: normal; font-family: 'Times New Roman'; color: #666666;"><strong>Pinot Noir: The Wine That Speaks the Loudest from the Vineyard </strong>~Winemakers from five premier appellations will discuss the capacity of Pinot Noir to reflect unique characteristics of environment and site. Each winemaker will present a single wine to taste that best reflects and demonstrates the unique aspects of their region and/or particular site. </li>
</ul>
<p style="margin: 0px; font-size: 16px; line-height: normal; font-family: 'Times New Roman'; color: #27467d;"><strong>Flat Bread Pairing Lunch: </strong><span style="font-kerning: none; color: #666666;"><strong>12:15pm-1:30pm</strong></span></p>
<p style="margin: 0px; font-size: 16px; line-height: normal; font-family: 'Times New Roman'; color: #666666;">A casual lunch featuring flat breads with toppings paired to be paired with “anything Pinot” including Pinot Noir, Pinot Gris, Pinot Blanc, Pinot Meunier, or Sparkling which includes Pinot Noir or Pinot Meunier in the cuvee. Winemakers will circulate sharing tastes of their wines. <br /> <br /> <span style="font-kerning: none; color: #27467d;"><strong>Wine Lovers Pinot Noir Challenge ~ A Blind Tasting</strong></span><strong>: 1:30pm-4:00pm  Emerald Meeting Rooms</strong></p>
<p style="margin: 0px; font-size: 16px; line-height: normal; font-family: 'Times New Roman'; color: #666666;">Guests will blind taste a selection of the top-rated wines from the 13th Annual Pinot Noir Shootout in the Blind Tasting. Each guest will taste the selected wines and pit their palates against the expert panel </p>
<p style="margin: 0px; font-size: 16px; line-height: normal; font-family: 'Times New Roman'; color: #27467d;"><strong>Grand Awards Tasting & Ceremony</strong><span style="font-kerning: none; color: #666666;"><strong>: 6:30pm-9:30pm</strong> </span></p>
<ul>
<li style="margin: 0px; font-size: 16px; line-height: normal; font-family: 'Times New Roman'; color: #666666;">Wineries will showcase their Pinot Noirs and other key varietals/wines that they produce. Meet the winemakers and discuss one on one their approach and philosophy to winemaking. </li>
<li style="margin: 0px; font-size: 16px; line-height: normal; font-family: 'Times New Roman'; color: #666666;">The final results of the both the professional judging of the 13<span style="font-size: 12px;">th</span> Annual Pinot Noir Shootout and the results from the Wine Lovers Blind Tasting will be announced at 8:00pm. </li>
<li style="margin: 0px; font-size: 16px; line-height: normal; font-family: 'Times New Roman'; color: #666666;">Food selections will include specially paired hors d'oeuvre.</li>
</ul>
<p style="margin: 0px; font-size: 16px; line-height: normal; font-family: 'Times New Roman'; color: #666666;"><strong>Special Atlantis Casino Resort Spa Rates   </strong></p>
<p> </p>
<p style="margin: 0px; font-size: 16px; line-height: normal; font-family: 'Times New Roman'; color: #666666;">Pinot Noir Summit attendees may register for a one or two-night stay at the Atlantis Casino Resort Spa with a special room rate of $149 per night plus tax and fees. Reservations can be made by calling 800.723.6500. Reference the 13<span style="font-size: 12px;">th</span> Pinot Noir Summit to access the special room rate or make your reservations <a href="https://www.reserveparadise.com/cgi-bin/lansaweb?procfun+rn+resnet+atl+funcparms+UP%28A2560%29:;SPINOT;072415;2;1;0;100100;;;;;;;;;;;;;;;;R;;;;;?origin=Home"><span style="font-kerning: none; color: #031fa8;">online</span></a> using the group code <strong>SPINOT</strong></p>
LOCATION:3800 S Virginia St, Reno, NV 89502
END:VEVENT
END:VCALENDAR