BEGIN:VCALENDAR
VERSION:2.0
BEGIN:VEVENT
URL:http://www.signaturewines.com/wine-community/events/viewevent/366-chic-metropolitan-chic-wine-food-soiree-maiden-lane 
DTSTART:20150725T120000
DTEND:20150725T220000
SUMMARY:Chic Metropolitan "Chic WINE & FOOD" Soiree @ MAIDEN LANE
DESCRIPTION:<p><span style="color: #141823; font-family: helvetica, arial, sans-serif; font-size: 14px; line-height: 18px;">It is OFFICIAL Chic Metropolitan Magazine has officially locked in the date of our Chic Wine and Food Event on San Francisco's prestigious Maiden Lane. On July 25th our Chic Team will put on the very best Wine, Food, Music, and Fashion event to hit San Francisco. </span><br style="color: #141823; font-family: helvetica, arial, sans-serif; font-size: 14px; line-height: 18px;" /><br style="color: #141823; font-family: helvetica, arial, sans-serif; font-size: 14px; line-height: 18px;" /><span style="color: #141823; font-family: helvetica, arial, sans-serif; font-size: 14px; line-height: 18px;">Brought to you by </span><br style="color: #141823; font-family: helvetica, arial, sans-serif; font-size: 14px; line-height: 18px;" /><span style="color: #141823; font-family: helvetica, arial, sans-serif; font-size: 14px; line-height: 18px;">United Capital </span><a href="http://l.facebook.com/l.php?u=http%3A%2F%2Fwww.unitedcapitalSF.com%2F&h=HAQFJZ7nb&enc=AZOirVexyIp2ElJ76oAOcmjX7S3heYaLsQPBcPfqvX9Xdkvpu9EwGnX6_lPvOcD1oWw&s=1" target="_blank" rel="nofollow nofollow" style="color: #3b5998; cursor: pointer; font-family: helvetica, arial, sans-serif; font-size: 14px; line-height: 18px;">www.unitedcapitalSF.com</a><br style="color: #141823; font-family: helvetica, arial, sans-serif; font-size: 14px; line-height: 18px;" /><br style="color: #141823; font-family: helvetica, arial, sans-serif; font-size: 14px; line-height: 18px;" /><span style="color: #141823; font-family: helvetica, arial, sans-serif; font-size: 14px; line-height: 18px;">Maiden Lane is the Soho of San Francisco </span><br style="color: #141823; font-family: helvetica, arial, sans-serif; font-size: 14px; line-height: 18px;" /><br style="color: #141823; font-family: helvetica, arial, sans-serif; font-size: 14px; line-height: 18px;" /><span style="color: #141823; font-family: helvetica, arial, sans-serif; font-size: 14px; line-height: 18px;">"DAY PARTY"</span><br style="color: #141823; font-family: helvetica, arial, sans-serif; font-size: 14px; line-height: 18px;" /><br style="color: #141823; font-family: helvetica, arial, sans-serif; font-size: 14px; line-height: 18px;" /><span style="color: #141823; font-family: helvetica, arial, sans-serif; font-size: 14px; line-height: 18px;">We will also be bringing in the following to take this Chic event to the next level. </span><br style="color: #141823; font-family: helvetica, arial, sans-serif; font-size: 14px; line-height: 18px;" /><br style="color: #141823; font-family: helvetica, arial, sans-serif; font-size: 14px; line-height: 18px;" /><span style="color: #141823; font-family: helvetica, arial, sans-serif; font-size: 14px; line-height: 18px;">- VIP ROOM and VIP CHIC PARTY </span><span class="text_exposed_show" style="display: inline; color: #141823; font-family: helvetica, arial, sans-serif; font-size: 14px; line-height: 18px;"><br />- San Francisco's top restaurants will be doing tasting's <br />- Celebrity Music Performer  <br />- Over $100,000 in production Sound, Lighting,<br /><br />Chic Metropolitan hand picked Maiden Lane because it's one of the premier outdoor spaces in San Francisco. It is notable for it's proximity to Union Square and it's concentration of upscale retailer's, including Gucci, Chanel, Marc Jacob, & Ynes Saint Laurent <br /><br />Music By <br />DJ Zhaldee <br />Dj Tommy Sunderland<br /><br />Check out our past Chic Party photos<br /><a href="http://l.facebook.com/l.php?u=http%3A%2F%2Fwww.chicmetropolitan.com%2Fchic-party-photos%2F&h=1AQGdyeaE&enc=AZMkVHW3-72Hx-K1z18qyDS3cUU4ibmAuwwYM_tcuNj59valDk05ozNPOf6iF9EHdTA&s=1" target="_blank" rel="nofollow nofollow" style="color: #3b5998; cursor: pointer;">http://www.chicmetropolitan.com/chic-party-photos/</a><br /><br />Contact us to see how you can be involved. More information soon at <a href="http://www.chicmetropolitan.com/" target="_blank" rel="nofollow nofollow" style="color: #3b5998; cursor: pointer;">www.chicmetropolitan.com</a><br /><br />To sponsor this big Chic event contact <br />sales@chicmetropolitan.com<br /><br />SF Fire Fighter's Toy Programhttp://www.sffirefighterstoys.org<br />Run by the SF Firefighter's Union and a 501-C3<br /><br />Champagne tastings at <br />Alexander McQueen <br />Christian Louboutin<br /><br />Brought to you by <br />United Capital <a href="http://l.facebook.com/l.php?u=http%3A%2F%2Fwww.unitedcapitalSF.com%2F&h=TAQFxkyLa&enc=AZOvzbsn-FoT9Limek986T1vQnblO-IdzZCQBml3fk0w3bYywPfRBN6sUck3XNk9ve0&s=1" target="_blank" rel="nofollow nofollow" style="color: #3b5998; cursor: pointer;">www.unitedcapitalSF.com</a><br /><br />Sponsored by <br />Nesspresso <a href="https://www.facebook.com/l.php?u=https%3A%2F%2Fwww.nespresso.com%2Fus%2Fen%2F&h=zAQGDv9ea&enc=AZP5CIYE55UOt1tbT2fECQAkUJK4rNEnOrr5k9_pHXBQt2_3rNgoPiNUpfaBS0Cpoz0&s=1" target="_blank" rel="nofollow nofollow" style="color: #3b5998; cursor: pointer;">https://www.nespresso.com/us/en/</a><br />Diptyque Paris <a href="http://l.facebook.com/l.php?u=http%3A%2F%2Fwww.diptyqueparis.com%2F&h=2AQEikP2g&enc=AZNSWMdRwKmChiZw6B7puO7t9JEENh0AVCPGuV_FHl0iyjmJcfCTKsy_GpbUrkl1nTA&s=1" target="_blank" rel="nofollow nofollow" style="color: #3b5998; cursor: pointer;">www.diptyqueparis.com</a><br />MBJessee Painting <a href="http://l.facebook.com/l.php?u=http%3A%2F%2Fwww.mbjessee.com%2F&h=1AQGdyeaE&enc=AZOP-TgEW5jkJaf4Tux36DVtsWGRu3oMiyXAoLoP7rZT_4ea2qUc4VnldmQUdu1UEDk&s=1" target="_blank" rel="nofollow nofollow" style="color: #3b5998; cursor: pointer;">http://www.mbjessee.com/</a><br /><br />Co Media Sponsor <br />IVY<br /><a href="http://l.facebook.com/l.php?u=http%3A%2F%2Fwww.ivy.com%2F&h=CAQGF40Ph&enc=AZMNyevuQi0nIMitYSU99VoyKf8aJaYz_0dW0ubuUIlnm9acE5RLvKTyQC5MxM2OHHU&s=1" target="_blank" rel="nofollow nofollow" style="color: #3b5998; cursor: pointer;">www.ivy.com</a> <br /><br /><br />VIP Sponsored by The Ultimate place for a VIP party <br />Hawthorn <br /><a href="http://hawthornsf.com/" target="_blank" rel="nofollow nofollow" style="color: #3b5998; cursor: pointer;">http://hawthornsf.com/</a><br /><br />Chic Wine Sponsors <br /><br />Alpha Omega Winery<br />OakFarm Winery<br />Speratus Winery<br />Webster Cellars<br />Viaggio Winery <br />Define Wines<br />Bulgarian Wine<br />Kelly Family Vineyards <br />Vino Noceto Winery<br /><br />Join us to help children in need! Our official Chic Charity is <br /><a href="http://l.facebook.com/l.php?u=http%3A%2F%2Fwww.sffirefighterstoys.org%2F&h=4AQGu9HUI&enc=AZPzGiQ01yJVuk4sM8M8O4_OtvNQ098ALkAka9Gpo39G-diE5lwJUDHbq9uaV6TKqOk&s=1" target="_blank" rel="nofollow nofollow" style="color: #3b5998; cursor: pointer;">www.sffirefighterstoys.org</a> Bring a toy this weekend to help the San Francisco Fire Department</span></p>
LOCATION:	 Show Map Maiden Lane, San Franciso, Ca San Francisco, California 94108
END:VEVENT
END:VCALENDAR