BEGIN:VCALENDAR
VERSION:2.0
BEGIN:VEVENT
URL:http://www.signaturewines.com/wine-community/events/viewevent/368-urban-wine-xperience 
DTSTART:20150801T130000
DTEND:20150801T160000
SUMMARY:Urban Wine Xperience
DESCRIPTION:<p style="box-sizing: border-box; margin: 0px 0px 1.5rem; padding: 0px; line-height: 1.5em; color: #444444; font-family: 'Source Sans Pro', helvetica, sans-serif; font-size: 13px;"><span style="box-sizing: border-box; font-weight: bold;">Urban Wine Xperience – Saturday, August 1, 2015</span></p>
<p style="box-sizing: border-box; margin: 0px 0px 1.5rem; padding: 0px; line-height: 1.5em; color: #444444; font-family: 'Source Sans Pro', helvetica, sans-serif; font-size: 13px;">55 Harrison St. – Jack London Square, Oakland</p>
<p style="box-sizing: border-box; margin: 0px 0px 1.5rem; padding: 0px; line-height: 1.5em; color: #444444; font-family: 'Source Sans Pro', helvetica, sans-serif; font-size: 13px;">1:00 – 4:00 p.m.</p>
<p style="box-sizing: border-box; margin: 0px 0px 1.5rem; padding: 0px; line-height: 1.5em; color: #444444; font-family: 'Source Sans Pro', helvetica, sans-serif; font-size: 13px;">Participating wineries include: <a href="http://www.aubincellars.com/" style="box-sizing: border-box; background-color: transparent; -webkit-transition: all 0.1s ease-in-out; transition: all 0.1s ease-in-out; color: #2483d0;">Aubin Cellars</a>, <a href="http://www.caricawines.com/" style="box-sizing: border-box; background-color: transparent; -webkit-transition: all 0.1s ease-in-out; transition: all 0.1s ease-in-out; color: #2483d0;">Carica Wines</a>, <a href="http://www.chouinard.com/" style="box-sizing: border-box; background-color: transparent; -webkit-transition: all 0.1s ease-in-out; transition: all 0.1s ease-in-out; color: #2483d0;">Chouinard Vineyard and Winery</a>, <a href="https://www.dashecellars.com/" style="box-sizing: border-box; background-color: transparent; -webkit-transition: all 0.1s ease-in-out; transition: all 0.1s ease-in-out; color: #2483d0;">Dashe Cellars</a>, <a href="http://www.jeffcohncellars.com/" style="box-sizing: border-box; background-color: transparent; -webkit-transition: all 0.1s ease-in-out; transition: all 0.1s ease-in-out; color: #2483d0;">Jeff Cohn Cellars</a>, <a href="http://www.meadkitchen.com/" style="box-sizing: border-box; background-color: transparent; -webkit-transition: all 0.1s ease-in-out; transition: all 0.1s ease-in-out; color: #2483d0;">Mead Kitchen</a>, <a href="http://rbcellars.com/" style="box-sizing: border-box; background-color: transparent; -webkit-transition: all 0.1s ease-in-out; transition: all 0.1s ease-in-out; color: #2483d0;">R&B Cellars</a>, <a href="http://www.rockwallwines.com/" style="box-sizing: border-box; background-color: transparent; -webkit-transition: all 0.1s ease-in-out; transition: all 0.1s ease-in-out; color: #2483d0;">Rock Wall Wine Company</a>, <a href="https://www.rosenblumcellars.com/" style="box-sizing: border-box; background-color: transparent; -webkit-transition: all 0.1s ease-in-out; transition: all 0.1s ease-in-out; color: #2483d0;">Rosenblum Cellars</a>, <a href="http://www.stageleftcellars.com/" style="box-sizing: border-box; background-color: transparent; -webkit-transition: all 0.1s ease-in-out; transition: all 0.1s ease-in-out; color: #2483d0;">Stage Left Cellars</a>, <a href="http://paradoxwine.com/" style="box-sizing: border-box; background-color: transparent; -webkit-transition: all 0.1s ease-in-out; transition: all 0.1s ease-in-out; color: #2483d0;">Paradox Wines</a>, <a href="http://www.ulcellars.com/" style="box-sizing: border-box; background-color: transparent; -webkit-transition: all 0.1s ease-in-out; transition: all 0.1s ease-in-out; color: #2483d0;">Urban Legend Cellars</a> and <a href="http://www.urbanocellars.com/" style="box-sizing: border-box; background-color: transparent; -webkit-transition: all 0.1s ease-in-out; transition: all 0.1s ease-in-out; color: #2483d0;">Urbano Cellars</a>.</p>
<p style="box-sizing: border-box; margin: 0px 0px 1.5rem; padding: 0px; line-height: 1.5em; color: #444444; font-family: 'Source Sans Pro', helvetica, sans-serif; font-size: 13px;"><span style="font-size: 16px; line-height: 24px; background-color: #e1e6ea;">The East Bay Vintners Alliance (EBVA) is an association representing more than 20 vintners who live and work in what has become known as Urban Wine Country. This region, just minutes from the heart of San Francisco, includes family-owned wineries in Oakland, Berkeley and Alameda. Producing wine locally in former factories, tanneries and even an airline hangar, these pioneering urban winemakers offer an extraordinary range of varietals from the most popular to the exotic at every price point.</span></p>
<p> </p>
LOCATION:55 Harrison St. – Jack London Square, Oakland
END:VEVENT
END:VCALENDAR