BEGIN:VCALENDAR
VERSION:2.0
BEGIN:VEVENT
URL:http://www.signaturewines.com/wine-community/events/viewevent/369-2015-valley-of-the-moon-vintage-festival 
DTSTART:20150925T180000
DTEND:20150927T160000
SUMMARY:2015 Valley of the Moon Vintage Festival
DESCRIPTION:<p style="line-height: normal; margin: 0px; padding: 0px 0px 8px; color: #666666; font-family: 'Helvetica Neue', Helvetica, Arial, sans-serif; font-size: 13px; letter-spacing: 0.5px;"><span class="cufon cufon-vml" style="width: 92px; height: 28px;"><span class="cufon-alt">Welcome to the 118th Valley of the Moon Vintage Festival! The 2015 Opening Night Gala takes place under the summer night stars in the historic Sonoma Barracks on the Sonoma Plaza. Live music, over 50 wineries pouring, food tastings by Valley restaurants, specialty shops, and caterers are all available to enjoy at your leisure. Not only is the Opening Night Gala about food, wine, and great entertainment, but like the Vintage Festival itself it is about celebration. Join us for a fun filled evening of wine, food and music to dance the night away!<br /></span></span></p>
<p style="line-height: normal; margin: 0px; padding: 0px 0px 8px; color: #666666; font-family: 'Helvetica Neue', Helvetica, Arial, sans-serif; font-size: 13px; letter-spacing: 0.5px;"><span style="text-decoration: underline;"><span class="cufon cufon-vml" style="width: 92px; height: 28px;"><span class="cufon-alt">Weekend Event </span></span><span class="cufon cufon-vml" style="width: 132px; height: 28px;"><span class="cufon-alt">Schedule</span></span></span></p>
<p style="line-height: normal; margin: 0px; padding: 0px 0px 8px; color: #666666; font-family: 'Helvetica Neue', Helvetica, Arial, sans-serif; font-size: 13px; letter-spacing: 0.5px;"><span style="font-weight: bold;">FRIDAY</span> - Opening Night Gala featuring live music, silent auction, wine and food tasting!</p>
<p style="line-height: normal; margin: 0px; padding: 0px 0px 8px; color: #666666; font-family: 'Helvetica Neue', Helvetica, Arial, sans-serif; font-size: 13px; letter-spacing: 0.5px;"><span style="font-weight: bold;">SATURDAY</span> - Firefighters Water Fight, Grape Stomp Competition, Arts & Crafts Booths, Food, Live Music, Wine Tasting, Kids Events, Evening "Get Your Glow On" Parade!</p>
<p style="line-height: normal; margin: 0px; padding: 0px 0px 8px; color: #666666; font-family: 'Helvetica Neue', Helvetica, Arial, sans-serif; font-size: 13px; letter-spacing: 0.5px;"><span style="font-weight: bold;">SUNDAY</span> - Sonoma Vintage 12K and 5K Runs, Grape Stomp Competition, Arts & Crafts Booths, Food, Live Music, Wine Tasting, Kids Events.</p>
LOCATION:Sonoma Barracks - Sonoma Plaza 2 West Spain Street  Sonoma, CA 95476
END:VEVENT
END:VCALENDAR