BEGIN:VCALENDAR
VERSION:2.0
BEGIN:VEVENT
URL:http://www.signaturewines.com/wine-community/events/viewevent/37-fenestra-winery-holiday-wine-tasting 
DTSTART:20111119T120000
DTEND:20111120T170000
SUMMARY:Fenestra Winery Holiday Wine Tasting
DESCRIPTION:<p>The foods of the holidays, especially Thanksgiving, are highlighted at  this festive tasting. New wines for the holidays, gift items, Belgian  chocolate truffles filled with Fenestra Port. There is a $10 charge for  this event.  <em>Nov 19 & 20, 2011 noon-5pm </em></p>
LOCATION:Fenestra Winery 83 Vallecitos Road (Formerly CA Hwy 84)  Livermore, CA 94550
END:VEVENT
END:VCALENDAR