BEGIN:VCALENDAR
VERSION:2.0
BEGIN:VEVENT
URL:http://www.signaturewines.com/wine-community/events/viewevent/370-yai-it-s-oyster-day-at-burrell-vineyards-and-winery 
DTSTART:20150822T110000
DTEND:20150822T170000
SUMMARY:Yai! It's OYSTER DAY at Burrell Vineyards and Winery
DESCRIPTION:
LOCATION:Burrell School Vineyards & Winery 24060 Summit Road, Los Gatos, CA 95033 United States
END:VEVENT
END:VCALENDAR