BEGIN:VCALENDAR
VERSION:2.0
BEGIN:VEVENT
URL:http://www.signaturewines.com/wine-community/events/viewevent/377-bargetto-winery-s-thursday-night-music-series-bargetto-winery-s-creekside-courtyard 
DTSTART:20150820T180000
DTEND:20150820T200000
SUMMARY:BARGETTO WINERY’S Thursday Night Music Series @ BARGETTO WINERY'S Creekside Courtyard
DESCRIPTION:<p style="box-sizing: border-box; margin: 0px 0px 28px; padding: 0px; font-family: 'Open Sans', sans-serif; font-size: 16px; line-height: 22px;">BARGETTO WINERY’S Thursday Night Music Series is every Thursday in July and August from 6:00pm-8:00pm in our scenic, creek side courtyard. No cover charge. Wine by the glass and food by Erika’s Catering available for purchase.</p>
<p> </p>
<p style="box-sizing: border-box; margin: 0px 0px 28px; padding: 0px; font-family: 'Open Sans', sans-serif; font-size: 16px; line-height: 22px;"><em style="box-sizing: border-box;">Bands:</em><span style="box-sizing: border-box; font-weight: bold;"><br style="box-sizing: border-box;" />July 30- <a href="https://www.facebook.com/pages/7th-Wave/124927233049" style="box-sizing: border-box; -webkit-transition: all 0.1s ease-in-out; transition: all 0.1s ease-in-out; color: #9b0000; font-style: italic; font-weight: bold; background-position: 0px 0px;">7th Wave</a> (Acoustic Rock)<br style="box-sizing: border-box;" />August 6- Tsunami Light (R&B, Classic Rock)<br style="box-sizing: border-box;" />August 13- <a href="http://dohbros.com/" style="box-sizing: border-box; -webkit-transition: all 0.1s ease-in-out; transition: all 0.1s ease-in-out; color: #9b0000; font-style: italic; font-weight: bold; background-position: 0px 0px;">D’oh Bros</a> (Classic Rock Covers)<br style="box-sizing: border-box;" />Aug 20- July Fire (Jazz, Contemporary Rock & Roll)<br style="box-sizing: border-box;" />Aug 27- <a href="https://www.facebook.com/TheJointChiefsBand" style="box-sizing: border-box; -webkit-transition: all 0.1s ease-in-out; transition: all 0.1s ease-in-out; color: #9b0000; font-style: italic; font-weight: bold; background-position: 0px 0px;">The Joint Chiefs</a> (Funk, R&B)</span></p>
LOCATION:BARGETTO WINERY'S Creekside Courtyard 3535 North Main Street Soquel, CA 95073
END:VEVENT
END:VCALENDAR