BEGIN:VCALENDAR
VERSION:2.0
BEGIN:VEVENT
URL:http://www.signaturewines.com/wine-community/events/viewevent/379-wind-to-wine-festival 
DTSTART:20150808T130000
DTEND:20150808T160000
SUMMARY:WIND TO WINE FESTIVAL
DESCRIPTION:<p><span style="color: #111111; font-family: 'Helvetica Neue', Helvetica, Arial, sans-serif; font-size: 16px; line-height: 26px; background-color: #f9f9f9;">Don’t miss this chance to taste some of the Petaluma Gap’s finest Chardonnay, Pinot Noir and Syrah at the inaugural </span><strong style="border: 0px; font-family: 'Helvetica Neue', Helvetica, Arial, sans-serif; font-size: 16px; margin: 0px; outline: 0px; padding: 0px; vertical-align: baseline; color: #111111; line-height: 26px;"><em style="border: 0px; font-family: inherit; font-weight: inherit; margin: 0px; outline: 0px; padding: 0px; vertical-align: baseline;">WIND</em> to</strong><span style="color: #111111; font-family: 'Helvetica Neue', Helvetica, Arial, sans-serif; font-size: 16px; line-height: 26px; background-color: #f9f9f9;"> </span><strong style="border: 0px; font-family: 'Helvetica Neue', Helvetica, Arial, sans-serif; font-size: 16px; margin: 0px; outline: 0px; padding: 0px; vertical-align: baseline; color: #111111; line-height: 26px;">WINE </strong><span style="color: #111111; font-family: 'Helvetica Neue', Helvetica, Arial, sans-serif; font-size: 16px; line-height: 26px; background-color: #f9f9f9;">Festival at the Sheraton Petaluma on Saturday, August 8th. More than 60 wines will be available for tasting, including some limited production and library wines. We anticipate selling out, so book your tickets today! Tickets will NOT be available at the door! You must be 21+ to participate in the tasting.</span></p>
<p> </p>
<p style="margin: 0px; font-size: 16px; line-height: normal; font-family: 'Helvetica Neue'; color: #101010;"><span style="font-kerning: none; background-color: #f9f9f9;"><strong>Wineries Participating in the <em>Grand Tasting</em> Include:</strong></span></p>
<p style="margin: 0px; font-size: 16px; line-height: normal; font-family: 'Helvetica Neue Light'; color: #101010; min-height: 18px;"> </p>
<p style="margin: 0px; font-size: 16px; line-height: normal; font-family: 'Helvetica Neue Light'; color: #101010;"><span style="font-kerning: none; background-color: #f9f9f9;">Atlas Wine Company</span></p>
<p style="margin: 0px; font-size: 16px; line-height: normal; font-family: 'Helvetica Neue Light'; color: #101010;"><span style="font-kerning: none; background-color: #f9f9f9;">B. Kosuge</span></p>
<p style="margin: 0px; font-size: 16px; line-height: normal; font-family: 'Helvetica Neue Light'; color: #101010;"><span style="font-kerning: none; background-color: #f9f9f9;">Bailiwick Wines</span></p>
<p style="margin: 0px; font-size: 16px; line-height: normal; font-family: 'Helvetica Neue Light'; color: #101010;"><span style="font-kerning: none; background-color: #f9f9f9;">Bedrock Wine Co.</span></p>
<p style="margin: 0px; font-size: 16px; line-height: normal; font-family: 'Helvetica Neue Light'; color: #101010;"><span style="font-kerning: none; background-color: #f9f9f9;">Brooks Note Winery</span></p>
<p style="margin: 0px; font-size: 16px; line-height: normal; font-family: 'Helvetica Neue Light'; color: #101010;"><span style="font-kerning: none; background-color: #f9f9f9;">Bruliam Wines</span></p>
<p style="margin: 0px; font-size: 16px; line-height: normal; font-family: 'Helvetica Neue Light'; color: #101010;"><span style="font-kerning: none; background-color: #f9f9f9;">Calstar Cellars</span></p>
<p style="margin: 0px; font-size: 16px; line-height: normal; font-family: 'Helvetica Neue Light'; color: #101010;"><span style="font-kerning: none; background-color: #f9f9f9;">Clary Ranch Wines</span></p>
<p style="margin: 0px; font-size: 16px; line-height: normal; font-family: 'Helvetica Neue Light'; color: #101010;"><span style="font-kerning: none; background-color: #f9f9f9;">Clouds Rest</span></p>
<p style="margin: 0px; font-size: 16px; line-height: normal; font-family: 'Helvetica Neue Light'; color: #101010;"><span style="font-kerning: none; background-color: #f9f9f9;">DeLoach Vineyards</span></p>
<p style="margin: 0px; font-size: 16px; line-height: normal; font-family: 'Helvetica Neue Light'; color: #101010;"><span style="font-kerning: none; background-color: #f9f9f9;">Enriquez Estate</span></p>
<p style="margin: 0px; font-size: 16px; line-height: normal; font-family: 'Helvetica Neue Light'; color: #101010;"><span style="font-kerning: none; background-color: #f9f9f9;">Fogline Vineyards</span></p>
<p style="margin: 0px; font-size: 16px; line-height: normal; font-family: 'Helvetica Neue Light'; color: #101010;"><span style="font-kerning: none; background-color: #f9f9f9;">Guarachi Family Wines</span></p>
<p style="margin: 0px; font-size: 16px; line-height: normal; font-family: 'Helvetica Neue Light'; color: #101010;"><span style="font-kerning: none; background-color: #f9f9f9;">Keller Estate</span></p>
<p style="margin: 0px; font-size: 16px; line-height: normal; font-family: 'Helvetica Neue Light'; color: #101010;"><span style="font-kerning: none; background-color: #f9f9f9;">Kendric Vineyards</span></p>
<p style="margin: 0px; font-size: 16px; line-height: normal; font-family: 'Helvetica Neue Light'; color: #101010;"><span style="font-kerning: none; background-color: #f9f9f9;">Kosta Browne Winery</span></p>
<p style="margin: 0px; font-size: 16px; line-height: normal; font-family: 'Helvetica Neue Light'; color: #101010;"><span style="font-kerning: none; background-color: #f9f9f9;">Loxton Cellars</span></p>
<p style="margin: 0px; font-size: 16px; line-height: normal; font-family: 'Helvetica Neue Light'; color: #101010;"><span style="font-kerning: none; background-color: #f9f9f9;">MacPhail Family Wines</span></p>
<p style="margin: 0px; font-size: 16px; line-height: normal; font-family: 'Helvetica Neue Light'; color: #101010;"><span style="font-kerning: none; background-color: #f9f9f9;">McEvoy Ranch</span></p>
<p style="margin: 0px; font-size: 16px; line-height: normal; font-family: 'Helvetica Neue Light'; color: #101010;"><span style="font-kerning: none; background-color: #f9f9f9;">Morris Ranch</span></p>
<p style="margin: 0px; font-size: 16px; line-height: normal; font-family: 'Helvetica Neue Light'; color: #101010;"><span style="font-kerning: none; background-color: #f9f9f9;">Pax Mahle Wines</span></p>
<p style="margin: 0px; font-size: 16px; line-height: normal; font-family: 'Helvetica Neue Light'; color: #101010;"><span style="font-kerning: none; background-color: #f9f9f9;">Pellet Estate</span></p>
<p style="margin: 0px; font-size: 16px; line-height: normal; font-family: 'Helvetica Neue Light'; color: #101010;"><span style="font-kerning: none; background-color: #f9f9f9;">Pfendler Vineyards</span></p>
<p style="margin: 0px; font-size: 16px; line-height: normal; font-family: 'Helvetica Neue Light'; color: #101010;"><span style="font-kerning: none; background-color: #f9f9f9;">Ramey Wine Cellars</span></p>
<p style="margin: 0px; font-size: 16px; line-height: normal; font-family: 'Helvetica Neue Light'; color: #101010;"><span style="font-kerning: none; background-color: #f9f9f9;">Sojourn Cellars</span></p>
<p style="margin: 0px; font-size: 16px; line-height: normal; font-family: 'Helvetica Neue Light'; color: #101010;"><span style="font-kerning: none; background-color: #f9f9f9;">Sonoma Portworks</span></p>
<p style="margin: 0px; font-size: 16px; line-height: normal; font-family: 'Helvetica Neue Light'; color: #101010;"><span style="font-kerning: none; background-color: #f9f9f9;">Three Sticks Wine</span></p>
<p style="margin: 0px; font-size: 16px; line-height: normal; font-family: 'Helvetica Neue Light'; color: #101010;"><span style="font-kerning: none; background-color: #f9f9f9;">Trombetta Family Wines</span></p>
<p style="margin: 0px; font-size: 16px; line-height: normal; font-family: 'Helvetica Neue Light'; color: #101010;"><span style="font-kerning: none; background-color: #f9f9f9;">WALT Wines</span></p>
<p style="margin: 0px; font-size: 16px; line-height: normal; font-family: 'Helvetica Neue Light'; color: #101010;">Waxwing Wines</p>
LOCATION:Sheraton Sonoma County - Petaluma 745 Baywood Dr  Petaluma, CA - California 94954
END:VEVENT
END:VCALENDAR