BEGIN:VCALENDAR
VERSION:2.0
BEGIN:VEVENT
URL:http://www.signaturewines.com/wine-community/events/viewevent/38-guglielmo-winery-bottle-your-own-event 
DTSTART:20111105T100000
DTEND:20111105T150000
SUMMARY:Guglielmo Winery Bottle your Own event
DESCRIPTION:<div id="eventDetails" class="nlRightPara" style="display: block;"><span class="eventTitle">Bottle Your Own<br />Saturday November 5th---10am -3pm</span>
<div class="evenLilerDivider"></div>
<p>Bottle your own red wine! Bring your clean bottles or purchase them  at the winery for $1.00, then fill them using our antique filler.</p>
<p>We cork them, you label them - only $5.00 per bottle! Stay and enjoy  delicious Italian delicacies at our Chef's Table, listen to our  accordion player and peruse our vendor's tables.</p>
<p>This is one of our most popular events and is always a fun time!</p>
</div>
LOCATION:1480 East Main Avenue Morgan Hill, CA 95037
END:VEVENT
END:VCALENDAR