BEGIN:VCALENDAR
VERSION:2.0
BEGIN:VEVENT
URL:http://www.signaturewines.com/wine-community/events/viewevent/380-an-evening-on-the-beach 
DTSTART:20150806T180000
DTEND:20150806T220000
SUMMARY:An Evening On the Beach
DESCRIPTION:<p><span style="color: #141823; font-family: helvetica, arial, sans-serif; font-size: 14px; line-height: 18px;">Notable L.A. chefs prepare tempting summer menus on grills set out on the sand. Enjoy specialty cocktails and select wines along with a summer sunset, crackling fires, a walk on the beach and mellow sounds.</span></p>
<p><span style="color: #141823; font-family: helvetica, arial, sans-serif; font-size: 14px; line-height: 18px;">Get your Tickets now!</span></p>
<p>https://eotb.yapsody.com/event/book/13761/99942?ref=ebtn</p>
LOCATION: JONATHAN BEACH CLUB 850 Pacific Beach Road, Santa Monica, CA 90291
END:VEVENT
END:VCALENDAR