BEGIN:VCALENDAR
VERSION:2.0
BEGIN:VEVENT
URL:http://www.signaturewines.com/wine-community/events/viewevent/39-the-lipstick-tour-ladies-day-out-wine-tasting 
DTSTART:20111105T120000
DTEND:20111105T170000
SUMMARY:The Lipstick Tour: Ladies Day Out Wine Tasting
DESCRIPTION:<p>Ladies, grab your girlfriends and spend a day pampering and picking up  your favorite wines!  Join us in the Livermore Valley at   McGrail Vineyards, Nottingham Cellars, Occasio, for a day filled with jewelry, makeup, art, and fun! Each  winery will be offering a special “Ladies” tasting with a vendor selling  great girly stuff.  Get your official "Wine Babes" tattoo! Special wine  discounts for Ladies.</p>
<p>We recommend you beginning your day at Nottingham Cellars followed by Occasio Winery located right next to each other.  Then travel to McGrail Vineyards to one of the most scenic views in Livermore Valley.  No tickets necessary, each winery will be charging a $5 tasting fee.   McGrail will feature makeup by Arbonne, jewelry by Just Gals, and Purses  by CC Kelly.</p>
<p> </p>
LOCATION:2245 S. Vasco Rd., Unit C Livermore, CA 94550
END:VEVENT
END:VCALENDAR