BEGIN:VCALENDAR
VERSION:2.0
BEGIN:VEVENT
URL:http://www.signaturewines.com/wine-community/events/viewevent/40-santa-cruz-mountains-vintner-s-harvest-celebration 
DTSTART:20111103T180000
DTEND:20111103T220000
SUMMARY:Santa Cruz Mountains Vintner's Harvest Celebration
DESCRIPTION:<p>Join California Cafe in Los Gatos for a fun filled dinner with wine pairing from various, neighboring 				    Santa Cruz wineries. Winery representatives will be in attendance to 				    speak about the wines and answer questions. <br /> <br /> <strong>Santa Cruz Mountains Vintner's Harvest Celebration</strong><br /> Thursday, November 3<br /> 6PM<br /> <a href="http://www.californiacafe.com/losgatos/menus/TasteOfSantaCruz.pdf" target="_blank">Four courses</a> with wine pairings for $75 per person (exclusive                     of tax and gratuity)<br /> Call 408.354.8118 for reservations. <br /> Space is limited.</p>
<p>TASTE OF SANTA CRUZ MOUNTAINS<br />Thursday November 3, 2011<br />6 pm – 8 pm<br />1st COURSE<br />POETIC CELLARS 2008 CHARDONNAY<br />Ecopia Farms Organic Baby Red & Green Romaine<br />gala apples, sweet tomatoes, hazelnuts, smoked blue cheese, mustard viniagrette<br />2nd COURSE<br />PELICAN RANCH 2009 PINOT NOIR<br />Smoked Duck Breast<br />gnocci, pinot noir garlic cream sauce, micro mache<br />3rd COURSE<br />POETIC CELLARS 2007 “limited release” MANTRA<br />Braised Boneless Shortribs<br />creamy polenta, broccolini tips, chocolate goat cheese jus<br />4th COURSE<br />PELICAN RANCH HERITAGE RASPBERRY WINE<br />White Chocolate Mousse<br />pistachio biscotti, shaved dark chocolate, fresh raspberries<br />$75.00 per person<br />Executive Chef: Bobby Lang</p>
LOCATION:Old Town 50 University Avenue Suite 260 Los Gatos, CA 95030
END:VEVENT
END:VCALENDAR