BEGIN:VCALENDAR
VERSION:2.0
BEGIN:VEVENT
URL:http://www.signaturewines.com/wine-community/events/viewevent/406-20th-annual-ghirardelli-chocolate-festival 
DTSTART:20150912T120000
DTEND:20150913T170000
SUMMARY:20th Annual Ghirardelli Chocolate Festival
DESCRIPTION:<p style="line-height: normal; margin: 0in 0in 10pt; padding: 0px 0px 8px; color: #666666; font-family: 'Helvetica Neue', Helvetica, Arial, sans-serif; font-size: 13px; letter-spacing: 0.5px;"><span style="color: #000000; font-family: Calibri; font-size: medium;"><span style="font-family: Calibri, sans-serif; font-size: 11pt;">Ghirardelli Chocolate Company is excited to announce the 20<span style="font-size: 11px; line-height: 0; position: relative; vertical-align: baseline; top: -0.5em;">th</span> Annual Ghirardelli Chocolate Festival held in Ghirardelli Square benefiting the non-profit Project Open Hand! Come and experience Chocolate School, Chef Demonstrations, Ice Cream Eating Contests, chocolate vendors, and the popular Chocolate & Wine Pavilion!</span></span></p>
<p style="line-height: normal; margin: 0in 0in 10pt; padding: 0px 0px 8px; color: #666666; font-family: 'Helvetica Neue', Helvetica, Arial, sans-serif; font-size: 13px; letter-spacing: 0.5px;"><span style="color: #000000; font-family: Calibri; font-size: medium;"><span style="font-family: Calibri, sans-serif; font-size: 11pt;"><span style="font-weight: bold;">Ticket sales at the Festival will close by 3:30-4:00pm the day of the event. This may change due to capacity limits and is at the Festival organizers' discretion. We recommend you purchase your tickets in advance of the Festival and arrive no later than 3:00pm each day to assure enough time to use the entire tasting ticket. <span style="line-height: 16.866666793823242px; font-size: 11pt;">Dogs on leashes are welcome!</span></span></span></span></p>
<p style="line-height: normal; margin: 0in 0in 10pt; padding: 0px 0px 8px; color: #666666; font-family: 'Helvetica Neue', Helvetica, Arial, sans-serif; font-size: 13px; letter-spacing: 0.5px;"><span style="color: #000000; font-family: Calibri; font-size: medium;"><span style="font-family: Calibri, sans-serif; font-size: 11pt;"><span style="font-weight: bold;"><span style="line-height: 16.866666793823242px; font-size: 11pt;">Tickets can be purchased at the door.<br /></span></span></span></span></p>
<p style="line-height: normal; margin: 0in 0in 0pt; padding: 0px 0px 8px; color: #666666; font-family: 'Helvetica Neue', Helvetica, Arial, sans-serif; font-size: 13px; letter-spacing: 0.5px;"><span style="color: #008000; text-decoration: underline;"><span style="font-weight: bold;">Event Times:</span></span></p>
<p style="line-height: normal; margin: 0in 0in 0pt; padding: 0px 0px 8px; color: #666666; font-family: 'Helvetica Neue', Helvetica, Arial, sans-serif; font-size: 13px; letter-spacing: 0.5px;"><span style="color: #000000;">Saturday, 12pm-5pm</span></p>
<p style="line-height: normal; margin: 0in 0in 0pt; padding: 0px 0px 8px; color: #666666; font-family: 'Helvetica Neue', Helvetica, Arial, sans-serif; font-size: 13px; letter-spacing: 0.5px;"><span style="color: #ff0000;"><span style="color: #000000;">Sunday, 12pm-5pm</span><span style="font-weight: bold;"><br /></span></span></p>
<p style="line-height: normal; margin: 0in 0in 0pt; padding: 0px 0px 8px; color: #666666; font-family: 'Helvetica Neue', Helvetica, Arial, sans-serif; font-size: 13px; letter-spacing: 0.5px;"><span style="color: #ff0000;"><span style="font-weight: bold;"> </span></span></p>
<p style="line-height: normal; margin: 0in 0in 0pt; padding: 0px 0px 8px; color: #666666; font-family: 'Helvetica Neue', Helvetica, Arial, sans-serif; font-size: 13px; letter-spacing: 0.5px;"><span style="color: #ff0000;"><span style="font-weight: bold;">All alcoholic vendors will legally close 30 minutes before the end of the event.</span></span></p>
<p style="line-height: normal; margin: 0in 0in 0pt; padding: 0px 0px 8px; color: #666666; font-family: 'Helvetica Neue', Helvetica, Arial, sans-serif; font-size: 13px; letter-spacing: 0.5px;"><span style="font-weight: bold;"> </span></p>
<p style="line-height: normal; margin: 0in 0in 10pt; padding: 0px 0px 8px; color: #666666; font-family: 'Helvetica Neue', Helvetica, Arial, sans-serif; font-size: 13px; letter-spacing: 0.5px;"><span style="color: #ff0000; font-size: large;"><span style="font-family: Calibri;"><span style="font-family: Calibri, sans-serif;"><em><span style="color: #000000;">*Eventbrite charges a processing fee for all tickets purchased online included in your total above</span></em></span></span></span></p>
<p style="line-height: normal; margin: 0in 0in 10pt; padding: 0px 0px 8px; color: #666666; font-family: 'Helvetica Neue', Helvetica, Arial, sans-serif; font-size: 13px; letter-spacing: 0.5px;"><strong><span style="color: #ff0000;"><span style="font-size: large;"><span style="font-family: Calibri;"><span style="font-family: Calibri, sans-serif;">BUY YOUR TICKETS HERE:</span></span></span></span></strong></p>
<p style="line-height: normal; margin: 0in 0in 10pt; padding: 0px 0px 8px; color: #666666; font-family: 'Helvetica Neue', Helvetica, Arial, sans-serif; font-size: 13px; letter-spacing: 0.5px;">http://www.eventbrite.com/e/20th-annual-ghirardelli-chocolate-festival-tickets-15674599148?aff=es2</p>
<p style="line-height: normal; margin: 0in 0in 10pt; padding: 0px 0px 8px; color: #666666; font-family: 'Helvetica Neue', Helvetica, Arial, sans-serif; font-size: 13px; letter-spacing: 0.5px;"><span style="color: #ff0000; font-size: large;"><span style="font-family: Calibri;"><span style="font-family: Calibri, sans-serif;"><em><span style="color: #000000;"><span style="color: #ff0000;"><span style="font-weight: bold;">*This will be a rain or shine event. NO REFUNDS. 100% profits go to Project Open Hand.</span></span></span></em></span></span></span></p>
LOCATION:Ghirardelli Square  900 North Point Street  San Francisco, CA 94109
END:VEVENT
END:VCALENDAR