BEGIN:VCALENDAR
VERSION:2.0
BEGIN:VEVENT
URL:http://www.signaturewines.com/wine-community/events/viewevent/407-2015-santa-cruz-mountain-art-wine-and-music-festival 
DTSTART:20150905T110000
DTEND:20150906T170000
SUMMARY:2015 Santa Cruz Mountain Art Wine and Music Festival
DESCRIPTION:<p><span style="color: #837253; font-family: Arial, Helvetica, sans-serif; font-size: 300%;">2015 Santa Cruz Mountain Art Wine and Music Festival</span><span style="color: #837253; font-family: Arial, Helvetica, sans-serif; font-size: xx-large;"> </span><span style="color: #837253; font-family: Arial, Helvetica, sans-serif; font-size: xx-large; line-height: 1.5;">will be the place to be this Labor Day Weekend.  We have an incredible line-up, amazing artists, great food, and delicious local beers and wines.  Plus there will be fun activities for all ages.  The park is beautiful, surrounded by redwoods.  And the parking is free.  Come join us for a fabulous weekend of music, art and libations.  </span></p>
<p>BUY YOUR TICKETS HERE:</p>
<p> </p>
<p>http://www.scmountainfestival.com</p>
LOCATION:Garrahan park 15530 Hwy 9  Boulder Creek CA 95006
END:VEVENT
END:VCALENDAR