BEGIN:VCALENDAR
VERSION:2.0
BEGIN:VEVENT
URL:http://www.signaturewines.com/wine-community/events/viewevent/408-the-taste-of-santa-clara-valley 
DTSTART:20151017T170000
DTEND:20151017T200000
SUMMARY:The Taste of Santa Clara Valley
DESCRIPTION:<div style="font-family: Helvetica, Arial, sans-serif; line-height: normal; color: #dd7727; font-weight: bold; padding-top: 5px; padding-bottom: 10px;">The Taste of Santa Clara Valley</div>
<p><span style="color: #777777; font-family: Helvetica, Arial, sans-serif; line-height: normal;">The Taste of Santa Clara Valley, CAFF's annual South Bay farm to fork fundraiser dinner, will be taking place on Saturday, October 17th at </span><a href="https://www.sccgov.org/sites/parks/parkfinder/Pages/martialcottle.aspx" target="_blank" title="https://www.sccgov.org/sites/parks/parkfinder/Pages/martialcottle.aspx" style="font-weight: bold; color: #12b7c6; font-family: Helvetica, Arial, sans-serif; line-height: normal;">Martial Cottle Park</a><span style="color: #777777; font-family: Helvetica, Arial, sans-serif; line-height: normal;"> in San Jose, CA.  </span><br style="color: #777777; font-family: Helvetica, Arial, sans-serif; line-height: normal;" /><br style="color: #777777; font-family: Helvetica, Arial, sans-serif; line-height: normal;" /><span style="color: #777777; font-family: Helvetica, Arial, sans-serif; line-height: normal;">The catered dinner will highlight the bounty of our farmers in the Santa Clara Valley, and honor the agricultural history of Martial Cottle Park.  </span><br style="color: #777777; font-family: Helvetica, Arial, sans-serif; line-height: normal;" /><br style="color: #777777; font-family: Helvetica, Arial, sans-serif; line-height: normal;" /><span style="color: #777777; font-family: Helvetica, Arial, sans-serif; line-height: normal;">Proceeds from the event will support CAFF's program work, which directly benefits California family farmers. For more information about the event, visit www.caff.org.</span><br style="color: #777777; font-family: Helvetica, Arial, sans-serif; line-height: normal;" /><br style="color: #777777; font-family: Helvetica, Arial, sans-serif; line-height: normal;" /><span style="color: #777777; font-family: Helvetica, Arial, sans-serif; line-height: normal;">Volunteer and sponsorship opportunities are available. For more information about sponsorship levels and benefits or other event information please contact CAFF at rosemary@caff.org or 831-761-8507.</span><br style="color: #777777; font-family: Helvetica, Arial, sans-serif; line-height: normal;" /><br style="color: #777777; font-family: Helvetica, Arial, sans-serif; line-height: normal;" /><span style="color: #777777; font-family: Helvetica, Arial, sans-serif; line-height: normal;">More info coming soon!</span><br style="color: #777777; font-family: Helvetica, Arial, sans-serif; line-height: normal;" /><br style="color: #777777; font-family: Helvetica, Arial, sans-serif; line-height: normal;" /><strong style="color: #777777; font-family: Helvetica, Arial, sans-serif; line-height: normal;">SPONSORS</strong><br style="color: #777777; font-family: Helvetica, Arial, sans-serif; line-height: normal;" /><a href="http://www.jacobsfarm.com/" target="_blank" title="http://www.jacobsfarm.com/" style="font-weight: bold; color: #12b7c6; font-family: Helvetica, Arial, sans-serif; line-height: normal;">Jacob's Farm / Del Cabo</a><br style="color: #777777; font-family: Helvetica, Arial, sans-serif; line-height: normal;" /><a href="http://www.openspaceauthority.org/" target="_blank" title="http://www.openspaceauthority.org/" style="font-weight: bold; color: #12b7c6; font-family: Helvetica, Arial, sans-serif; line-height: normal;">Open Space Authority Santa Clara County </a><br style="color: #777777; font-family: Helvetica, Arial, sans-serif; line-height: normal;" /><a href="http://www.pcfma.com/" target="_blank" title="http://www.pcfma.com/" style="font-weight: bold; color: #12b7c6; font-family: Helvetica, Arial, sans-serif; line-height: normal;">Pacific Coast Farmers' Market Association</a><br style="color: #777777; font-family: Helvetica, Arial, sans-serif; line-height: normal;" /><a href="http://www.urbanvillageonline.com/" target="_blank" title="http://www.urbanvillageonline.com/" style="font-weight: bold; color: #12b7c6; font-family: Helvetica, Arial, sans-serif; line-height: normal;">Urban Village</a><br style="color: #777777; font-family: Helvetica, Arial, sans-serif; line-height: normal;" /><br style="color: #777777; font-family: Helvetica, Arial, sans-serif; line-height: normal;" /><br style="color: #777777; font-family: Helvetica, Arial, sans-serif; line-height: normal;" /><strong style="color: #777777; font-family: Helvetica, Arial, sans-serif; line-height: normal;">CO-SPONSORED BY</strong><br style="color: #777777; font-family: Helvetica, Arial, sans-serif; line-height: normal;" /><a href="https://www.sccgov.org/sites/parks/parkfinder/Pages/martialcottle.aspx" target="_blank" title="https://www.sccgov.org/sites/parks/parkfinder/Pages/martialcottle.aspx" style="font-weight: bold; color: #12b7c6; font-family: Helvetica, Arial, sans-serif; line-height: normal;">Santa Clara County Parks</a></p>
LOCATION:Martial Cottle Park (View) 5283 Snell Avenue San Jose, CA 95123 United States
END:VEVENT
END:VCALENDAR