BEGIN:VCALENDAR
VERSION:2.0
BEGIN:VEVENT
URL:http://www.signaturewines.com/wine-community/events/viewevent/409-wines-of-portugal-food-truck-sommelier-slam-2015-in-san-francisco 
DTSTART:20151016T183000
DTEND:20151016T203000
SUMMARY:Wines of Portugal Food Truck Sommelier Slam 2015 in San Francisco
DESCRIPTION:<table style="border-collapse: collapse; border-spacing: 0px; color: #000000; font-family: 'Trebuchet MS'; font-size: 11px; letter-spacing: 0.5px; line-height: 15.84000015258789px; table-layout: fixed; width: 535px;" border="0" cellspacing="0" cellpadding="0">
<tbody>
<tr>
<td style="font-family: 'Trebuchet MS'; font-size: 11px;">
<p style="line-height: normal; margin: 0px; padding: 0px 0px 8px; text-align: justify;"><span style="font-family: 'Helvetica Neue', Helvetica, Arial, sans-serif; font-size: small; line-height: 20.7999992370605px;"><span style="font-family: georgia, serif;">Wines of Portugal cordially invites you to the first ever Food Truck Sommelier Slam in San Francisco on Friday, October 16th! </span></span><span style="font-size: small; line-height: 1.6em; font-family: georgia, serif;">Join us to discover more than 80 wines from exciting regions in Portugal. </span></p>
<p style="line-height: normal; margin: 0px; padding: 0px 0px 8px; text-align: justify;"><span style="font-family: georgia, serif; font-size: small;">Challenge your senses as you progress from table to table, sampling an exciting array of wines paired with a selection of  popular food truck cuisines. Teams of sommeliers will be competing to win the best pairing menu, so do not miss out on your chance to experience the pairings and vote!</span></p>
<p style="line-height: normal; margin: 0px; padding: 0px 0px 8px;"><span style="line-height: 20.7999992370605px; text-align: justify;"><span style="font-size: small; line-height: 1.6em; font-family: georgia, serif;">Come </span></span><span style="line-height: 20.7999992370605px; text-align: justify;"><span style="font-size: small; line-height: 1.6em; font-family: georgia, serif;">taste these unique Portuguese wines and learn how much this country has to offer! Ticket prices includes access to wine tasting and selection of four dishes from the food trucks. </span></span></p>
<p style="line-height: normal; margin: 0px; padding: 0px 0px 8px;"><span style="font-weight: bold; font-family: georgia, serif; font-size: small; line-height: 20.7999992370605px;"><span style="line-height: 20.7999992370605px; text-align: justify;">RSVP now at  </span></span><a href="http://portugalsf.eventbrite.com/" style="color: #8d0000; font-family: georgia, serif; font-size: small; line-height: 1.6em; text-align: justify;"><span style="text-decoration: underline;"><span style="font-weight: bold;"><span style="color: #000000;">portugalsf.eventbrite.com</span></span></span>.</a> <span style="font-family: georgia, palatino; font-size: small;"> *For members of the wine trade, we will reach out to you and confirm your attendance.*</span></p>
<p style="line-height: normal; margin: 0px; padding: 0px 0px 8px 30px;"> </p>
<p style="line-height: normal; margin: 0px; padding: 0px 0px 8px; font-family: Arial, Helvetica, sans-serif; font-size: 15px; text-align: center;"><span style="font-family: georgia, palatino; font-weight: bold; text-align: start;">Little Green Cyclo (Vietnamese)</span></p>
<p style="line-height: normal; margin: 0px; padding: 0px 0px 8px; font-family: Arial, Helvetica, sans-serif; font-size: 15px; text-align: center;"><span style="font-family: georgia, palatino;"> </span></p>
<p style="line-height: normal; margin: 0px; padding: 0px 0px 8px; font-family: Arial, Helvetica, sans-serif; font-size: 15px; text-align: center;"><span style="font-family: georgia, palatino;">Little Green Cyclo has been bringing fresh, delicious, Vietnamese street food to the greater Bay Area for the past year. The founders -- Chef Quynh Nguyen, Monica Wong and Susie Pham -- can be found serving up a menu that showcases all the great flavors of Vietnam. Their menu is seasonal with specials offered weekly that ‪include vegetarian, vegan and gluten free options‬. Thanks to all the love from our customers, we were voted Bay Area’s #1 food truck in the Chase Sapphire’s 2011 Eaters’ Choice Awards & we were rated as one of the top 12 Bay Area food trucks by Zagat. <a href="http://www.littlegreencyclo.com/" target="_blank" rel="nofollow" style="color: #df1313;">www.littlegreencyclo.com</a></span></p>
<p style="line-height: normal; margin: 0px; padding: 0px 0px 8px;"> <span style="font-family: Arial, Helvetica, sans-serif; font-size: 15px; text-align: center;"> </span></p>
<p style="line-height: normal; margin: 0px; padding: 0px 0px 8px; font-family: Arial, Helvetica, sans-serif; font-size: 15px; text-align: center;"><span style="font-family: georgia, palatino; font-weight: bold;">Curveball Slider (American)</span></p>
<p style="line-height: normal; margin: 0px; padding: 0px 0px 8px;"> </p>
<p style="line-height: normal; margin: 0px; padding: 0px 0px 8px; font-family: Arial, Helvetica, sans-serif; font-size: 15px; text-align: center;"><span style="font-family: georgia, palatino;">Daniel Malouf and Chef Justin Walls have combined over 20  years of restaurant business. H<span style="text-align: left;">aving both honed their skills and being childhood friends, the tandem decided to combined their talents and create a gourmet sandwich food truck.   They focus on seasonal and sustainable ingredients to deliver a superior product to their customers.  Their concept was to take a slider style sandwich to the next level. That’s where the signature curveball sandwich was conceived. The simplistic concept of the slider has been completely innovated and the results are delectable. Welcome to the curveball experience! </span></span><a href="http://www.tressf.com/" target="_blank" rel="nofollow" style="color: #df1313;">www.curveballfoodtruck.com</a></p>
<p style="line-height: normal; margin: 0px; padding: 0px 0px 8px; font-family: Arial, Helvetica, sans-serif; font-size: 15px; text-align: center;"> </p>
<p style="line-height: normal; margin: 0px; padding: 0px 0px 8px; font-family: Arial, Helvetica, sans-serif; font-size: 15px; text-align: center;"><span style="font-weight: bold; font-family: georgia, palatino;">Ceviche & </span><span style="font-family: georgia, palatino; font-weight: bold;">Co (Ecuadorian)</span></p>
<p style="line-height: normal; margin: 0px; padding: 0px 0px 8px;"> </p>
<p style="line-height: normal; margin: 0px; padding: 0px 0px 8px; font-family: Arial, Helvetica, sans-serif; font-size: 15px; text-align: center;"><span style="font-family: georgia, palatino;">Ceviche & Co is the first of its kind serving you the freshest in Ecuadorian and Latin recipes. This South American oasis being known for the Amazon Jungle, Galapagos Islands, rare animal life, and exotic vegetation, is now receiving its proper introduction into the world of cuisine. The dream began with some family recipes and a 1984 Stepvan Chevy. Old you say? The only thing old about this newly retrofitted food truck, is it's recipes, and that's usually a good thing! It is owned and operated by the Moncayo's, an Ecuadorian family. <a href="http://www.libafalafel.com%20/" target="_blank" rel="nofollow" style="color: #df1313;">www.cevicheco.com</a></span></p>
<p style="line-height: normal; margin: 0px; padding: 0px 0px 8px;"> </p>
<p style="line-height: normal; margin: 0px; padding: 0px 0px 8px; font-family: Arial, Helvetica, sans-serif; font-size: 15px; text-align: center;"><span style="font-family: georgia, palatino; font-weight: bold;">Pacific Puffs (Cream Puffs)</span></p>
<p style="line-height: normal; margin: 0px; padding: 0px 0px 8px;"> </p>
<p style="line-height: normal; margin: 0px; padding: 0px 0px 8px; font-family: Arial, Helvetica, sans-serif; font-size: 15px; text-align: center;"><span style="font-family: georgia, palatino;">Pacific Puffs is dedicated to offering premium, home-baked style cream puffs using only the finest fresh local ingredients. Their handcrafted puffs have been perfected over decades as an old family recipe and are baked daily using their signature small batch baking method to ensure the highest quality. They will remain focused on freshness, customer service and quality in bringing their gourmet food and beverage products to local residents and tourists alike. <a href="http://www.pacificpuffs.com/" target="_blank" rel="nofollow" style="color: #df1313;">www.pacificpuffs.com</a></span></p>
</td>
</tr>
</tbody>
</table>
LOCATION:San Francisco Film Center    39 Keyes Avenue San Francisco, CA 94129
END:VEVENT
END:VCALENDAR