BEGIN:VCALENDAR
VERSION:2.0
BEGIN:VEVENT
URL:http://www.signaturewines.com/wine-community/events/viewevent/41-santa-cruz-mountains-passport-day 
DTSTART:20111119T110000
DTEND:20111119T170000
SUMMARY:Santa Cruz Mountains Passport Day
DESCRIPTION:<p>
<p class="MsoNormal">Visit over (50) participating Santa Cruz appellation wineries that are not normally open to the public!!<span> </span>As you visit each winery, a page of your Santa Cruz Mountains Passport will receive a unique commemorative stamp.<span> </span>Your Santa Cruz Mountains Passport does not expire until completed. Passport days are held on the third Saturday of January, April, July and November.<span> </span>Experience the beautiful vineyards and wineries of the Santa Cruz appellation thorough out the procession of all four seasons.</p>
<p class="MsoNormal"> </p>
<p class="MsoNormal">The Santa Cruz Mountains Passport<span> </span>is only $40.00 and you can purchase them by calling (831) 685-8463 or by clicking on the link below:</p>
<p class="MsoNormal"> </p>
<p class="MsoNormal"><a href="http://www.scmwa.com/wsdevent/eventview/action/view/frmArticleID/19/">http://www.scmwa.com/wsdevent/eventview/action/view/frmArticleID/19/</a></p>
</p>
LOCATION:Santa Cruz Appellation Wineries
END:VEVENT
END:VCALENDAR