BEGIN:VCALENDAR
VERSION:2.0
BEGIN:VEVENT
URL:http://www.signaturewines.com/wine-community/events/viewevent/410-music-in-the-vineyard-featuring-isaiah-pickett-and-band 
DTSTART:20150828T173000
DTEND:20150828T220000
SUMMARY:Music In The Vineyard Featuring Isaiah Pickett And Band
DESCRIPTION:<p style="font-family: 'Adobe Garamond Pro', Garamond, 'Garamond Premr Pro', 'Times New Roman'; font-size: medium; color: #3f2a17; margin-bottom: 5px; margin-top: 0px; line-height: 17.600000381469727px;">Isaiah Pickett and Band<br />Doors Open at 5:30 PM<br />Music 7 to 10 PM<br />$5 Cover Charge for Advance Purchase</p>
<p style="font-family: 'Adobe Garamond Pro', Garamond, 'Garamond Premr Pro', 'Times New Roman'; font-size: medium; color: #3f2a17; margin-bottom: 5px; margin-top: 0px; line-height: 17.600000381469727px;">$10 Cover Charge Day of Event and at the Gate</p>
<p style="font-family: 'Adobe Garamond Pro', Garamond, 'Garamond Premr Pro', 'Times New Roman'; font-size: medium; color: #3f2a17; margin-bottom: 5px; margin-top: 0px; line-height: 17.600000381469727px;">Wine Club Members $5<br />No Host Wine & Beer Bar <br />Wine available by the bottle only. We will provide disposable glasses but you may bring in your own wine glass if you would like or purchase a Fortino Glass from the tasting room. Tasting Room open for purchases ONLY. <br />Wine Club Pick Up NOT available at Events.</p>
<p style="font-family: 'Adobe Garamond Pro', Garamond, 'Garamond Premr Pro', 'Times New Roman'; font-size: medium; color: #3f2a17; margin-bottom: 5px; margin-top: 0px; line-height: 17.600000381469727px;">Purchased Tickets will be at "Will Call" at the door!</p>
<p style="font-family: 'Adobe Garamond Pro', Garamond, 'Garamond Premr Pro', 'Times New Roman'; font-size: medium; color: #3f2a17; margin-bottom: 5px; margin-top: 0px; line-height: 17.600000381469727px;"><br />Limited seating and tables available on a first come first serve bases. Please feel free to bring a blanket for the grass or a comfy lawn/camp chair.<br /><br />NO OUTSIDE ALCOHOL/BEVERAGES <br />NO EXCEPTIONS<br />21 & OVER ONLY</p>
<p style="font-family: 'Adobe Garamond Pro', Garamond, 'Garamond Premr Pro', 'Times New Roman'; font-size: medium; color: #3f2a17; margin-bottom: 5px; margin-top: 0px; line-height: 17.600000381469727px;"><strong>BUY YOUR TICKETS HERE: </strong><span style="color: #333333; font-family: Tahoma, Helvetica, Arial, sans-serif; font-size: 12px; line-height: 1.3em;">http://www.fortinowinery.com/music-in-the-vineyard-featuring-isaiah-pickett-and-band/</span></p>
LOCATION:Fortino Winery  44525 Hecker Pass Hwy, Gilroy,CA  95020
END:VEVENT
END:VCALENDAR