BEGIN:VCALENDAR
VERSION:2.0
BEGIN:VEVENT
URL:http://www.signaturewines.com/wine-community/events/viewevent/411-sf-cheese-fest-cheesemaker-celebration 
DTSTART:20150919T190000
DTEND:20150919T220000
SUMMARY:SF Cheese Fest - Cheesemaker Celebration
DESCRIPTION:<p style="line-height: normal; margin: 0px; padding: 0px 0px 8px; color: #242220; font-family: 'Helvetica Neue', Helvetica, Arial, sans-serif; font-size: 13px; letter-spacing: 0.5px;">ove cheese?  Join the California Artisan Cheese Guild for the first-ever SF Cheese Fest, an event bringing together acclaimed cheesemakers, Bay Area brews, and the best of local craft food production. </p>
<p style="line-height: normal; margin: 0px; padding: 0px 0px 8px; color: #242220; font-family: 'Helvetica Neue', Helvetica, Arial, sans-serif; font-size: 13px; letter-spacing: 0.5px;"><span style="line-height: 1.6em;">Meet dozens of cheesemakers, cheesemongers, goat wranglers, sheep ranchers, cow and buffalo milkers and more.  There will be curated pairings and bites with San Francisco's cutting edge producers along with beer from local breweries.  The evening will overflow with flavor and be full of music from The Easy Leaves and DJ Lisa Pezzino.</span></p>
<p style="line-height: normal; margin: 0px; padding: 0px 0px 8px; color: #242220; font-family: 'Helvetica Neue', Helvetica, Arial, sans-serif; font-size: 13px; letter-spacing: 0.5px;"><span style="font-weight: bold;"><span style="line-height: 1.6em;">VIP Hour starts at 6pm with live music, special bites, drinks and prizes.  General Admission starts at 7pm.</span></span></p>
<p style="line-height: normal; margin: 0px; padding: 0px 0px 8px; color: #242220; font-family: 'Helvetica Neue', Helvetica, Arial, sans-serif; font-size: 13px; letter-spacing: 0.5px;"><span style="font-weight: bold;"><span style="line-height: 1.6em;">Tickets are non-refundable.</span></span></p>
<p style="line-height: normal; margin: 0px; padding: 0px 0px 8px; color: #242220; font-family: 'Helvetica Neue', Helvetica, Arial, sans-serif; font-size: 13px; letter-spacing: 0.5px;"><span style="font-weight: bold;"><span style="line-height: 1.6em;">Buy your tickets here: </span></span><span style="color: #333333; font-family: Tahoma, Helvetica, Arial, sans-serif; font-size: 12px; line-height: 1.3em;">http://www.eventbrite.com/e/sf-cheese-fest-cheesemaker-celebration-tickets-17757938472?aff=es2</span></p>
LOCATION:Dogpatch WineWorks  2455 3rd Street  San Francisco, CA 94107
END:VEVENT
END:VCALENDAR