BEGIN:VCALENDAR
VERSION:2.0
BEGIN:VEVENT
URL:http://www.signaturewines.com/wine-community/events/viewevent/412-12th-annual-gourmet-grazing-on-the-green 
DTSTART:20150919T120000
DTEND:20150919T160000
SUMMARY:12th Annual Gourmet Grazing on the Green
DESCRIPTION:<p style="font-family: Arial, Helvetica, sans-serif; line-height: 1.5em; font-size: medium; padding: 0px; margin: 0px 0px 15px; color: #49a942;"><strong>Please Join Us!</strong> <br />Delicious cuisine! Dazzling Local wines! Refreshing handcrafted beers! Top local chefs!</p>
<p style="font-family: Arial, Helvetica, sans-serif; line-height: 1.5em; font-size: medium; padding: 0px; margin: 0px 0px 15px; color: #49a942;">Enjoy an afternoon in beautiful Aptos Village Park for the 12th annual festival. You'll spend the afternoon tasting the best food, wine and beer that Santa Cruz has to offer, along with live music and a fabulous raffle. </p>
<p style="font-family: Arial, Helvetica, sans-serif; line-height: 1.5em; font-size: medium; padding: 0px; margin: 0px 0px 15px; color: #49a942;">Tickets include admission to the event, commemorative wine glass and an entire day of tasting. Be sure to get your tickets early, last year's event sold-out.</p>
<p style="font-family: Arial, Helvetica, sans-serif; line-height: 1.5em; font-size: medium; padding: 0px; margin: 0px 0px 15px; color: #49a942;">We look forward to another sold out event this year. Be sure to purchase your tickets early and join our <a href="http://www.facebook.com/SantaCruzCancerBenefitGroup?fref=ts" style="outline: none; color: #49a986;">Facebook</a> page for updates on our current events.</p>
<p> </p>
<p style="font-family: Arial, Helvetica, sans-serif; line-height: 1.5em; font-size: medium; padding: 0px; margin: 0px 0px 15px; color: #49a942;"><strong>Parking & Shuttle Service</strong><br />Parking at the event will be limited and we encourage our guests to use our Free Shuttle Service from Cabrillo College, parking Lot E. Our shuttle will arrive approximately every 15 minutes to Lot E and transport guests directly to the check-in area of the park. Parking and shuttle service are free of charge.</p>
<p><strong>BUY YOUR TICKETS HERE: </strong><span style="line-height: 1.3em;">http://sccbg.org/g3.html</span></p>
LOCATION:100 Aptos Creek Rd, Aptos, CA 95003
END:VEVENT
END:VCALENDAR