BEGIN:VCALENDAR
VERSION:2.0
BEGIN:VEVENT
URL:http://www.signaturewines.com/wine-community/events/viewevent/414-starmont-wine-maker-s-dinner-benefitting-sustainable-contra-costa 
DTSTART:20150903T180000
DTEND:20150903T210000
SUMMARY:Starmont Wine Maker's Dinner - Benefitting Sustainable Contra Costa
DESCRIPTION:<p style="line-height: normal; margin: 0px; padding: 0px 0px 8px; color: #666666; font-family: 'Helvetica Neue', Helvetica, Arial, sans-serif; font-size: 13px; letter-spacing: 0.5px;"><strong><span style="font-size: small;">BUY YOUR TICKETS HERE: </span></strong><span style="color: #333333; font-family: Tahoma, Helvetica, Arial, sans-serif; font-size: 12px; line-height: 1.3em;">http://www.eventbrite.com/e/starmont-wine-makers-dinner-benefitting-sustainable-contra-costa-tickets-18266934894?aff=es2</span></p>
<p style="line-height: normal; margin: 0px; padding: 0px 0px 8px; color: #666666; font-family: 'Helvetica Neue', Helvetica, Arial, sans-serif; font-size: 13px; letter-spacing: 0.5px;"> </p>
<p style="line-height: normal; margin: 0px; padding: 0px 0px 8px; color: #666666; font-family: 'Helvetica Neue', Helvetica, Arial, sans-serif; font-size: 13px; letter-spacing: 0.5px;"><span style="font-size: small;">It is an amazing culinary experience!  A Wine Maker's dinner is an event that showcases an amazing multi-course dinner service with delicious foods paired with spectacular wines for a unique experience.  The winery representative informs & discusses each wine as well as offering an overview of the winery and vineyard history.   Plate & Vine Executive Chef Dwayne Griffiths will be creating a paired menu that will impress the most discriminating palate!</span></p>
<p style="line-height: normal; margin: 0px; padding: 0px 0px 8px; color: #666666; font-family: 'Helvetica Neue', Helvetica, Arial, sans-serif; font-size: 13px; letter-spacing: 0.5px;"><span style="font-size: small;">This Wine Maker Dinner is a fundraising benefit for Sustainable Contra Costa.  So please feel free to share this invitation with others and please book your ticket today.  Tickets are limited and seats will go fast, so be sure to act fast!    For additional details or questions, please email info@concordhilton.com.  </span></p>
<p style="line-height: normal; margin: 0px; padding: 0px 0px 8px; color: #666666; font-family: 'Helvetica Neue', Helvetica, Arial, sans-serif; font-size: 13px; letter-spacing: 0.5px;"><span style="font-size: small;"><span style="font-weight: bold;">We look forward to having you join us for this phenomenal event!</span></span></p>
<p style="line-height: normal; margin: 0px; padding: 0px 0px 8px; color: #666666; font-family: 'Helvetica Neue', Helvetica, Arial, sans-serif; font-size: 13px; letter-spacing: 0.5px;"> </p>
<hr style="border-right-width: 0px; border-bottom-width: 0px; border-left-width: 0px; border-top-style: solid; border-top-color: #dedede; height: 0px; margin: 0px; color: #666666; font-family: 'Helvetica Neue', Helvetica, Arial, sans-serif; font-size: 13px; letter-spacing: 0.5px; line-height: 15.84000015258789px;" />
<p style="line-height: normal; margin: 0px; padding: 0px 0px 8px; color: #666666; font-family: 'Helvetica Neue', Helvetica, Arial, sans-serif; font-size: 13px; letter-spacing: 0.5px; text-align: center;" align="center"> <span style="font-weight: bold;"><span style="font-size: 20pt; font-family: 'Quicksand Bold';">Five Course Menu with Five Beautiful Wines!<br /></span></span></p>
<p style="line-height: normal; margin: 0px 0px 0.0001pt; padding: 0px 0px 8px; color: #666666; font-family: 'Helvetica Neue', Helvetica, Arial, sans-serif; font-size: 13px; letter-spacing: 0.5px; text-align: center;" align="center"><span style="font-weight: bold;"><span style="line-height: 15.180000305175781px; font-family: 'Century Gothic', sans-serif; color: black;">Appetizers </span></span><span style="font-weight: bold;"><span style="line-height: 15.180000305175781px; font-family: 'Quicksand Book Oblique', serif; color: black;">&</span></span><span style="font-weight: bold;"><span style="line-height: 15.180000305175781px; font-family: 'Century Gothic', sans-serif; color: black;"> Hors D’ Oeuvres</span></span></p>
<p style="line-height: normal; margin: 0px 0px 0.0001pt; padding: 0px 0px 8px; color: #666666; font-family: 'Helvetica Neue', Helvetica, Arial, sans-serif; font-size: 13px; letter-spacing: 0.5px; text-align: center;" align="center"><span style="font-size: 10pt; line-height: 15.333332061767578px; font-family: 'Century Gothic', sans-serif; color: black;">La Quercia Speck, Grilled Peach, </span><span style="font-size: 10pt; line-height: 15.333332061767578px; font-family: 'Quicksand Book Oblique', serif;">& </span><span style="font-size: 10pt; line-height: 15.333332061767578px; font-family: 'Century Gothic', sans-serif; color: black;">Goat Cheese</span></p>
<p style="line-height: normal; margin: 0px 0px 0.0001pt; padding: 0px 0px 8px; color: #666666; font-family: 'Helvetica Neue', Helvetica, Arial, sans-serif; font-size: 13px; letter-spacing: 0.5px; text-align: center;" align="center"><span style="font-size: 10pt; line-height: 15.333332061767578px; font-family: 'Century Gothic', sans-serif; color: black;">Shrimp Toast </span><span style="font-size: 10pt; line-height: 15.333332061767578px; font-family: 'Quicksand Book Oblique', serif;">&</span><span style="font-size: 10pt; line-height: 15.333332061767578px; font-family: 'Century Gothic', sans-serif; color: black;"> Tomato-Ginger Jam</span></p>
<p style="line-height: normal; margin: 0px 0px 0.0001pt; padding: 0px 0px 8px; color: #666666; font-family: 'Helvetica Neue', Helvetica, Arial, sans-serif; font-size: 13px; letter-spacing: 0.5px; text-align: center;" align="center"><span style="font-size: 10pt; line-height: 15.333332061767578px; font-family: 'Century Gothic', sans-serif; color: black;">Pizzetta Blanco, Red Onion Marmalade</span><span style="font-size: 10pt; line-height: 15.333332061767578px; font-family: 'Century Gothic', sans-serif; color: black;">, </span><span style="font-size: 10pt; line-height: 15.333332061767578px; font-family: 'Quicksand Book Oblique', serif;">& </span><span style="font-size: 10pt; line-height: 15.333332061767578px; font-family: 'Century Gothic', sans-serif; color: black;">Fig</span></p>
<p style="line-height: normal; margin: 0px; padding: 0px 0px 8px; color: #666666; font-family: 'Helvetica Neue', Helvetica, Arial, sans-serif; font-size: 13px; letter-spacing: 0.5px; text-align: center;" align="center"><em><span style="line-height: 15.180000305175781px;">Paired with Starmont 2012 Sauvignon Blanc, Napa Valley</span></em></p>
<p style="line-height: normal; margin: 0px 0px 0.0001pt; padding: 0px 0px 8px; color: #666666; font-family: 'Helvetica Neue', Helvetica, Arial, sans-serif; font-size: 13px; letter-spacing: 0.5px; text-align: center;" align="center"><span style="font-weight: bold;"><span style="line-height: 15.180000305175781px; font-family: 'Century Gothic', sans-serif; color: black;">Basil Compressed Watermelon, Heirloom Tomatoes, Arugula, Pepitas</span></span><span style="font-weight: bold;"><span style="font-family: 'Century Gothic', sans-serif; color: black;">, </span></span><span style="font-weight: bold;"><span style="font-family: 'Quicksand Book Oblique', serif;">&</span></span><span style="font-weight: bold;"><span style="font-family: 'Century Gothic', sans-serif; color: black;"> Feta</span></span></p>
<p style="line-height: normal; margin: 0px 0px 12pt; padding: 0px 0px 8px; color: #666666; font-family: 'Helvetica Neue', Helvetica, Arial, sans-serif; font-size: 13px; letter-spacing: 0.5px; text-align: center;" align="center"><em><span style="line-height: 15.180000305175781px;">Paired with Starmont</span></em><em><span style="line-height: 15.180000305175781px;">2014 Rose’ of Pinot Noir, Carneros</span></em></p>
<p style="line-height: normal; margin: 0px 0px 0.0001pt; padding: 0px 0px 8px; color: #666666; font-family: 'Helvetica Neue', Helvetica, Arial, sans-serif; font-size: 13px; letter-spacing: 0.5px; text-align: center;" align="center"><span style="font-weight: bold;"><span style="line-height: 15.180000305175781px; font-family: 'Century Gothic', sans-serif; color: black;">House Smoked Sturgeon, Marinated Cucumber, Ginger, Pink Peppercorn, Crème Fraiche’, </span></span><span style="font-weight: bold;"><span style="font-family: 'Quicksand Book Oblique', serif;">& </span></span><span style="font-weight: bold;"><span style="line-height: 15.180000305175781px; font-family: 'Century Gothic', sans-serif; color: black;">Caviar</span></span></p>
<p style="line-height: normal; margin: 0px 0px 12pt; padding: 0px 0px 8px; color: #666666; font-family: 'Helvetica Neue', Helvetica, Arial, sans-serif; font-size: 13px; letter-spacing: 0.5px; text-align: center;" align="center"><em><span style="line-height: 15.180000305175781px;">Paired with Starmont 2012 Stanly Ranch Chardonnay, Carneros</span></em></p>
<p style="line-height: normal; margin: 0px 0px 0.0001pt; padding: 0px 0px 8px; color: #666666; font-family: 'Helvetica Neue', Helvetica, Arial, sans-serif; font-size: 13px; letter-spacing: 0.5px; text-align: center;" align="center"><span style="font-weight: bold;"><span style="line-height: 15.180000305175781px; font-family: 'Century Gothic', sans-serif; color: black;">Sous Vide Breast of Fulton Valley Duck, Organic Red Quinoa, Pear Chutney, </span></span><span style="font-weight: bold;"><span style="font-family: 'Quicksand Book Oblique', serif;">& </span></span><span style="font-weight: bold;"><span style="line-height: 15.180000305175781px; font-family: 'Century Gothic', sans-serif; color: black;">Cinnamon Cherry Puree</span></span></p>
<p style="line-height: normal; margin: 0px 0px 12pt; padding: 0px 0px 8px; color: #666666; font-family: 'Helvetica Neue', Helvetica, Arial, sans-serif; font-size: 13px; letter-spacing: 0.5px; text-align: center;" align="center"><em><span style="line-height: 15.180000305175781px;">Paired with Starmont 2012 Merlot, Carneros</span></em></p>
<p style="line-height: normal; margin: 0px 0px 0.0001pt; padding: 0px 0px 8px; color: #666666; font-family: 'Helvetica Neue', Helvetica, Arial, sans-serif; font-size: 13px; letter-spacing: 0.5px; text-align: center;" align="center"><span style="font-weight: bold;"><span style="line-height: 15.180000305175781px; font-family: 'Century Gothic', sans-serif; color: black;">Dark Chocolate Decadence </span></span><span style="font-weight: bold;"><span style="font-family: 'Quicksand Book Oblique', serif;">&</span></span><span style="font-weight: bold;"><span style="line-height: 15.180000305175781px; font-family: 'Century Gothic', sans-serif; color: black;"> Chocolate Coffee Gelato</span></span></p>
<p style="line-height: normal; margin: 0px 0px 12pt; padding: 0px 0px 8px; color: #666666; font-family: 'Helvetica Neue', Helvetica, Arial, sans-serif; font-size: 13px; letter-spacing: 0.5px; text-align: center;" align="center"><em><span style="line-height: 15.180000305175781px;">Paired with 2011 Merryvale Profile, Napa Valley</span></em></p>
<p style="line-height: normal; margin: 0px 0px 0.0001pt; padding: 0px 0px 8px; color: #666666; font-family: 'Helvetica Neue', Helvetica, Arial, sans-serif; font-size: 13px; letter-spacing: 0.5px; text-align: center;" align="center"><span style="font-size: 9pt; line-height: 13.800000190734863px; font-family: 'Century Gothic', sans-serif; color: black;">Starbucks Coffee, Decaf, Iced Tea, & Tazo Hot Teas available upon request</span></p>
<p style="line-height: normal; margin: 0px; padding: 0px 0px 8px; color: #666666; font-family: 'Helvetica Neue', Helvetica, Arial, sans-serif; font-size: 13px; letter-spacing: 0.5px;"> </p>
<hr style="border-right-width: 0px; border-bottom-width: 0px; border-left-width: 0px; border-top-style: solid; border-top-color: #dedede; height: 0px; margin: 0px; color: #666666; font-family: 'Helvetica Neue', Helvetica, Arial, sans-serif; font-size: 13px; letter-spacing: 0.5px; line-height: 15.84000015258789px;" />
<p style="line-height: normal; margin: 0px; padding: 0px 0px 8px; color: #666666; font-family: 'Helvetica Neue', Helvetica, Arial, sans-serif; font-size: 13px; letter-spacing: 0.5px;"><span style="font-size: medium;"><span style="font-weight: bold;"> </span></span></p>
<p style="line-height: normal; margin: 0px; padding: 0px 0px 8px; color: #666666; font-family: 'Helvetica Neue', Helvetica, Arial, sans-serif; font-size: 13px; letter-spacing: 0.5px;"><span style="font-size: medium;"><span style="font-weight: bold;">Meet some amazing Wine & Culinary Professionals!<br /></span></span></p>
<p style="line-height: normal; margin: 0px; padding: 0px 0px 8px; color: #666666; font-family: 'Helvetica Neue', Helvetica, Arial, sans-serif; font-size: 13px; letter-spacing: 0.5px;"><span style="font-size: small;">It'll be a memorable experience!  Meet the Winemaker & Viticulturist from Starmont and Merryvale Family of Wines.   Hear all about Merryvale Family of Wines from Charlie Plummer and Jess Colburn.   Enjoy fantastic locally-sourced, regionally-inspired cuisine from Executive Chef Dwayne Griffiths.  It'll be a night to remember!<br /></span></p>
<p style="line-height: normal; margin: 0px; padding: 0px 0px 8px; color: #666666; font-family: 'Helvetica Neue', Helvetica, Arial, sans-serif; font-size: 13px; letter-spacing: 0.5px; text-align: center;"><span style="font-weight: bold;"><span style="text-decoration: underline;"><span style="font-size: 10.5pt; color: black;">Merryvale Family of Wines Attendees:</span></span></span></p>
<p style="line-height: normal; margin: 0px; padding: 0px 0px 8px; color: #666666; font-family: 'Helvetica Neue', Helvetica, Arial, sans-serif; font-size: 13px; letter-spacing: 0.5px; text-align: center;"><span style="font-size: 10.5pt; color: black;">Charlie Plummer – Event Moderator & National Sales Manager<br /></span></p>
<p style="line-height: normal; margin: 0px; padding: 0px 0px 8px; color: #666666; font-family: 'Helvetica Neue', Helvetica, Arial, sans-serif; font-size: 13px; letter-spacing: 0.5px; text-align: center;"><span style="font-size: 10.5pt; color: black;">Jeff Crawford – Winemaker, Starmont Winery</span></p>
<p style="line-height: normal; margin: 0px; padding: 0px 0px 8px; color: #666666; font-family: 'Helvetica Neue', Helvetica, Arial, sans-serif; font-size: 13px; letter-spacing: 0.5px; text-align: center;"> <span style="font-size: 10.5pt; color: black;">Michael Costly – Viticulturist, Merryvale Family of Wines </span></p>
<p style="line-height: normal; margin: 0px; padding: 0px 0px 8px; color: #666666; font-family: 'Helvetica Neue', Helvetica, Arial, sans-serif; font-size: 13px; letter-spacing: 0.5px; text-align: center;"> <span style="font-size: 10.5pt; color: black;">Jess Colburn – Key Account Manager</span></p>
<p style="line-height: normal; margin: 0px; padding: 0px 0px 8px; color: #666666; font-family: 'Helvetica Neue', Helvetica, Arial, sans-serif; font-size: 13px; letter-spacing: 0.5px; text-align: center;"> <span style="font-weight: bold;"><span style="text-decoration: underline;"><span style="font-size: 10.5pt; color: black;">Culinary Professionals:</span></span></span></p>
<p style="line-height: normal; margin: 0px; padding: 0px 0px 8px; color: #666666; font-family: 'Helvetica Neue', Helvetica, Arial, sans-serif; font-size: 13px; letter-spacing: 0.5px; text-align: center;"> </p>
<p style="line-height: normal; margin: 0px; padding: 0px 0px 8px; color: #666666; font-family: 'Helvetica Neue', Helvetica, Arial, sans-serif; font-size: 13px; letter-spacing: 0.5px; text-align: center;"><span style="font-size: 10.5pt; color: black;">Dwayne Griffiths – Plate & Vine Executive Chef<br /></span></p>
<p style="line-height: normal; margin: 0px; padding: 0px 0px 8px; color: #666666; font-family: 'Helvetica Neue', Helvetica, Arial, sans-serif; font-size: 13px; letter-spacing: 0.5px; text-align: center;"> </p>
<p style="line-height: normal; margin: 0px; padding: 0px 0px 8px; color: #666666; font-family: 'Helvetica Neue', Helvetica, Arial, sans-serif; font-size: 13px; letter-spacing: 0.5px; text-align: center;"><span style="font-size: 10.5pt; color: black;">Brian Meier – Vice President Sales & Marketing, Del Monte Meat & Ports Seafood<br /></span></p>
<p style="line-height: normal; margin: 0px; padding: 0px 0px 8px; color: #666666; font-family: 'Helvetica Neue', Helvetica, Arial, sans-serif; font-size: 13px; letter-spacing: 0.5px; text-align: center;"><span style="font-weight: bold;"><span style="text-decoration: underline;"><span style="font-size: 10.5pt; color: black;"> </span></span></span></p>
<hr style="border-right-width: 0px; border-bottom-width: 0px; border-left-width: 0px; border-top-style: solid; border-top-color: #dedede; height: 0px; margin: 0px; color: #666666; font-family: 'Helvetica Neue', Helvetica, Arial, sans-serif; font-size: 13px; letter-spacing: 0.5px; line-height: 15.84000015258789px;" />
<p style="line-height: normal; margin: 0px; padding: 0px 0px 8px; color: #666666; font-family: 'Helvetica Neue', Helvetica, Arial, sans-serif; font-size: 13px; letter-spacing: 0.5px;"><span style="font-size: 10.5pt; color: black;"><span style="font-size: medium;"><span style="font-weight: bold;"> </span></span></span></p>
<p style="line-height: normal; margin: 0px; padding: 0px 0px 8px; color: #666666; font-family: 'Helvetica Neue', Helvetica, Arial, sans-serif; font-size: 13px; letter-spacing: 0.5px;"><span style="font-size: 10.5pt; color: black;"><span style="font-size: medium;"><span style="font-weight: bold;">Wine Tasting Notes & Descriptions:</span></span></span></p>
<p style="line-height: normal; margin: 0px; padding: 0px 0px 8px; color: #666666; font-family: 'Helvetica Neue', Helvetica, Arial, sans-serif; font-size: 13px; letter-spacing: 0.5px;"><span style="font-size: 10.5pt; color: black;"> </span><span style="font-weight: bold;"><span style="font-size: 10.5pt; color: black;">2012 Starmont Sauvignon Blanc, Napa Valley</span></span></p>
<p style="line-height: normal; margin: 0px; padding: 0px 0px 8px; color: #666666; font-family: 'Helvetica Neue', Helvetica, Arial, sans-serif; font-size: 13px; letter-spacing: 0.5px;"><span style="font-family: 'andale mono', times; font-size: medium;"><em><span style="color: black;">Fresh aromas of pink grapefruit, guava, and lime leaf.  The bright entry leads to a balanced mid-palate of crisp nectarine and meyer lemon, with subtle hints of orange blossom. Mouthwatering and lingering kiwi fruit finish.</span></em></span></p>
<p style="line-height: normal; margin: 0px; padding: 0px 0px 8px; color: #666666; font-family: 'Helvetica Neue', Helvetica, Arial, sans-serif; font-size: 13px; letter-spacing: 0.5px;"><span style="font-weight: bold;"><span style="font-size: 10.5pt; color: black;">2014 Starmont Rose of Pinot Noir, Carneros</span></span></p>
<p style="line-height: normal; margin: 0px; padding: 0px 0px 8px; color: #666666; font-family: 'Helvetica Neue', Helvetica, Arial, sans-serif; font-size: 13px; letter-spacing: 0.5px;"><span style="font-family: 'andale mono', times; font-size: medium;"><em><span style="color: black;">Aromas of ripe strawberry and white peach enhance the fresh entry of this mouth- watering wine. Tart fruit is well balanced by the overall structure of delicate red berry, and stone fruit with floral notes. River rock minerality adds to the delicate but lingering finish.</span></em></span></p>
<p style="line-height: normal; margin: 0px; padding: 0px 0px 8px; color: #666666; font-family: 'Helvetica Neue', Helvetica, Arial, sans-serif; font-size: 13px; letter-spacing: 0.5px;"><span style="font-size: 10.5pt; color: black;"> </span><span style="font-weight: bold;"><span style="font-size: 10.5pt; color: black;">2012 Starmont “Stanly Ranch” Chardonnay, Carneros</span></span></p>
<p style="line-height: normal; margin: 0px; padding: 0px 0px 8px; color: #666666; font-family: 'Helvetica Neue', Helvetica, Arial, sans-serif; font-size: 13px; letter-spacing: 0.5px;"><span style="font-family: 'andale mono', times; font-size: medium;"><em><span style="color: black;">Displays aromas of bright citrus, puff pastry, orange marmalade, butterscotch, lemon meringue, and cinnamon with clean, river stone notes. There is bright acid on the entry to mid-palate with lots of fruit concentration including citrus and pineapple. Rich and full bodied, yet stylish and graceful, the finish is lengthy with brioche and minerality.</span></em></span></p>
<p style="line-height: normal; margin: 0px; padding: 0px 0px 8px; color: #666666; font-family: 'Helvetica Neue', Helvetica, Arial, sans-serif; font-size: 13px; letter-spacing: 0.5px;"><span style="font-size: 10.5pt; color: black;"> </span><span style="font-weight: bold;"><span style="font-size: 10.5pt; color: black;">2012 Starmont Merlot, Carneros</span></span></p>
<p style="line-height: normal; margin: 0px; padding: 0px 0px 8px; color: #666666; font-family: 'Helvetica Neue', Helvetica, Arial, sans-serif; font-size: 13px; letter-spacing: 0.5px;"><span style="font-family: 'andale mono', times; font-size: medium;"><em><span style="color: black;">surprisingly dark with bright cherry, blueberry and currant aromatics on top of coffee/mocha, toast and cranberry. The palate is lush and velvety with good weight and soft tannins.</span></em></span></p>
<p style="line-height: normal; margin: 0px; padding: 0px 0px 8px; color: #666666; font-family: 'Helvetica Neue', Helvetica, Arial, sans-serif; font-size: 13px; letter-spacing: 0.5px;"><span style="font-size: 10.5pt; color: black;"> </span><span style="font-weight: bold;"><span style="font-size: 10.5pt; color: black;">2011 Merryvale Profile, Red, Napa Valley</span></span></p>
<p style="line-height: normal; margin: 0px; padding: 0px 0px 8px; color: #666666; font-family: 'Helvetica Neue', Helvetica, Arial, sans-serif; font-size: 13px; letter-spacing: 0.5px;"><span style="font-family: 'andale mono', times; font-size: medium;"><em><span style="color: black;">Aromas of violet, plum, black cherry, cassis, nutmeg, vanilla, dark chocolate, and the impression of minerality. Palate is restrained by Napa standards, but still full bodied and round, with all the color, depth, and persistence of a well structured wine. Exotic spice and toffee linger on the finish.</span></em></span></p>
<hr style="border-right-width: 0px; border-bottom-width: 0px; border-left-width: 0px; border-top-style: solid; border-top-color: #dedede; height: 0px; margin: 0px; color: #666666; font-family: 'Helvetica Neue', Helvetica, Arial, sans-serif; font-size: 13px; letter-spacing: 0.5px; line-height: 15.84000015258789px;" />
<p style="line-height: normal; margin: 0px; padding: 0px 0px 8px; color: #666666; font-family: 'Helvetica Neue', Helvetica, Arial, sans-serif; font-size: 13px; letter-spacing: 0.5px; text-align: center;"><span style="font-size: medium;"><span style="font-weight: bold;"> </span></span></p>
<p style="line-height: normal; margin: 0px; padding: 0px 0px 8px; color: #666666; font-family: 'Helvetica Neue', Helvetica, Arial, sans-serif; font-size: 13px; letter-spacing: 0.5px; text-align: center;"><span style="font-size: medium;"><span style="font-weight: bold;">Benefits:  Sustainable Contra Costa<br /></span></span></p>
<p style="line-height: normal; margin: 0px; padding: 0px 0px 8px; color: #666666; font-family: 'Helvetica Neue', Helvetica, Arial, sans-serif; font-size: 13px; letter-spacing: 0.5px;"><span style="font-size: small;">Bid on some fantastic live auction & silent auction items.  Auction proceeds benefit Sustainable Contra Costa.   A portion of the ticket sales will also go to Sustainable Contra Costa.  It's a great cause and something to feel good about while you're enjoying fine wine and amazing cuisine!</span></p>
LOCATION:Plate & Vine Restaurant  1970 Diamond Blvd  Concord, CA 94520
END:VEVENT
END:VCALENDAR