BEGIN:VCALENDAR
VERSION:2.0
BEGIN:VEVENT
URL:http://www.signaturewines.com/wine-community/events/viewevent/415-annual-grape-stomping-harvest-celebration-the-winery-sf 
DTSTART:20151011T120000
DTEND:20151011T150000
SUMMARY:Annual Grape Stomping & Harvest Celebration @ The Winery SF
DESCRIPTION:<p style="line-height: normal; margin: 0in 0in 0.0001pt; padding: 0px 0px 8px; color: #666666; font-family: 'Helvetica Neue', Helvetica, Arial, sans-serif; font-size: 13px; letter-spacing: 0.5px; text-align: left;"><span style="color: #000000; font-family: 'book antiqua', palatino; font-size: small;"><span style="font-weight: bold;"><span style="font-size: medium;">BUY YOUR TICKETS HERE: </span></span></span><span style="color: #333333; font-family: Tahoma, Helvetica, Arial, sans-serif; font-size: 12px; line-height: 1.3em;">http://www.eventbrite.com/e/annual-grape-stomping-harvest-celebration-the-winery-sf-tickets-7988651271?aff=es2</span></p>
<p style="line-height: normal; margin: 0in 0in 0.0001pt; padding: 0px 0px 8px; color: #666666; font-family: 'Helvetica Neue', Helvetica, Arial, sans-serif; font-size: 13px; letter-spacing: 0.5px; text-align: center;"> </p>
<p style="line-height: normal; margin: 0in 0in 0.0001pt; padding: 0px 0px 8px; color: #666666; font-family: 'Helvetica Neue', Helvetica, Arial, sans-serif; font-size: 13px; letter-spacing: 0.5px; text-align: center;"><span style="color: #000000; font-family: 'book antiqua', palatino; font-size: small;"><span style="font-weight: bold;"><span style="font-size: medium;">Celebrate Harvest 2015 at The Winery SF at our</span></span><span style="font-weight: bold; font-family: arial, helvetica, sans-serif;"><span style="font-size: medium;"> Grape Stomping Event!</span><br /></span><em>Sunday, October 11, 2015 from 12p-3pm<br />"Bash The Grapes" Compeition at 2:15pm </em></span></p>
<p style="line-height: normal; margin: 0in 0in 0.0001pt; padding: 0px 0px 8px; color: #666666; font-family: 'Helvetica Neue', Helvetica, Arial, sans-serif; font-size: 13px; letter-spacing: 0.5px; text-align: center;"><br /><span style="font-family: 'book antiqua', palatino;"><em>The Winery SF 'Crush Floor'</em></span></p>
<p style="line-height: normal; margin: 0in 0in 0.0001pt; padding: 0px 0px 8px; color: #666666; font-family: 'Helvetica Neue', Helvetica, Arial, sans-serif; font-size: 13px; letter-spacing: 0.5px; text-align: center;"><span style="color: #000000; font-family: 'book antiqua', palatino; font-size: small;"><em> 200 California Ave, San Francisco, CA 94130<br /><br /></em></span></p>
<p style="line-height: normal; margin: 0in 0in 0.0001pt; padding: 0px 0px 8px; color: #666666; font-family: 'Helvetica Neue', Helvetica, Arial, sans-serif; font-size: 13px; letter-spacing: 0.5px;"><span style="color: #000000; font-family: 'book antiqua', palatino;"><span style="font-weight: bold; font-family: arial, helvetica, sans-serif; font-size: small;">See harvest in action- </span><span style="font-size: small;">explore the crushfloor, check out bins of grapes in the middle of fermentation, and learn about the process from field to barrel! All the while, you can stop by pouring stations and, of course, taste the finished product. We'll have </span><span style="font-weight: bold; font-family: arial, helvetica, sans-serif; font-size: small;">8 different award-winning Winery SF wines </span><span style="font-size: small;">for you to sample, from our 96-point Viognier to the Top Cabernet Sauvignon under $25 in America, our North Coast Cabernet Sauvignon!  Pick your favorites and purchase by the glass or the bottle.</span></span></p>
<p style="line-height: normal; margin: 0in 0in 0.0001pt; padding: 0px 0px 8px; color: #666666; font-family: 'Helvetica Neue', Helvetica, Arial, sans-serif; font-size: 13px; letter-spacing: 0.5px;"><span style="color: #000000; font-family: 'book antiqua', palatino;"> </span></p>
<p style="line-height: normal; margin: 0in 0in 0.0001pt; padding: 0px 0px 8px; color: #666666; font-family: 'Helvetica Neue', Helvetica, Arial, sans-serif; font-size: 13px; letter-spacing: 0.5px;"><span style="color: #000000; font-family: 'book antiqua', palatino;"><span style="font-size: small;">Roll up your jeans and join in the stomp! Everyone will have a chance to get their photo taken knee-deep in the grapes. </span><span style="font-weight: bold; font-family: arial, helvetica, sans-serif; font-size: small;">Plus, you'll get one raffle ticket for entry into our "Bash the Grapes" grape stomping competition to get a chance to win wine and a barrel sampling session for 10 people (a $250 value)!</span><span style="font-size: small;"> Four teams will be chosen to see who can bash the most, and you’ll be able to increase your odds of becoming a contestant by purchasing additional raffle tickets. Raffle proceeds will go to benefit San Francisco-based Project Open Hand, a nonprofit organization that provides </span><em style="font-family: arial, helvetica, sans-serif; font-size: small;">meals with love</em><span style="font-size: small;"> to seniors and the critically ill.</span></span></p>
<p style="line-height: normal; margin: 0in 0in 0.0001pt; padding: 0px 0px 8px; color: #666666; font-family: 'Helvetica Neue', Helvetica, Arial, sans-serif; font-size: 13px; letter-spacing: 0.5px;"><span style="font-family: 'book antiqua', palatino; font-size: small; color: #000000;"> </span></p>
<p style="line-height: normal; margin: 0in 0in 0.0001pt; padding: 0px 0px 8px; color: #666666; font-family: 'Helvetica Neue', Helvetica, Arial, sans-serif; font-size: 13px; letter-spacing: 0.5px;"><span style="color: #000000; font-family: 'book antiqua', palatino; font-size: small;"><span style="line-height: 20.7999992370605px;">This is the perfect activity for you to enjoy before the <a href="http://fleetweeksf.org/" target="_blank" rel="nofollow" style="color: #0f90ba;">Blue Angels show and Fleet Week</a> events taking place right on the waterfront of Treasure Island. </span>Food will be available for purchase. So bring your friends, and come on out for a unique and totally entertaining afternoon in San Francisco's Wine Country on Treasure Island -- discover and explore!</span></p>
<p><span style="color: #000000; font-family: 'book antiqua', palatino; font-size: small;"> </span></p>
LOCATION:The Winery SF  200 California Avenue  San Francisco, CA 94130
END:VEVENT
END:VCALENDAR