BEGIN:VCALENDAR
VERSION:2.0
BEGIN:VEVENT
URL:http://www.signaturewines.com/wine-community/events/viewevent/416-five-and-urbano-cellars-winemaker-dinner 
DTSTART:20150910T183000
DTEND:20150910T213000
SUMMARY:FIVE and Urbano Cellars Winemaker Dinner
DESCRIPTION:<div class="panel_section" style="padding: 13px 14px; border-width: 1px 1px 0px; border-top-style: solid; border-right-style: solid; border-left-style: solid; border-color: #ebdfcd; background-color: #fcf0de; color: #7a5f39; font-family: 'Helvetica Neue', Helvetica, Arial, sans-serif; font-size: 13px; letter-spacing: 0.5px; line-height: 15.84000015258789px;">
<p style="line-height: normal; margin: 0px; padding: 0px 0px 8px;"><strong><span class="description"><span style="font-family: verdana, geneva;"><span style="line-height: 1.6em;">BUY YOUR TICKETS HERE: </span></span></span></strong><span style="line-height: 15.84000015258789px;">http://www.eventbrite.com/e/five-and-urbano-cellars-winemaker-dinner-tickets-18024394449?aff=es2</span></p>
<p style="line-height: normal; margin: 0px; padding: 0px 0px 8px;"><span style="font-family: verdana, geneva;"><span style="line-height: 1.6em;">Featuring the award winning small lot wines of Urbano Cellars: </span><span style="line-height: 1.6em;">With Winemaker Bob Rawson giving you the FIVE at FIVE</span></span></p>
<div><span style="font-weight: bold;"><em><span style="font-family: verdana, geneva; font-size: small;">2012 Chenin Blanc</span></em></span></div>
<div><span style="font-family: verdana, geneva; font-size: small;">-</span></div>
<div><span style="font-weight: bold;"><span style="font-family: verdana, geneva; font-size: small;">Pan-seared scallops and prawns</span></span></div>
<div><span style="font-family: verdana, geneva; font-size: small;">Heirloom tomato water risotto | fresh English peas | kale cracker | saffron beurre blanc</span></div>
<div><span style="font-family: verdana, geneva; font-size: small;"> </span></div>
<div><em><span style="font-weight: bold;"><span style="font-family: verdana, geneva; font-size: small;">2014 Viognier</span></span></em></div>
<div><span style="font-family: verdana, geneva; font-size: small;">-</span></div>
<div><span style="font-weight: bold;"><span style="font-family: verdana, geneva; font-size: small;">Homemade truffled goat cheese ravioli (v)</span></span></div>
<div><span style="font-family: verdana, geneva; font-size: small;">Breakfast radish | Tokyo turnips | baby carrots | wild mushrooms | parsnip pureé</span></div>
<div><span style="font-family: verdana, geneva; font-size: small;"> </span></div>
<div><em><span style="font-weight: bold;"><span style="font-family: verdana, geneva; font-size: small;">2012 Cote du Clements</span></span></em></div>
<div><span style="font-family: verdana, geneva; font-size: small;">-</span></div>
<div><span style="font-weight: bold;"><span style="font-family: verdana, geneva; font-size: small;">Roasted California duck breast</span></span></div>
<div><span style="font-family: verdana, geneva; font-size: small;">Farro | sautéed baby spinach | white corn | yellow peach & hazelnut | red wine sauce</span></div>
<div><span style="font-family: verdana, geneva; font-size: small;"> </span></div>
<div><em><span style="font-weight: bold;"><span style="font-family: verdana, geneva; font-size: small;">2012 Zinfandel</span></span></em></div>
<div><span style="font-family: verdana, geneva; font-size: small;">-</span></div>
<div><span style="font-weight: bold;"><span style="font-family: verdana, geneva; font-size: small;">Premium Angus grilled New York steak</span></span></div>
<div><span style="font-family: verdana, geneva; font-size: small;">Mushroom fricassee | sauteed confit fingerling potatoes | caramelized onion | asparagus | beef jus</span></div>
<div><span style="font-family: verdana, geneva; font-size: small;"> </span></div>
<div><em><span style="font-weight: bold;"><span style="font-family: verdana, geneva; font-size: small;">NV Late Harvest Viognier</span></span></em></div>
<div><span style="font-family: verdana, geneva; font-size: small;">-</span></div>
<div><span style="font-weight: bold;"><span style="font-size: small;"><span style="font-family: verdana, geneva;">Peach bergamot m</span></span><span style="font-size: small;"><span style="font-family: verdana, geneva;">ousse </span></span></span></div>
<div><span style="font-size: small;"><span style="font-family: verdana, geneva;">Green tea cake</span> | caramelized peach | green tea gelato | white peach coulis</span></div>
</div>
<div class="panel_body" style="width: auto; background-color: #fcf0de; border: 1px solid #ebdfcd; padding: 13px 14px; word-wrap: break-word; border-top-left-radius: 0px; border-top-right-radius: 0px; border-bottom-right-radius: 5px; border-bottom-left-radius: 5px; font-size: 13px; line-height: 1.6em; color: #7a5f39; font-family: 'Helvetica Neue', Helvetica, Arial, sans-serif; letter-spacing: 0.5px;">Have questions about FIVE and Urbano Cellars Winemaker Dinner? <a class="contact_organizer_link js-d-modal" href="http://www.eventbrite.com/e/five-and-urbano-cellars-winemaker-dinner-tickets-18024394449?aff=es2#lightbox_contact" style="color: #951513; display: inline-block;">Contact FIVE Restaurant & Bar</a></div>
LOCATION:FIVE  2086 Allston Way  Berkeley, CA 94704
END:VEVENT
END:VCALENDAR