BEGIN:VCALENDAR
VERSION:2.0
BEGIN:VEVENT
URL:http://www.signaturewines.com/wine-community/events/viewevent/417-8th-annual-tastes-of-san-bruno 
DTSTART:20151006T180000
DTEND:20151006T200000
SUMMARY:8th Annual Tastes of San Bruno
DESCRIPTION:<div style="padding: 2.88pt;">
<p style="line-height: normal; margin: 0px 0px 14pt; padding: 0px 0px 8px; text-align: left;"><span style="font-size: 16pt; font-family: 'Albertus Medium';" lang="en-US">BUY YOUR TICKETS HERE: http://www.eventbrite.com/e/8th-annual-tastes-of-san-bruno-hosted-by-the-san-bruno-chamber-of-commerce-tickets-17577402484?aff=es2</span></p>
<p style="line-height: normal; margin: 0px 0px 14pt; padding: 0px 0px 8px; text-align: center;"><span style="font-size: 16pt; font-family: 'Albertus Medium';" lang="en-US">THE 8TH ANNUAL TASTES OF SAN BRUNO!</span></p>
<p style="line-height: normal; margin: 0px 0px 14pt; padding: 0px 0px 8px;"><span style="font-size: 14pt; font-family: 'Albertus Medium';" lang="en-US">TICKET INCLUDES FOOD TASTING FROM OVER 20 DIFFERENT LOCAL RESTAURANTS & 2 COMPLEMENTARY RAFFLE TICKETS</span></p>
<p style="line-height: normal; margin: 0px 0px 14pt; padding: 0px 0px 8px;"><span style="font-size: 4pt;" lang="en-US"> </span></p>
<p style="line-height: normal; margin: 0px 0px 14pt; padding: 0px 0px 8px;"><span style="font-size: 16pt; font-family: 'Albertus Medium'; font-weight: bold;" lang="en-US">ADULTS: $25 PRE-SALE ($30 at the Door)<br /></span></p>
<p style="line-height: normal; margin: 0px 0px 14pt; padding: 0px 0px 8px;"><span style="font-size: 16pt; font-family: 'Albertus Medium'; font-weight: bold;" lang="en-US">CHILDREN:</span><span style="font-size: 16pt; font-family: 'Albertus Medium';" lang="en-US">(</span><span style="font-size: 12pt; font-family: 'Albertus Medium';" lang="en-US">under 12</span><span style="font-size: 16pt; font-family: 'Albertus Medium';" lang="en-US">):</span><span style="font-size: 16pt; font-family: 'Albertus Medium'; font-weight: bold;" lang="en-US">$10</span><span style="font-size: 12pt; font-family: 'Albertus Medium';" lang="en-US">    </span><span style="font-size: 12pt; font-family: 'Albertus Medium'; font-weight: bold;" lang="en-US"> CHILDREN under 5 yrs Free</span></p>
<p style="line-height: normal; margin: 0px 0px 14pt; padding: 0px 0px 8px;"><span lang="en-US"> </span></p>
<p style="line-height: normal; margin: 0px 0px 14pt; padding: 0px 0px 8px;"><span style="font-size: 16pt; font-family: 'Albertus Medium';" lang="en-US">Raffle tickets-6 for $5 and your height for $20</span></p>
<p style="line-height: normal; margin: 0px 0px 14pt; padding: 0px 0px 8px;"><span style="font-size: 16pt; font-family: 'Albertus Medium';" lang="en-US">Wine, beer and drinks are also available for purchase at the event by cash or credit card.  Thank you</span></p>
</div>
LOCATION:San Bruno Park and Rec  251 City Park Way  San Bruno, CA 94066
END:VEVENT
END:VCALENDAR