BEGIN:VCALENDAR
VERSION:2.0
BEGIN:VEVENT
URL:http://www.signaturewines.com/wine-community/events/viewevent/418-mare-soiree-a-sustainable-feast 
DTSTART:20151010T180000
DTEND:20151010T213000
SUMMARY:MARÉ Soirée: A Sustainable Feast
DESCRIPTION:<p style="line-height: normal; margin: 0px 0px 0.0001pt; padding: 0px 0px 8px; color: #666666; font-family: 'Helvetica Neue', Helvetica, Arial, sans-serif; font-size: 13px; letter-spacing: 0.5px;"><strong><span style="font-size: 12pt; font-family: Arial;">BUY YOUR TICKETS HERE: </span></strong><span style="color: #333333; font-family: Tahoma, Helvetica, Arial, sans-serif; font-size: 12px; line-height: 1.3em;">http://www.eventbrite.com/e/mare-soiree-a-sustainable-feast-presented-by-community-bank-of-the-bay-tickets-18194376871?aff=es2</span></p>
<p> </p>
<p style="line-height: normal; margin: 0px 0px 0.0001pt; padding: 0px 0px 8px; color: #666666; font-family: 'Helvetica Neue', Helvetica, Arial, sans-serif; font-size: 13px; letter-spacing: 0.5px;"><span style="font-size: 12pt; font-family: Arial;">This event, which takes place at the Historic Dolphin Club, features stunning underwater images. It also offers guests the unique opportunity to explore the current state of our ocean and the life that it sustains from the perspective of the researchers. Learn how you can make an impact on our oceans by supporting MARE in their efforts to #Protect the most important resource on the planet. </span></p>
<p> </p>
<p style="line-height: normal; margin: 0px 0px 0.0001pt; padding: 0px 0px 8px; color: #666666; font-family: 'Helvetica Neue', Helvetica, Arial, sans-serif; font-size: 13px; letter-spacing: 0.5px;"><span style="font-family: Arial; font-size: 12pt;">Join Community Bank of the Bay and MARE in celebrating the ocean with friends at the 3</span><span style="font-size: 10px; line-height: 0; position: relative; vertical-align: baseline; top: -0.5em; font-family: Arial;">rd</span><span style="font-family: Arial; font-size: 12pt;"> Annual MARÉ Soirée: A Sustainable Feast. Mingle with ocean enthusiasts, marine scientists, and deepsea explorers as you enjoy a rich bounty of sustainably caught fruits of the sea, locally produced wine and beer, and plenty of food for thought. This year our special guest speaker is Cindy Walter, co-owner and manager of </span><em style="font-family: Arial; font-size: 12pt;">Passionfish</em><span style="font-family: Arial; font-size: 12pt;">, a Monterey Restaurant that helped launch the movement towards restaurants featuring local, sustainably harvested seafood.</span></p>
<p> </p>
<p style="line-height: normal; margin: 0px 0px 0.0001pt; padding: 0px 0px 8px; color: #666666; font-family: 'Helvetica Neue', Helvetica, Arial, sans-serif; font-size: 13px; letter-spacing: 0.5px;"><span style="font-size: 12pt; font-family: Arial;">Other highlights include live and silent auctions and a raffle.</span></p>
<p> </p>
<p style="line-height: normal; margin: 0px 0px 0.0001pt; padding: 0px 0px 8px; color: #666666; font-family: 'Helvetica Neue', Helvetica, Arial, sans-serif; font-size: 13px; letter-spacing: 0.5px;"><span style="font-family: Arial; font-size: 12pt;">Seating is limited, so don’t miss out.</span></p>
LOCATION:Dolphin Swim & Boat Club  502 Jefferson Street  San Francisco, CA 94109
END:VEVENT
END:VCALENDAR