BEGIN:VCALENDAR
VERSION:2.0
BEGIN:VEVENT
URL:http://www.signaturewines.com/wine-community/events/viewevent/42-premier-cruz 
DTSTART:20111113T150000
DTEND:20111113T190000
SUMMARY:Premier Cruz
DESCRIPTION:<p><span style="font-family: Arial;">Join us at the Opera House located at </span>140 West Main Street Los Gatos, CA 95030-6850<span style="font-family: Arial;"> in Los Gatos for an exclusive tasting of the finest Cabernets from the</span> <span style="font-family: Arial;">Santa Cruz</span> <span style="font-family: Arial;">Mountains</span> <span style="font-family: Arial;">including  several rare older vintages. This is your opportunity to meet the  winemakers and try these world class wines accompanied by select food  pairings.</span></p>
<p><br />Order your tickets for $75.00 now by visiting the following link:</p>
<p>http://www.scmwa.com/wsdevent/eventview/action/view/frmArticleID/448/</p>
<div></div>
<p><strong>List of Participating Wineries:</strong></p>
<p><br /> Black Ridge Vineyards<br /> Burrell School Vineyards<br /> Clos Tita Winery<br /> Cooper-Garrod Estate Vineyards<br /> Fernwood Cellars<br /> House Family Winery<br /> Hunter Hill Winery<br /> Kathryn Kennedy Winery<br /> La Rusticana d'Orsa<br /> McCarthy Family Estate Vineyards<br /> Mount Eden Vineyards<br /> P M Staiger<br /> Ridge Vineyards<br /> Silver Mountain Vineyards<br /> Testarossa Winery<br /> Thomas Fogarty Winery<br /> Woodside Vineyards</p>
LOCATION:Los Gatos Opera House
END:VEVENT
END:VCALENDAR