BEGIN:VCALENDAR
VERSION:2.0
BEGIN:VEVENT
URL:http://www.signaturewines.com/wine-community/events/viewevent/420-merlotme 
DTSTART:20151016T190000
DTEND:20151016T210000
SUMMARY:#MerlotMe
DESCRIPTION:<p><strong>BUY YOUR TICKETS HERE: </strong><span style="line-height: 1.3em;">http://www.eventbrite.com/e/merlotme-tickets-18043040219?aff=es2</span></p>
<p style="line-height: normal; margin: 0px; padding: 0px 0px 8px; color: #666666; font-family: 'Helvetica Neue', Helvetica, Arial, sans-serif; font-size: 13px; letter-spacing: 0.5px;"><span style="color: #787878; font-family: HelveticaNeue-Light, 'Helvetica Neue Light', 'Helvetica Neue', Helvetica, Arial, 'Lucida Grande', sans-serif; font-size: 16px; letter-spacing: 1px; line-height: 24px;">#MerlotMe is a global social media event bringing together wine lovers in the month of October to celebrate this noble varietal highlighted by this must-attend Merlot event in San Francisco on October 16th. Wineries known for their passion for producing outstanding Merlot will be pouring their signature bottlings alongside library offerings and accompanied by light appetizers and awe-inspiring panoramic views of the Golden Gate Bridge, the Palace of Fine Arts, Alcatraz, Crissy Field, and Marin Headlands.</span></p>
<p style="line-height: normal; margin: 0px; padding: 0px 0px 8px; color: #666666; font-family: 'Helvetica Neue', Helvetica, Arial, sans-serif; font-size: 13px; letter-spacing: 0.5px;"><span style="font-weight: bold;"><span style="color: #787878; font-family: HelveticaNeue-Light, 'Helvetica Neue Light', 'Helvetica Neue', Helvetica, Arial, 'Lucida Grande', sans-serif; font-size: 16px; letter-spacing: 1px; line-height: 24px;">6:00-7:00 PM VIP Early Admission</span></span><br style="color: #787878; font-family: HelveticaNeue-Light, 'Helvetica Neue Light', 'Helvetica Neue', Helvetica, Arial, 'Lucida Grande', sans-serif; font-size: 16px; letter-spacing: 1px; line-height: 24px;" /><span style="font-weight: bold;"><span style="color: #787878; font-family: HelveticaNeue-Light, 'Helvetica Neue Light', 'Helvetica Neue', Helvetica, Arial, 'Lucida Grande', sans-serif; font-size: 16px; letter-spacing: 1px; line-height: 24px;">7:00-9:00 PM General Admission</span></span></p>
LOCATION:The Presidio - Observation Post  211 Lincoln Boulevard  San Francisco, CA 94129
END:VEVENT
END:VCALENDAR