BEGIN:VCALENDAR
VERSION:2.0
BEGIN:VEVENT
URL:http://www.signaturewines.com/wine-community/events/viewevent/421-16th-annual-mt-veeder-appellation-tasting 
DTSTART:20150919T130000
DTEND:20150919T160000
SUMMARY:16th Annual Mt. Veeder Appellation Tasting
DESCRIPTION:<p><strong><span style="color: #777777; font-family: Helvetica, Arial, sans-serif; line-height: normal;">BUY YOUR TICKETS HERE: </span></strong><span style="line-height: 1.3em;">http://www.brownpapertickets.com/event/1573078</span></p>
<p><span style="color: #777777; font-family: Helvetica, Arial, sans-serif; line-height: normal;">Indulge yourself in this rare opportunity to taste the wines from 30 Mt. Veeder wineries ALL IN ONE PLACE at the 16th Annual Mt. Veeder Appellation Tasting, Saturday, September 19 from 1:00 - 4:00 p.m. at The Hess Collection Winery, 4411 Redwood Road, Napa...CELEBRATING the 25th Anniversary of the Mt. Veeder AVA! </span><br style="color: #777777; font-family: Helvetica, Arial, sans-serif; line-height: normal;" /><br style="color: #777777; font-family: Helvetica, Arial, sans-serif; line-height: normal;" /><span style="color: #777777; font-family: Helvetica, Arial, sans-serif; line-height: normal;">Consumer tickets are on sale at $75/ticket right here, right now or call 707-266-1296. </span><br style="color: #777777; font-family: Helvetica, Arial, sans-serif; line-height: normal;" /><br style="color: #777777; font-family: Helvetica, Arial, sans-serif; line-height: normal;" /><span style="color: #777777; font-family: Helvetica, Arial, sans-serif; line-height: normal;">Admission includes the wines from 30 Mt. Veeder wineries, food pairings from The Hess Collection Executive Chef, Chad Hendrickson and live high-energy blues from The Hummingbirdz.  Also take home with you some limited production Mt. Veeder gems by joining the Silent Auction and Raffles! </span><br style="color: #777777; font-family: Helvetica, Arial, sans-serif; line-height: normal;" /><br style="color: #777777; font-family: Helvetica, Arial, sans-serif; line-height: normal;" /><span style="color: #777777; font-family: Helvetica, Arial, sans-serif; line-height: normal;">Don't miss out...the wines are amazing and it's one of the very few times of the year you can taste Mt. Veeder wines all in one place, most of which are not open to the public and many of which are difficult to find. We look forward to seeing you there...cheers!</span></p>
LOCATION:The Hess Collection Winery (View) 4411 Redwood Road Napa, CA 94558 
END:VEVENT
END:VCALENDAR