BEGIN:VCALENDAR
VERSION:2.0
BEGIN:VEVENT
URL:http://www.signaturewines.com/wine-community/events/viewevent/422-taste-of-atlas-peak 
DTSTART:20150926T130000
DTEND:20150926T160000
SUMMARY:Taste of Atlas Peak
DESCRIPTION:<div style="font-family: Helvetica, Arial, sans-serif; line-height: normal; color: #dd7727; font-weight: bold; padding-top: 5px; padding-bottom: 10px;"><strong>BUY YOUR TICKETS HERE: </strong><span style="color: #333333; font-family: Tahoma, Helvetica, Arial, sans-serif; line-height: 1.3em;">http://www.brownpapertickets.com/event/2078066</span></div>
<div style="font-family: Helvetica, Arial, sans-serif; line-height: normal; color: #dd7727; font-weight: bold; padding-top: 5px; padding-bottom: 10px;">Taste of Atlas Peak</div>
<p><span style="color: #777777; font-family: Helvetica, Arial, sans-serif; line-height: normal;">Taste the pinnacle of mountain wines from the Atlas Peak Appellation at Taste of Altas Peak!</span><br style="color: #777777; font-family: Helvetica, Arial, sans-serif; line-height: normal;" /><br style="color: #777777; font-family: Helvetica, Arial, sans-serif; line-height: normal;" /><span style="color: #777777; font-family: Helvetica, Arial, sans-serif; line-height: normal;">Saturday, September 26</span><br style="color: #777777; font-family: Helvetica, Arial, sans-serif; line-height: normal;" /><span style="color: #777777; font-family: Helvetica, Arial, sans-serif; line-height: normal;">1:00 - 4:00 p.m.</span><br style="color: #777777; font-family: Helvetica, Arial, sans-serif; line-height: normal;" /><span style="color: #777777; font-family: Helvetica, Arial, sans-serif; line-height: normal;">The Ranch House at Black Stallion Estate Winery</span><br style="color: #777777; font-family: Helvetica, Arial, sans-serif; line-height: normal;" /><span style="color: #777777; font-family: Helvetica, Arial, sans-serif; line-height: normal;">4089 Silverado Trail, Napa, CA 94558</span><br style="color: #777777; font-family: Helvetica, Arial, sans-serif; line-height: normal;" /><br style="color: #777777; font-family: Helvetica, Arial, sans-serif; line-height: normal;" /><span style="color: #777777; font-family: Helvetica, Arial, sans-serif; line-height: normal;">Purchase tickets here or call 707-251-5631</span><br style="color: #777777; font-family: Helvetica, Arial, sans-serif; line-height: normal;" /><span style="color: #777777; font-family: Helvetica, Arial, sans-serif; line-height: normal;">$50 Special Advance Tickets until sold out</span><br style="color: #777777; font-family: Helvetica, Arial, sans-serif; line-height: normal;" /><span style="color: #777777; font-family: Helvetica, Arial, sans-serif; line-height: normal;">$75 Advance Tickets until sold out</span><br style="color: #777777; font-family: Helvetica, Arial, sans-serif; line-height: normal;" /><span style="color: #777777; font-family: Helvetica, Arial, sans-serif; line-height: normal;">$100 Tickets at the Door</span><br style="color: #777777; font-family: Helvetica, Arial, sans-serif; line-height: normal;" /><br style="color: #777777; font-family: Helvetica, Arial, sans-serif; line-height: normal;" /><span style="color: #777777; font-family: Helvetica, Arial, sans-serif; line-height: normal;">Tickets include the wines from Atlas Peak Appellation wineries and food pairings with assorted artisan cheeses, charcuterie, seasonal fruit, nuts, olives, crackers and breads. </span><br style="color: #777777; font-family: Helvetica, Arial, sans-serif; line-height: normal;" /><br style="color: #777777; font-family: Helvetica, Arial, sans-serif; line-height: normal;" /><span style="color: #777777; font-family: Helvetica, Arial, sans-serif; line-height: normal;">Don't miss out. It's casual, it's real, and the wines are amazing. This is a rare opportunity for you to taste the small production gems from the Atlas Peak Appellation all in one place, many of which are hard to find and not normally open to the public.  For more information visit www.atlaspeakappellation.com</span></p>
LOCATION:The Ranch House at Black Stallion Estate Winery (View) 4089 Silverado Trail Napa, CA 94558
END:VEVENT
END:VCALENDAR