BEGIN:VCALENDAR
VERSION:2.0
BEGIN:VEVENT
URL:http://www.signaturewines.com/wine-community/events/viewevent/424-odonata-south-on-river-road-proudly-presents-resource-conservation-district-benefit-dinner 
DTSTART:20150829T170000
DTEND:20150829T210000
SUMMARY:Odonata South on River Road Proudly Presents: Resource Conservation District Benefit Dinner
DESCRIPTION:<p><strong>BUY YOUR TICKETS HERE: </strong><span style="line-height: 1.3em;">http://www.cellarpass.com/resource-conservation-district-benefit-dinner-tickets-928</span></p>
<p style="box-sizing: border-box; margin: 0px 0px 10px; font-family: 'Open Sans', sans-serif, Arial, 'Helvetica Neue', Helvetica; line-height: 17px;">A Benefit for the Research Conservation District of Monterey County. </p>
<p style="box-sizing: border-box; margin: 0px 0px 10px; font-family: 'Open Sans', sans-serif, Arial, 'Helvetica Neue', Helvetica; line-height: 17px;">Please join us for an evening of amazing local veggies, meat, and wine all produced in Monterey County. Zachary Mazi of Lionfish Supper Club will be turning all this bounty into an astounding display of good eats.</p>
<p style="box-sizing: border-box; margin: 0px 0px 10px; font-family: 'Open Sans', sans-serif, Arial, 'Helvetica Neue', Helvetica; line-height: 17px;">The Recource Conservation District (RCD) provides direct assistance to Monterey County farmers and landowners working to protect their soil, water, and natural habitats.   We also partner with agricultural and natural resource protection organizations and agencies throughout the Central Coast to maintain and improve our local waterways and environment.<br style="box-sizing: border-box; color: #222222; font-family: arial, sans-serif; font-size: 13px;" clear="all" /><br style="box-sizing: border-box;" />Resource Conservation District www.rcdmonterey.org</p>
<p style="box-sizing: border-box; margin: 0px 0px 10px; font-family: 'Open Sans', sans-serif, Arial, 'Helvetica Neue', Helvetica; line-height: 17px;">Lionfish Supper Club  http://www.lionfishsc.com<br style="box-sizing: border-box;" /><br style="box-sizing: border-box;" />Odonata Wines http://www.odonatawines.com</p>
LOCATION:645 River Road Salinas, CA 93908
END:VEVENT
END:VCALENDAR