BEGIN:VCALENDAR
VERSION:2.0
BEGIN:VEVENT
URL:http://www.signaturewines.com/wine-community/events/viewevent/425-star-chef-s-and-the-wines-spirits-they-love 
DTSTART:20150913T163000
DTEND:20150913T213000
SUMMARY:Star Chef's and the Wines & Spirits They Love
DESCRIPTION:<p><strong>BUY YOUR TICKETS HERE: </strong><span style="line-height: 1.3em;">http://www.localwineevents.com/events/detail/602551</span></p>
<div class="margin-bottom-40" style="box-sizing: border-box; font-family: 'Open Sans', sans-serif; clear: both; margin-bottom: 40px; font-size: 14px; line-height: 20px; border-top-left-radius: 0px !important; border-top-right-radius: 0px !important; border-bottom-right-radius: 0px !important; border-bottom-left-radius: 0px !important;">
<p style="box-sizing: border-box; margin: 0px 0px 10px; color: #555555; border-top-left-radius: 0px !important; border-top-right-radius: 0px !important; border-bottom-right-radius: 0px !important; border-bottom-left-radius: 0px !important;">It's a Chef and Cocktail Competition! The chef's at this event are incredible. There is no food and beverage event like this in the Bay Area. Fourteen food & beverage pairings with 2 additional craft cocktail stations. Appetizers from these featured restaurants- Oak & Rye, SP2 Communal Bar + Restaurant, The Table, Chez TJ, The Lexington House, Alexander's Steakhouse SV, Liquid Bread Gastropub, Sushi [Confidential], Cadence, Dirty Water SF, Zola, Black Sheep Brasserie, and Google Chef Chris Schloss (formerly with Cin Cin). Add in Venus Gin, wines from Rootstock and Enoteca La Storia, Joyce Vineyards, Blade Gin, Firestone beer, Fogarty Wines, Testarossa Wines and more...WOW!  Tickets are available on Eventbrite. All of the proceeds go to Martha's Kitchen in Willow Glen. Sunday Sept 13- 4:30-9:30p at The GlassHouse in downtown San Jose.</p>
</div>
<div class="well text-center margin-bottom-40" style="box-sizing: border-box; font-family: 'Open Sans', sans-serif; text-align: center; min-height: 20px; padding: 19px; margin-bottom: 40px; background-color: #f5f5f5; border: 1px solid #e3e3e3; -webkit-box-shadow: rgba(0, 0, 0, 0.0470588) 0px 1px 1px inset; box-shadow: rgba(0, 0, 0, 0.0470588) 0px 1px 1px inset; clear: both; font-size: 14px; line-height: 20px; border-top-left-radius: 0px !important; border-top-right-radius: 0px !important; border-bottom-right-radius: 0px !important; border-bottom-left-radius: 0px !important;"> </div>
LOCATION:The Glasshouse 2 So Market St San Jose, Ca 95118
END:VEVENT
END:VCALENDAR