BEGIN:VCALENDAR
VERSION:2.0
BEGIN:VEVENT
URL:http://www.signaturewines.com/wine-community/events/viewevent/426-kieu-hoang-winery-wine-pairing-dinner-le-colonial-san-francisco 
DTSTART:20150920T173000
DTEND:20150920T203000
SUMMARY:Kieu Hoang Winery Wine Pairing Dinner - Le Colonial, San Francisco
DESCRIPTION:<p style="box-sizing: border-box; font-family: 'Open Sans', sans-serif; margin: 0px 0px 10px; color: #555555; font-size: 14px; line-height: 20px; border-top-left-radius: 0px !important; border-top-right-radius: 0px !important; border-bottom-right-radius: 0px !important; border-bottom-left-radius: 0px !important;">Kieu Hoang Winery Wine Pairing Dinner at the prestigious Le Colonial Restaurant in San Francisco. Join us along with our Winemaker, Charles Hendricks as we enjoy a 5 course dinner matching our Exclusive Wines. </p>
<p style="box-sizing: border-box; font-family: 'Open Sans', sans-serif; margin: 0px 0px 10px; color: #555555; font-size: 14px; line-height: 20px; border-top-left-radius: 0px !important; border-top-right-radius: 0px !important; border-bottom-right-radius: 0px !important; border-bottom-left-radius: 0px !important;">This is a reservation only event, reserve your table by <span style="box-sizing: border-box; font-weight: bold; border-top-left-radius: 0px !important; border-top-right-radius: 0px !important; border-bottom-right-radius: 0px !important; border-bottom-left-radius: 0px !important;">Friday, September 18th 2015</span>. Please submit this form to reserve your table: </p>
<p style="box-sizing: border-box; font-family: 'Open Sans', sans-serif; margin: 0px 0px 10px; color: #555555; font-size: 14px; line-height: 20px; border-top-left-radius: 0px !important; border-top-right-radius: 0px !important; border-bottom-right-radius: 0px !important; border-bottom-left-radius: 0px !important;"><span style="box-sizing: border-box; font-weight: bold; border-top-left-radius: 0px !important; border-top-right-radius: 0px !important; border-bottom-right-radius: 0px !important; border-bottom-left-radius: 0px !important;">http://goo.gl/forms/2ZlaIeF0EG</span></p>
<p style="box-sizing: border-box; font-family: 'Open Sans', sans-serif; margin: 0px 0px 10px; color: #555555; font-size: 14px; line-height: 20px; border-top-left-radius: 0px !important; border-top-right-radius: 0px !important; border-bottom-right-radius: 0px !important; border-bottom-left-radius: 0px !important;">Our team will get back to you within 24 hours. If you have questions please call at <span style="box-sizing: border-box; font-weight: bold; border-top-left-radius: 0px !important; border-top-right-radius: 0px !important; border-bottom-right-radius: 0px !important; border-bottom-left-radius: 0px !important;"><span style="box-sizing: border-box; text-decoration: underline; border-top-left-radius: 0px !important; border-top-right-radius: 0px !important; border-bottom-right-radius: 0px !important; border-bottom-left-radius: 0px !important;">(415) 931-3600</span></span></p>
<p style="box-sizing: border-box; font-family: 'Open Sans', sans-serif; margin: 0px 0px 10px; color: #555555; font-size: 14px; line-height: 20px; border-top-left-radius: 0px !important; border-top-right-radius: 0px !important; border-bottom-right-radius: 0px !important; border-bottom-left-radius: 0px !important;">Reserve your place today by calling (415) 931 3600</p>
<p style="box-sizing: border-box; font-family: 'Open Sans', sans-serif; margin: 0px 0px 10px; color: #555555; font-size: 14px; line-height: 20px; border-top-left-radius: 0px !important; border-top-right-radius: 0px !important; border-bottom-right-radius: 0px !important; border-bottom-left-radius: 0px !important;"><span style="font-size: 16px; line-height: 22px;">Cost: $85</span></p>
LOCATION:20 Cosmo Place, San Francisco, CA 94109
END:VEVENT
END:VCALENDAR